Workbook

Sheet Modulo_D'Ordine_AI25
E2: DATI ORDINANTE | K2: CONDIZIONI DI FORNITURA
D3: Ragione Sociale | Q3: tot pezzi ordine:
D4: Indirizzo Fatturazione | Q4: =SUM(Q12:Q709) -> 0
D5: Partita Iva | Q5: tot valore ordine:
D6: Codice Univoco | Q6: =SUM(R12:R709) -> 0
D7: Destinazione Merce | I7: Telefono
E9: invia l'ordine a: opress@bottegasolidale.it
B11: autore / linea | C11: cantante | D11: descrizione | E11: referenza | F11: manica | G11: tipologia | H11: colore referenza | I11: colore stampa | J11: c.unitario (iva escl) | K11: XS | L11: S | M11: M | N11: L | O11: XL | P11: XXL | Q11: tot pezzi | R11: tot valore
C12: bandabardò | D12: SEMPRE ALLEGRI | E12: FELPA CON ZIP | F12: lunga | G12: FAIR TRADE | H12: nera | I12: bianca | J12: 35 | Q12: =SUM(K12:P12) -> 0 | R12: =+Q12*J12 -> 0
E13: FELPA INTERA | F13: lunga | G13: bio | H13: grigia | I13: bianca | J13: 30 | Q13: =SUM(K13:P13) -> 0 | R13: =+Q13*J13 -> 0
C14: bandabardò | D14: BEPPEANNA | E14: FELPA CON ZIP | F14: lunga | G14: FAIR TRADE | H14: nera | I14: bianca | J14: 35 | Q14: =SUM(K14:P14) -> 0 | R14: =+Q14*J14 -> 0
E15: FELPA INTERA | F15: lunga | G15: bio | H15: grigia | I15: bianca | J15: 30 | Q15: =SUM(K15:P15) -> 0 | R15: =+Q15*J15 -> 0
C16: de andré | D16: SMISURATA PREGHIERA | E16: FELPA CON ZIP | F16: lunga | G16: FAIR TRADE | H16: nera | I16: bianca | J16: 35 | Q16: =SUM(K16:P16) -> 0 | R16: =+Q16*J16 -> 0
E17: FELPA INTERA | F17: lunga | G17: bio | H17: grigia | I17: bianca | J17: 30 | Q17: =SUM(K17:P17) -> 0 | R17: =+Q17*J17 -> 0
C18: extratrack | D18: STAFF | E18: FELPA CON ZIP | F18: lunga | G18: FAIR TRADE | H18: nera | I18: bianca | J18: 35 | Q18: =SUM(K18:P18) -> 0 | R18: =+Q18*J18 -> 0
E19: FELPA INTERA | F19: lunga | G19: bio | H19: grigia | I19: bianca | J19: 30 | Q19: =SUM(K19:P19) -> 0 | R19: =+Q19*J19 -> 0
C20: extratrack | D20: GAGARIN | E20: FELPA CON ZIP | F20: lunga | G20: FAIR TRADE | H20: nera | I20: bianca | J20: 35 | Q20: 0 | R20: =+Q20*J20 -> 0
E21: FELPA INTERA | F21: lunga | G21: bio | H21: grigia | I21: bianca | J21: 30 | Q21: 0 | R21: =+Q21*J21 -> 0
C22: extratrack | D22: HARING | E22: FELPA CON ZIP | F22: lunga | G22: FAIR TRADE | H22: nera | I22: bianca | J22: 35 | Q22: =SUM(K22:P22) -> 0 | R22: =+Q22*J22 -> 0
E23: FELPA INTERA | F23: lunga | G23: bio | H23: grigia | I23: bianca | J23: 30 | Q23: =SUM(K23:P23) -> 0 | R23: =+Q23*J23 -> 0
C24: extratrack | D24: I'M ORGANIC | E24: FELPA CON ZIP | F24: lunga | G24: FAIR TRADE | H24: nera | I24: bianca | J24: 35 | Q24: =SUM(K24:P24) -> 0 | R24: =+Q24*J24 -> 0
E25: FELPA INTERA | F25: lunga | G25: bio | H25: grigia | I25: bianca | J25: 30 | Q25: =SUM(K25:P25) -> 0 | R25: =+Q25*J25 -> 0
C26: extratrack | D26: FREE PALESTINE | E26: T-SHIRT | F26: CORTA | G26: FAIR TRADE | H26: bianca | I26: bianca | J26: 12.6 | Q26: =SUM(K26:P26) -> 0 | R26: =+Q26*J26 -> 0
D27: FREE PALESTINE | E27: T-SHIRT | F27: CORTA | G27: BIO | H27: bianca | I27: bianca | J27: 9.6 | Q27: =SUM(K27:P27) -> 0 | R27: =+Q27*J27 -> 0
C28: extratrack | D28: AUGURI | E28: T-SHIRT | F28: CORTA | G28: FAIR TRADE | H28: rossa | I28: bianca | J28: 12.6 | Q28: =SUM(K28:P28) -> 0 | R28: =+Q28*J28 -> 0
D29: AUGURI | E29: T-SHIRT | F29: CORTA | G29: BIO | H29: rossa | I29: bianca | J29: 9.6 | Q29: =SUM(K29:P29) -> 0 | R29: =+Q29*J29 -> 0
C30: bandabardò | D30: BEPPEANNA | E30: T-SHIRT | F30: CORTA | G30: FAIR TRADE | H30: BLU baltico | I30: bianca | J30: 12.6 | Q30: =SUM(K30:P30) -> 0 | R30: =+Q30*J30 -> 0
C31: bandabardò | D31: BEPPEANNA | E31: T-SHIRT | F31: CORTA | G31: FAIR TRADE | H31: nera | I31: bianca | J31: 12.6 | Q31: =SUM(K31:P31) -> 0 | R31: =+Q31*J31 -> 0
C32: bandabardò | D32: BEPPEANNA | E32: T-SHIRT | F32: CORTA | G32: FAIR TRADE | H32: rosso | I32: bianca | J32: 12.6 | Q32: =SUM(K32:P32) -> 0 | R32: =+Q32*J32 -> 0
C33: bandabardò | D33: BEPPEANNA | E33: T-SHIRT UNISEX | F33: LUNGA | G33: FAIR TRADE | H33: nera | I33: bianca | J33: 16.5 | Q33: =SUM(K33:P33) -> 0 | R33: =+Q33*J33 -> 0
C34: bandabardò | D34: BEPPEANNA | E34: T-SHIRT DONNA | F34: LUNGA | G34: FAIR TRADE | H34: PETROLIO | I34: bianca | J34: 16.5 | Q34: =SUM(K34:P34) -> 0 | R34: =+Q34*J34 -> 0
C35: bandabardò | D35: BEPPEANNA | E35: T-SHIRT | F35: CORTA | G35: BIO | H35: blu navy | I35: bianca | J35: 9.6 | Q35: =SUM(K35:P35) -> 0 | R35: =+Q35*J35 -> 0
C36: bandabardò | D36: BEPPEANNA | E36: T-SHIRT | F36: CORTA | G36: BIO | H36: nera | I36: bianca | J36: 9.6 | Q36: =SUM(K36:P36) -> 0 | R36: =+Q36*J36 -> 0
C37: bandabardò | D37: BEPPEANNA | E37: T-SHIRT | F37: CORTA | G37: BIO | H37: rosso | I37: bianca | J37: 9.6 | Q37: =SUM(K37:P37) -> 0 | R37: =+Q37*J37 -> 0
C38: bandabardò | D38: SEMPRE ALLEGRI | E38: T-SHIRT | F38: CORTA | G38: FAIR TRADE | H38: BLU baltico | I38: bianca | J38: 12.6 | Q38: =SUM(K38:P38) -> 0 | R38: =+Q38*J38 -> 0
C39: bandabardò | D39: SEMPRE ALLEGRI | E39: T-SHIRT | F39: CORTA | G39: FAIR TRADE | H39: nera | I39: bianca | J39: 12.6 | Q39: =SUM(K39:P39) -> 0 | R39: =+Q39*J39 -> 0
C40: bandabardò | D40: SEMPRE ALLEGRI | E40: T-SHIRT | F40: CORTA | G40: FAIR TRADE | H40: rosso | I40: bianca | J40: 12.6 | Q40: =SUM(K40:P40) -> 0 | R40: =+Q40*J40 -> 0
C41: bandabardò | D41: SEMPRE ALLEGRI | E41: T-SHIRT UNISEX | F41: LUNGA | G41: FAIR TRADE | H41: nera | I41: bianca | J41: 16.5 | Q41: =SUM(K41:P41) -> 0 | R41: =+Q41*J41 -> 0
... C84: de andré | D84: UN MATTO | E84: T-SHIRT | F84: CORTA | G84: BIO | H84: nera | I84: bianca | J84: 9.6 | Q84: =SUM(K84:P84) -> 0 | R84: =+Q84*J84 -> 0
C85: =+C84 -> de andré | D85: UN MATTO | E85: T-SHIRT | F85: CORTA | G85: BIO | H85: rosso | I85: bianca | J85: 9.6 | Q85: =SUM(K85:P85) -> 0 | R85: =+Q85*J85 -> 0
...

Sheet Ordine_|_DDT
C2: ORDINE / DOCUMENTO DI TRASPORTO
C4: DATI DESTINATARIO
B5: Ragione Sociale | C5: =+'Modulo_D''Ordine_AI25'!E3 -> 0 | J5: DDT N° | N5: tot pezzi | O5: =SUM(O14:O652) -> 0
B6: Destinazione Merce | C6: =+'Modulo_D''Ordine_AI25'!E7 -> 0 | J6: del
N7: tot valore | O7: =+O8+O9 -> 0
J8: N° COLLI | N8: di cui iva al 22% | O8: =+O9*0.22 -> 0
B9: Telefono | C9: =+'Modulo_D''Ordine_AI25'!J7 -> 0 | J9: PESO | N9: di cui imponibile | O9: =SUM(P14:P654) -> 0
B11: Corriere | E11: Firma per ritiro spedizione | J11: Firma Destinatario per consegna avvenuta
B13: =+'Modulo_D''Ordine_AI25'!C11 -> cantante | C13: =+'Modulo_D''Ordine_AI25'!E11 -> referenza | D13: =+'Modulo_D''Ordine_AI25'!F11 -> manica | E13: =+'Modulo_D''Ordine_AI25'!G11 -> tipologia | F13: =+'Modulo_D''Ordine_AI25'!H11 -> colore referenza | G13: =+'Modulo_D''Ordine_AI25'!I11 -> colore stampa | H13: =+'Modulo_D''Ordine_AI25'!J11 -> c.unitario (iva escl) | I13: XS | J13: =+'Modulo_D''Ordine_AI25'!L11 -> S | K13: =+'Modulo_D''Ordine_AI25'!M11 -> M | L13: =+'Modulo_D''Ordine_AI25'!N11 -> L | M13: =+'Modulo_D''Ordine_AI25'!O11 -> XL | N13: =+'Modulo_D''Ordine_AI25'!P11 -> XXL | O13: =+'Modulo_D''Ordine_AI25'!Q11 -> tot pezzi | P13: =+'Modulo_D''Ordine_AI25'!R11 -> tot valore
B14: SEMPRE ALLEGRI | C14: =+'Modulo_D''Ordine_AI25'!E12 -> FELPA CON ZIP | D14: =+'Modulo_D''Ordine_AI25'!F12 -> lunga | E14: =+'Modulo_D''Ordine_AI25'!G12 -> FAIR TRADE | F14: =+'Modulo_D''Ordine_AI25'!H12 -> nera | G14: =+'Modulo_D''Ordine_AI25'!I12 -> bianca | H14: =+'Modulo_D''Ordine_AI25'!J24 -> 35 | I14: ='Modulo_D''Ordine_AI25'!K12 -> 0 | J14: ='Modulo_D''Ordine_AI25'!L12 -> 0 | K14: ='Modulo_D''Ordine_AI25'!M12 -> 0 | L14: ='Modulo_D''Ordine_AI25'!N12 -> 0 | M14: ='Modulo_D''Ordine_AI25'!O12 -> 0 | N14: ='Modulo_D''Ordine_AI25'!P12 -> 0 | O14: ='Modulo_D''Ordine_AI25'!Q12 -> 0 | P14: ='Modulo_D''Ordine_AI25'!R12 -> 0
B15: =+'Modulo_D''Ordine_AI25'!D12 -> SEMPRE ALLEGRI | C15: =+'Modulo_D''Ordine_AI25'!E13 -> FELPA INTERA | D15: =+'Modulo_D''Ordine_AI25'!F13 -> lunga | E15: =+'Modulo_D''Ordine_AI25'!G13 -> bio | F15: =+'Modulo_D''Ordine_AI25'!H13 -> grigia | G15: =+'Modulo_D''Ordine_AI25'!I13 -> bianca | H15: =+'Modulo_D''Ordine_AI25'!J13 -> 30 | I15: ='Modulo_D''Ordine_AI25'!K13 -> 0 | J15: ='Modulo_D''Ordine_AI25'!L13 -> 0 | K15: ='Modulo_D''Ordine_AI25'!M13 -> 0 | L15: ='Modulo_D''Ordine_AI25'!N13 -> 0 | M15: ='Modulo_D''Ordine_AI25'!O13 -> 0 | N15: ='Modulo_D''Ordine_AI25'!P13 -> 0 | O15: ='Modulo_D''Ordine_AI25'!Q13 -> 0 | P15: ='Modulo_D''Ordine_AI25'!R13 -> 0
B16: BEPPEANNA | C16: =+'Modulo_D''Ordine_AI25'!E16 -> FELPA CON ZIP | D16: =+'Modulo_D''Ordine_AI25'!F16 -> lunga | E16: =+'Modulo_D''Ordine_AI25'!G16 -> FAIR TRADE | F16: =+'Modulo_D''Ordine_AI25'!H14 -> nera | G16: =+'Modulo_D''Ordine_AI25'!I16 -> bianca | H16: =+'Modulo_D''Ordine_AI25'!J12 -> 35 | I16: ='Modulo_D''Ordine_AI25'!K16 -> 0 | J16: ='Modulo_D''Ordine_AI25'!L16 -> 0 | K16: ='Modulo_D''Ordine_AI25'!M16 -> 0 | L16: ='Modulo_D''Ordine_AI25'!N16 -> 0 | M16: ='Modulo_D''Ordine_AI25'!O16 -> 0 | N16: ='Modulo_D''Ordine_AI25'!P16 -> 0 | O16: ='Modulo_D''Ordine_AI25'!Q14 -> 0 | P16: ='Modulo_D''Ordine_AI25'!R14 -> 0
B17: BEPPEANNA | C17: =+'Modulo_D''Ordine_AI25'!E17 -> FELPA INTERA | D17: =+'Modulo_D''Ordine_AI25'!F17 -> lunga | E17: =+'Modulo_D''Ordine_AI25'!G17 -> bio | F17: =+'Modulo_D''Ordine_AI25'!H15 -> grigia | G17: =+'Modulo_D''Ordine_AI25'!I17 -> bianca | H17: =+'Modulo_D''Ordine_AI25'!J13 -> 30 | I17: ='Modulo_D''Ordine_AI25'!K17 -> 0 | J17: 0 | K17: ='Modulo_D''Ordine_AI25'!M17 -> 0 | L17: ='Modulo_D''Ordine_AI25'!N17 -> 0 | M17: ='Modulo_D''Ordine_AI25'!O17 -> 0 | N17: ='Modulo_D''Ordine_AI25'!P17 -> 0 | O17: ='Modulo_D''Ordine_AI25'!Q15 -> 0 | P17: ='Modulo_D''Ordine_AI25'!R15 -> 0
B18: SMISURATA PREGHIERA | C18: =+'Modulo_D''Ordine_AI25'!E18 -> FELPA CON ZIP | D18: =+'Modulo_D''Ordine_AI25'!F18 -> lunga | E18: =+'Modulo_D''Ordine_AI25'!G18 -> FAIR TRADE | F18: =+'Modulo_D''Ordine_AI25'!H18 -> nera | G18: =+'Modulo_D''Ordine_AI25'!I18 -> bianca | H18: ='Modulo_D''Ordine_AI25'!J18 -> 35 | I18: ='Modulo_D''Ordine_AI25'!K18 -> 0 | J18: ='Modulo_D''Ordine_AI25'!L18 -> 0 | K18: ='Modulo_D''Ordine_AI25'!M18 -> 0 | L18: ='Modulo_D''Ordine_AI25'!N18 -> 0 | M18: ='Modulo_D''Ordine_AI25'!O18 -> 0 | N18: ='Modulo_D''Ordine_AI25'!P18 -> 0 | O18: ='Modulo_D''Ordine_AI25'!Q16 -> 0 | P18: ='Modulo_D''Ordine_AI25'!R16 -> 0
B19: SMISURATA PREGHIERA | C19: =+'Modulo_D''Ordine_AI25'!E19 -> FELPA INTERA | D19: =+'Modulo_D''Ordine_AI25'!F19 -> lunga | E19: =+'Modulo_D''Ordine_AI25'!G19 -> bio | F19: =+'Modulo_D''Ordine_AI25'!H19 -> grigia | G19: =+'Modulo_D''Ordine_AI25'!I19 -> bianca | H19: ='Modulo_D''Ordine_AI25'!J19 -> 30 | I19: ='Modulo_D''Ordine_AI25'!K19 -> 0 | J19: ='Modulo_D''Ordine_AI25'!L19 -> 0 | K19: ='Modulo_D''Ordine_AI25'!M19 -> 0 | L19: ='Modulo_D''Ordine_AI25'!N19 -> 0 | M19: ='Modulo_D''Ordine_AI25'!O19 -> 0 | N19: ='Modulo_D''Ordine_AI25'!P19 -> 0 | O19: ='Modulo_D''Ordine_AI25'!Q17 -> 0 | P19: ='Modulo_D''Ordine_AI25'!R17 -> 0
B20: STAFF | C20: =+'Modulo_D''Ordine_AI25'!E22 -> FELPA CON ZIP | D20: =+'Modulo_D''Ordine_AI25'!F22 -> lunga | E20: =+'Modulo_D''Ordine_AI25'!G22 -> FAIR TRADE | F20: =+'Modulo_D''Ordine_AI25'!H22 -> nera | G20: =+'Modulo_D''Ordine_AI25'!I22 -> bianca | H20: ='Modulo_D''Ordine_AI25'!J22 -> 35 | I20: ='Modulo_D''Ordine_AI25'!K20 -> 0 | J20: ='Modulo_D''Ordine_AI25'!L20 -> 0 | K20: ='Modulo_D''Ordine_AI25'!M20 -> 0 | L20: ='Modulo_D''Ordine_AI25'!N20 -> 0 | M20: ='Modulo_D''Ordine_AI25'!O20 -> 0 | N20: ='Modulo_D''Ordine_AI25'!P20 -> 0 | O20: ='Modulo_D''Ordine_AI25'!Q18 -> 0 | P20: ='Modulo_D''Ordine_AI25'!R18 -> 0
B21: STAFF | C21: =+'Modulo_D''Ordine_AI25'!E23 -> FELPA INTERA | D21: =+'Modulo_D''Ordine_AI25'!F23 -> lunga | E21: =+'Modulo_D''Ordine_AI25'!G23 -> bio | F21: =+'Modulo_D''Ordine_AI25'!H23 -> grigia | G21: =+'Modulo_D''Ordine_AI25'!I23 -> bianca | H21: ='Modulo_D''Ordine_AI25'!J23 -> 30 | I21: ='Modulo_D''Ordine_AI25'!K21 -> 0 | J21: ='Modulo_D''Ordine_AI25'!L21 -> 0 | K21: ='Modulo_D''Ordine_AI25'!M21 -> 0 | L21: ='Modulo_D''Ordine_AI25'!N21 -> 0 | M21: ='Modulo_D''Ordine_AI25'!O21 -> 0 | N21: ='Modulo_D''Ordine_AI25'!P21 -> 0 | O21: ='Modulo_D''Ordine_AI25'!Q19 -> 0 | P21: ='Modulo_D''Ordine_AI25'!R19 -> 0
B22: GAGARIN | C22: =+'Modulo_D''Ordine_AI25'!E24 -> FELPA CON ZIP | D22: =+'Modulo_D''Ordine_AI25'!F24 -> lunga | E22: =+'Modulo_D''Ordine_AI25'!G24 -> FAIR TRADE | F22: =+'Modulo_D''Ordine_AI25'!H24 -> nera | G22: =+'Modulo_D''Ordine_AI25'!I24 -> bianca | H22: ='Modulo_D''Ordine_AI25'!J24 -> 35 | I22: ='Modulo_D''Ordine_AI25'!K22 -> 0 | J22: ='Modulo_D''Ordine_AI25'!L22 -> 0 | K22: ='Modulo_D''Ordine_AI25'!M22 -> 0 | L22: ='Modulo_D''Ordine_AI25'!N22 -> 0 | M22: ='Modulo_D''Ordine_AI25'!O22 -> 0 | N22: ='Modulo_D''Ordine_AI25'!P22 -> 0 | O22: ='Modulo_D''Ordine_AI25'!Q20 -> 0 | P22: ='Modulo_D''Ordine_AI25'!R20 -> 0
B23: GAGARIN | C23: =+'Modulo_D''Ordine_AI25'!E25 -> FELPA INTERA | D23: =+'Modulo_D''Ordine_AI25'!F25 -> lunga | E23: =+'Modulo_D''Ordine_AI25'!G25 -> bio | F23: =+'Modulo_D''Ordine_AI25'!H25 -> grigia | G23: =+'Modulo_D''Ordine_AI25'!I25 -> bianca | H23: ='Modulo_D''Ordine_AI25'!J25 -> 30 | I23: ='Modulo_D''Ordine_AI25'!K23 -> 0 | J23: ='Modulo_D''Ordine_AI25'!L23 -> 0 | K23: ='Modulo_D''Ordine_AI25'!M23 -> 0 | L23: ='Modulo_D''Ordine_AI25'!N23 -> 0 | M23: ='Modulo_D''Ordine_AI25'!O23 -> 0 | N23: ='Modulo_D''Ordine_AI25'!P23 -> 0 | O23: ='Modulo_D''Ordine_AI25'!Q21 -> 0 | P23: ='Modulo_D''Ordine_AI25'!R21 -> 0
B24: HARING | C24: =+'Modulo_D''Ordine_AI25'!E18 -> FELPA CON ZIP | D24: =+'Modulo_D''Ordine_AI25'!F18 -> lunga | E24: =+'Modulo_D''Ordine_AI25'!G18 -> FAIR TRADE | F24: =+'Modulo_D''Ordine_AI25'!H18 -> nera | G24: =+'Modulo_D''Ordine_AI25'!I18 -> bianca | H24: =+'Modulo_D''Ordine_AI25'!J18 -> 35 | I24: ='Modulo_D''Ordine_AI25'!K24 -> 0 | J24: ='Modulo_D''Ordine_AI25'!L24 -> 0 | K24: ='Modulo_D''Ordine_AI25'!M24 -> 0 | L24: ='Modulo_D''Ordine_AI25'!N24 -> 0 | M24: ='Modulo_D''Ordine_AI25'!O24 -> 0 | N24: ='Modulo_D''Ordine_AI25'!P24 -> 0 | O24: ='Modulo_D''Ordine_AI25'!Q22 -> 0 | P24: ='Modulo_D''Ordine_AI25'!R22 -> 0
B25: HARING | C25: =+'Modulo_D''Ordine_AI25'!E19 -> FELPA INTERA | D25: =+'Modulo_D''Ordine_AI25'!F19 -> lunga | E25: =+'Modulo_D''Ordine_AI25'!G19 -> bio | F25: =+'Modulo_D''Ordine_AI25'!H19 -> grigia | G25: =+'Modulo_D''Ordine_AI25'!I19 -> bianca | H25: =+'Modulo_D''Ordine_AI25'!J19 -> 30 | I25: ='Modulo_D''Ordine_AI25'!K25 -> 0 | J25: ='Modulo_D''Ordine_AI25'!L25 -> 0 | K25: ='Modulo_D''Ordine_AI25'!M25 -> 0 | L25: ='Modulo_D''Ordine_AI25'!N25 -> 0 | M25: ='Modulo_D''Ordine_AI25'!O25 -> 0 | N25: ='Modulo_D''Ordine_AI25'!P25 -> 0 | O25: ='Modulo_D''Ordine_AI25'!Q23 -> 0 | P25: ='Modulo_D''Ordine_AI25'!R23 -> 0
B26: I'M ORGANIC | C26: =+'Modulo_D''Ordine_AI25'!E14 -> FELPA CON ZIP | D26: =+'Modulo_D''Ordine_AI25'!F14 -> lunga | E26: =+'Modulo_D''Ordine_AI25'!G14 -> FAIR TRADE | F26: =+'Modulo_D''Ordine_AI25'!H14 -> nera | G26: =+'Modulo_D''Ordine_AI25'!I14 -> bianca | H26: =+'Modulo_D''Ordine_AI25'!J14 -> 35 | I26: ='Modulo_D''Ordine_AI25'!K30 -> 0 | J26: ='Modulo_D''Ordine_AI25'!L30 -> 0 | K26: ='Modulo_D''Ordine_AI25'!M30 -> 0 | L26: ='Modulo_D''Ordine_AI25'!N30 -> 0 | M26: ='Modulo_D''Ordine_AI25'!O30 -> 0 | N26: ='Modulo_D''Ordine_AI25'!P30 -> 0 | O26: ='Modulo_D''Ordine_AI25'!Q24 -> 0 | P26: ='Modulo_D''Ordine_AI25'!R24 -> 0
B27: I'M ORGANIC | C27: =+'Modulo_D''Ordine_AI25'!E15 -> FELPA INTERA | D27: =+'Modulo_D''Ordine_AI25'!F15 -> lunga | E27: =+'Modulo_D''Ordine_AI25'!G15 -> bio | F27: =+'Modulo_D''Ordine_AI25'!H15 -> grigia | G27: =+'Modulo_D''Ordine_AI25'!I15 -> bianca | H27: =+'Modulo_D''Ordine_AI25'!J15 -> 30 | I27: ='Modulo_D''Ordine_AI25'!K31 -> 0 | J27: ='Modulo_D''Ordine_AI25'!L31 -> 0 | K27: ='Modulo_D''Ordine_AI25'!M31 -> 0 | L27: ='Modulo_D''Ordine_AI25'!N31 -> 0 | M27: ='Modulo_D''Ordine_AI25'!O31 -> 0 | N27: ='Modulo_D''Ordine_AI25'!P31 -> 0 | O27: ='Modulo_D''Ordine_AI25'!Q25 -> 0 | P27: ='Modulo_D''Ordine_AI25'!R25 -> 0
B28: ='Modulo_D''Ordine_AI25'!D26 -> FREE PALESTINE | C28: ='Modulo_D''Ordine_AI25'!E26 -> T-SHIRT | D28: ='Modulo_D''Ordine_AI25'!F26 -> CORTA | E28: ='Modulo_D''Ordine_AI25'!G26 -> FAIR TRADE | F28: ='Modulo_D''Ordine_AI25'!H26 -> bianca | G28: ='Modulo_D''Ordine_AI25'!I26 -> bianca | H28: ='Modulo_D''Ordine_AI25'!J26 -> 12.6 | I28: ='Modulo_D''Ordine_AI25'!K26 -> 0 | ... P28: ='Modulo_D''Ordine_AI25'!R26 -> 0
B29: ='Modulo_D''Ordine_AI25'!D27 -> FREE PALESTINE | C29: ='Modulo_D''Ordine_AI25'!E27 -> T-SHIRT | D29: ='Modulo_D''Ordine_AI25'!F27 -> CORTA | E29: ='Modulo_D''Ordine_AI25'!G27 -> BIO | F29: ='Modulo_D''Ordine_AI25'!H27 -> bianca | G29: ='Modulo_D''Ordine_AI25'!I27 -> bianca | H29: ='Modulo_D''Ordine_AI25'!J27 -> 9.6 | I29: ='Modulo_D''Ordine_AI25'!K27 -> 0 | ... P29: ='Modulo_D''Ordine_AI25'!R27 -> 0
B30: ='Modulo_D''Ordine_AI25'!D28 -> AUGURI | C30: ='Modulo_D''Ordine_AI25'!E28 -> T-SHIRT | D30: ='Modulo_D''Ordine_AI25'!F28 -> CORTA | E30: ='Modulo_D''Ordine_AI25'!G28 -> FAIR TRADE | F30: ='Modulo_D''Ordine_AI25'!H28 -> rossa | G30: ='Modulo_D''Ordine_AI25'!I28 -> bianca | H30: ='Modulo_D''Ordine_AI25'!J28 -> 12.6 | I30: ='Modulo_D''Ordine_AI25'!K28 -> 0 | ... P30: ='Modulo_D''Ordine_AI25'!R28 -> 0
B31: ='Modulo_D''Ordine_AI25'!D29 -> AUGURI | C31: ='Modulo_D''Ordine_AI25'!E29 -> T-SHIRT | D31: ='Modulo_D''Ordine_AI25'!F29 -> CORTA | E31: ='Modulo_D''Ordine_AI25'!G29 -> BIO | F31: ='Modulo_D''Ordine_AI25'!H29 -> rossa | G31: ='Modulo_D''Ordine_AI25'!I29 -> bianca | H31: ='Modulo_D''Ordine_AI25'!J29 -> 9.6 | I31: ='Modulo_D''Ordine_AI25'!K29 -> 0 | ... P31: ='Modulo_D''Ordine_AI25'!R29 -> 0
B32: ='Modulo_D''Ordine_AI25'!D30 -> BEPPEANNA | C32: ='Modulo_D''Ordine_AI25'!E30 -> T-SHIRT | D32: ='Modulo_D''Ordine_AI25'!F30 -> CORTA | E32: ='Modulo_D''Ordine_AI25'!G30 -> FAIR TRADE | F32: ='Modulo_D''Ordine_AI25'!H30 -> BLU baltico | G32: ='Modulo_D''Ordine_AI25'!I30 -> bianca | H32: ='Modulo_D''Ordine_AI25'!J30 -> 12.6 | I32: ='Modulo_D''Ordine_AI25'!K30 -> 0 | ... P32: ='Modulo_D''Ordine_AI25'!R30 -> 0
B33: ='Modulo_D''Ordine_AI25'!D31 -> BEPPEANNA | C33: ='Modulo_D''Ordine_AI25'!E31 -> T-SHIRT | D33: ='Modulo_D''Ordine_AI25'!F31 -> CORTA | E33: ='Modulo_D''Ordine_AI25'!G31 -> FAIR TRADE | F33: ='Modulo_D''Ordine_AI25'!H31 -> nera | G33: ='Modulo_D''Ordine_AI25'!I31 -> bianca | H33: ='Modulo_D''Ordine_AI25'!J31 -> 12.6 | I33: ='Modulo_D''Ordine_AI25'!K31 -> 0 | ... P33: ='Modulo_D''Ordine_AI25'!R31 -> 0
B34: ='Modulo_D''Ordine_AI25'!D32 -> BEPPEANNA | C34: ='Modulo_D''Ordine_AI25'!E32 -> T-SHIRT | D34: ='Modulo_D''Ordine_AI25'!F32 -> CORTA | E34: ='Modulo_D''Ordine_AI25'!G32 -> FAIR TRADE | F34: ='Modulo_D''Ordine_AI25'!H32 -> rosso | G34: ='Modulo_D''Ordine_AI25'!I32 -> bianca | H34: ='Modulo_D''Ordine_AI25'!J32 -> 12.6 | I34: ='Modulo_D''Ordine_AI25'!K32 -> 0 | ... P34: ='Modulo_D''Ordine_AI25'!R32 -> 0
B35: ='Modulo_D''Ordine_AI25'!D33 -> BEPPEANNA | C35: ='Modulo_D''Ordine_AI25'!E33 -> T-SHIRT UNISEX | D35: ='Modulo_D''Ordine_AI25'!F33 -> LUNGA | E35: ='Modulo_D''Ordine_AI25'!G33 -> FAIR TRADE | F35: ='Modulo_D''Ordine_AI25'!H33 -> nera | G35: ='Modulo_D''Ordine_AI25'!I33 -> bianca | H35: ='Modulo_D''Ordine_AI25'!J33 -> 16.5 | I35: ='Modulo_D''Ordine_AI25'!K33 -> 0 | ... P35: ='Modulo_D''Ordine_AI25'!R33 -> 0
B36: ='Modulo_D''Ordine_AI25'!D34 -> BEPPEANNA | C36: ='Modulo_D''Ordine_AI25'!E34 -> T-SHIRT DONNA | D36: ='Modulo_D''Ordine_AI25'!F34 -> LUNGA | E36: ='Modulo_D''Ordine_AI25'!G34 -> FAIR TRADE | F36: ='Modulo_D''Ordine_AI25'!H34 -> PETROLIO | G36: ='Modulo_D''Ordine_AI25'!I34 -> bianca | H36: ='Modulo_D''Ordine_AI25'!J34 -> 16.5 | I36: ='Modulo_D''Ordine_AI25'!K34 -> 0 | ... P36: ='Modulo_D''Ordine_AI25'!R34 -> 0
B37: ='Modulo_D''Ordine_AI25'!D35 -> BEPPEANNA | C37: ='Modulo_D''Ordine_AI25'!E35 -> T-SHIRT | D37: ='Modulo_D''Ordine_AI25'!F35 -> CORTA | E37: ='Modulo_D''Ordine_AI25'!G35 -> BIO | F37: ='Modulo_D''Ordine_AI25'!H35 -> blu navy | G37: ='Modulo_D''Ordine_AI25'!I35 -> bianca | H37: ='Modulo_D''Ordine_AI25'!J35 -> 9.6 | I37: ='Modulo_D''Ordine_AI25'!K35 -> 0 | ... P37: ='Modulo_D''Ordine_AI25'!R35 -> 0
B38: ='Modulo_D''Ordine_AI25'!D36 -> BEPPEANNA | C38: ='Modulo_D''Ordine_AI25'!E36 -> T-SHIRT | D38: ='Modulo_D''Ordine_AI25'!F36 -> CORTA | E38: ='Modulo_D''Ordine_AI25'!G36 -> BIO | F38: ='Modulo_D''Ordine_AI25'!H36 -> nera | G38: ='Modulo_D''Ordine_AI25'!I36 -> bianca | H38: ='Modulo_D''Ordine_AI25'!J36 -> 9.6 | I38: ='Modulo_D''Ordine_AI25'!K36 -> 0 | ... P38: ='Modulo_D''Ordine_AI25'!R36 -> 0
B39: ='Modulo_D''Ordine_AI25'!D37 -> BEPPEANNA | C39: ='Modulo_D''Ordine_AI25'!E37 -> T-SHIRT | D39: ='Modulo_D''Ordine_AI25'!F37 -> CORTA | E39: ='Modulo_D''Ordine_AI25'!G37 -> BIO | F39: ='Modulo_D''Ordine_AI25'!H37 -> rosso | G39: ='Modulo_D''Ordine_AI25'!I37 -> bianca | H39: ='Modulo_D''Ordine_AI25'!J37 -> 9.6 | I39: ='Modulo_D''Ordine_AI25'!K37 -> 0 | ... P39: ='Modulo_D''Ordine_AI25'!R37 -> 0
... B159: ='Modulo_D''Ordine_AI25'!D157 -> DEVASTANTE | C159: ='Modulo_D''Ordine_AI25'!E157 -> T-SHIRT | D159: ='Modulo_D''Ordine_AI25'!F157 -> CORTA | E159: ='Modulo_D''Ordine_AI25'!G157 -> BIO | F159: ='Modulo_D''Ordine_AI25'!H157 -> rosso | G159: ='Modulo_D''Ordine_AI25'!I157 -> bianca | H159: ='Modulo_D''Ordine_AI25'!J157 -> 9.6 | I159: ='Modulo_D''Ordine_AI25'!K157 -> 0 | ... P159: ='Modulo_D''Ordine_AI25'!R157 -> 0
B160: ='Modulo_D''Ordine_AI25'!D158 -> HARING | C160: ='Modulo_D''Ordine_AI25'!E158 -> TOTE BAG | D160: ='Modulo_D''Ordine_AI25'!F158 -> no | E160: ='Modulo_D''Ordine_AI25'!G158 -> FAIR TRADE | F160: ='Modulo_D''Ordine_AI25'!H158 -> ecru | G160: ='Modulo_D''Ordine_AI25'!I158 -> nera | H160: ='Modulo_D''Ordine_AI25'!J158 -> 3.5 | I160: ='Modulo_D''Ordine_AI25'!K158 -> 0 | O160: ='Modulo_D''Ordine_AI25'!Q158 -> 0 | P160: ='Modulo_D''Ordine_AI25'!Q158 -> 0
B161: ='Modulo_D''Ordine_AI25'!D159 -> GAGARIN | C161: ='Modulo_D''Ordine_AI25'!E159 -> TOTE BAG | D161: ='Modulo_D''Ordine_AI25'!F159 -> no | E161: ='Modulo_D''Ordine_AI25'!G159 -> FAIR TRADE | F161: ='Modulo_D''Ordine_AI25'!H159 -> ecru | G161: ='Modulo_D''Ordine_AI25'!I159 -> nera | H161: ='Modulo_D''Ordine_AI25'!J159 -> 3.5 | I161: ='Modulo_D''Ordine_AI25'!K159 -> 0 | O161: ='Modulo_D''Ordine_AI25'!Q159 -> 0 | P161: ='Modulo_D''Ordine_AI25'!Q159 -> 0
B162: ='Modulo_D''Ordine_AI25'!D160 -> CAFFE' | C162: ='Modulo_D''Ordine_AI25'!E160 -> TOTE BAG | D162: ='Modulo_D''Ordine_AI25'!F160 -> no | E162: ='Modulo_D''Ordine_AI25'!G160 -> FAIR TRADE | F162: ='Modulo_D''Ordine_AI25'!H160 -> ecru | G162: ='Modulo_D''Ordine_AI25'!I160 -> nera | H162: ='Modulo_D''Ordine_AI25'!J160 -> 3.5 | I162: ='Modulo_D''Ordine_AI25'!K160 -> 0 | O162: ='Modulo_D''Ordine_AI25'!Q160 -> 0 | P162: ='Modulo_D''Ordine_AI25'!Q160 -> 0
B163: ='Modulo_D''Ordine_AI25'!D161 -> ATTIVISTA | C163: ='Modulo_D''Ordine_AI25'!E161 -> TOTE BAG | D163: ='Modulo_D''Ordine_AI25'!F161 -> no | E163: ='Modulo_D''Ordine_AI25'!G161 -> FAIR TRADE | F163: ='Modulo_D''Ordine_AI25'!H161 -> ecru | G163: ='Modulo_D''Ordine_AI25'!I161 -> nera | H163: ='Modulo_D''Ordine_AI25'!J161 -> 3.5 | I163: ='Modulo_D''Ordine_AI25'!K161 -> 0 | O163: ='Modulo_D''Ordine_AI25'!Q161 -> 0 | P163: ='Modulo_D''Ordine_AI25'!Q161 -> 0
...

Sheet DATI
B1: PRODOTTO | C1: MANICA | D1: TIPOLOGIA | E1: TOT PEZZI
B2: =+B11 -> FELPA CON ZIP | C2: =+C133 -> LUNGA | D2: =+D11 -> FAIR TRADE | E2: =SUM(E11:E17) -> 0
B3: =+B18 -> FELPA INTERA | C3: =+C153 -> LUNGA | D3: =+D18 -> bio | E3: =SUM(E18:E24) -> 0
B4: =B25 -> T-SHIRT | C4: =C25 -> CORTA | D4: =D25 -> FAIR TRADE | E4: =SUM(E25:E78) -> #REF!
B5: =B82 -> T-SHIRT | C5: =C82 -> CORTA | D5: =D82 -> BIO | E5: =SUM(E79:E132) -> #REF!
B6: T-SHIRT UNISEX | C6: LUNGA | D6: FAIR TRADE | E6: =SUM(E133:E150) -> #REF!
B7: T-SHIRT DONNA | C7: LUNGA | D7: FAIR TRADE | E7: =SUM(E151:E168) -> #REF!
B8: TOTEBAG | C8: no | D8: FAIR TRADE | E8: =SUM(E153:E170) -> #REF!
B9: TOTEBAG | C9: no | D9: BIO | E9: =SUM(E171:E173) -> 0
B10: referenza | C10: manica | D10: tipologia | E10: tot pezzi
B11: ='Modulo_D''Ordine_AI25'!E12 -> FELPA CON ZIP | C11: ='Modulo_D''Ordine_AI25'!F12 -> lunga | D11: ='Modulo_D''Ordine_AI25'!G12 -> FAIR TRADE | E11: ='Modulo_D''Ordine_AI25'!Q12 -> 0
B12: ='Modulo_D''Ordine_AI25'!E14 -> FELPA CON ZIP | C12: ='Modulo_D''Ordine_AI25'!F14 -> lunga | D12: ='Modulo_D''Ordine_AI25'!G14 -> FAIR TRADE | E12: ='Modulo_D''Ordine_AI25'!Q14 -> 0
B13: ='Modulo_D''Ordine_AI25'!E16 -> FELPA CON ZIP | C13: ='Modulo_D''Ordine_AI25'!F16 -> lunga | D13: ='Modulo_D''Ordine_AI25'!G16 -> FAIR TRADE | E13: ='Modulo_D''Ordine_AI25'!Q16 -> 0
B14: ='Modulo_D''Ordine_AI25'!E18 -> FELPA CON ZIP | C14: ='Modulo_D''Ordine_AI25'!F18 -> lunga | D14: ='Modulo_D''Ordine_AI25'!G18 -> FAIR TRADE | E14: ='Modulo_D''Ordine_AI25'!Q18 -> 0
B15: ='Modulo_D''Ordine_AI25'!E20 -> FELPA CON ZIP | C15: ='Modulo_D''Ordine_AI25'!F20 -> lunga | D15: ='Modulo_D''Ordine_AI25'!G20 -> FAIR TRADE | E15: ='Modulo_D''Ordine_AI25'!Q20 -> 0
B16: ='Modulo_D''Ordine_AI25'!E22 -> FELPA CON ZIP | C16: ='Modulo_D''Ordine_AI25'!F22 -> lunga | D16: ='Modulo_D''Ordine_AI25'!G22 -> FAIR TRADE | E16: ='Modulo_D''Ordine_AI25'!Q22 -> 0
B17: ='Modulo_D''Ordine_AI25'!E24 -> FELPA CON ZIP | C17: ='Modulo_D''Ordine_AI25'!F24 -> lunga | D17: ='Modulo_D''Ordine_AI25'!G24 -> FAIR TRADE | E17: ='Modulo_D''Ordine_AI25'!Q24 -> 0
B18: ='Modulo_D''Ordine_AI25'!E13 -> FELPA INTERA | C18: ='Modulo_D''Ordine_AI25'!F13 -> lunga | D18: ='Modulo_D''Ordine_AI25'!G13 -> bio | E18: ='Modulo_D''Ordine_AI25'!Q13 -> 0
B19: ='Modulo_D''Ordine_AI25'!E15 -> FELPA INTERA | C19: ='Modulo_D''Ordine_AI25'!F15 -> lunga | D19: ='Modulo_D''Ordine_AI25'!G15 -> bio | E19: ='Modulo_D''Ordine_AI25'!Q15 -> 0
B20: ='Modulo_D''Ordine_AI25'!E17 -> FELPA INTERA | C20: ='Modulo_D''Ordine_AI25'!F17 -> lunga | D20: ='Modulo_D''Ordine_AI25'!G17 -> bio | E20: ='Modulo_D''Ordine_AI25'!Q17 -> 0
B21: ='Modulo_D''Ordine_AI25'!E19 -> FELPA INTERA | C21: ='Modulo_D''Ordine_AI25'!F19 -> lunga | D21: ='Modulo_D''Ordine_AI25'!G19 -> bio | E21: ='Modulo_D''Ordine_AI25'!Q19 -> 0
B22: ='Modulo_D''Ordine_AI25'!E21 -> FELPA INTERA | C22: ='Modulo_D''Ordine_AI25'!F21 -> lunga | D22: ='Modulo_D''Ordine_AI25'!G21 -> bio | E22: ='Modulo_D''Ordine_AI25'!Q21 -> 0
B23: ='Modulo_D''Ordine_AI25'!E23 -> FELPA INTERA | C23: ='Modulo_D''Ordine_AI25'!F23 -> lunga | D23: ='Modulo_D''Ordine_AI25'!G23 -> bio | E23: ='Modulo_D''Ordine_AI25'!Q23 -> 0
B24: ='Modulo_D''Ordine_AI25'!E25 -> FELPA INTERA | C24: ='Modulo_D''Ordine_AI25'!F25 -> lunga | D24: ='Modulo_D''Ordine_AI25'!G25 -> bio | E24: ='Modulo_D''Ordine_AI25'!Q25 -> 0
B25: ='Modulo_D''Ordine_AI25'!E30 -> T-SHIRT | C25: ='Modulo_D''Ordine_AI25'!F30 -> CORTA | D25: ='Modulo_D''Ordine_AI25'!G30 -> FAIR TRADE | E25: ='Modulo_D''Ordine_AI25'!Q30 -> 0
B26: ='Modulo_D''Ordine_AI25'!E31 -> T-SHIRT | C26: ='Modulo_D''Ordine_AI25'!F31 -> CORTA | D26: ='Modulo_D''Ordine_AI25'!G31 -> FAIR TRADE | E26: ='Modulo_D''Ordine_AI25'!Q31 -> 0
B27: ='Modulo_D''Ordine_AI25'!E32 -> T-SHIRT | C27: ='Modulo_D''Ordine_AI25'!F32 -> CORTA | D27: ='Modulo_D''Ordine_AI25'!G32 -> FAIR TRADE | E27: ='Modulo_D''Ordine_AI25'!Q32 -> 0
B28: ='Modulo_D''Ordine_AI25'!E38 -> T-SHIRT | C28: ='Modulo_D''Ordine_AI25'!F38 -> CORTA | D28: ='Modulo_D''Ordine_AI25'!G38 -> FAIR TRADE | E28: ='Modulo_D''Ordine_AI25'!Q38 -> 0
B29: ='Modulo_D''Ordine_AI25'!E39 -> T-SHIRT | C29: ='Modulo_D''Ordine_AI25'!F39 -> CORTA | D29: ='Modulo_D''Ordine_AI25'!G39 -> FAIR TRADE | E29: ='Modulo_D''Ordine_AI25'!Q39 -> 0
B30: ='Modulo_D''Ordine_AI25'!E40 -> T-SHIRT | C30: ='Modulo_D''Ordine_AI25'!F40 -> CORTA | D30: ='Modulo_D''Ordine_AI25'!G40 -> FAIR TRADE | E30: ='Modulo_D''Ordine_AI25'!Q40 -> 0
B31: ='Modulo_D''Ordine_AI25'!E46 -> T-SHIRT | C31: ='Modulo_D''Ordine_AI25'!F46 -> CORTA | D31: ='Modulo_D''Ordine_AI25'!G46 -> FAIR TRADE | E31: ='Modulo_D''Ordine_AI25'!Q46 -> 0
B32: ='Modulo_D''Ordine_AI25'!E47 -> T-SHIRT | C32: ='Modulo_D''Ordine_AI25'!F47 -> CORTA | D32: ='Modulo_D''Ordine_AI25'!G47 -> FAIR TRADE | E32: ='Modulo_D''Ordine_AI25'!Q47 -> 0
B33: ='Modulo_D''Ordine_AI25'!E48 -> T-SHIRT | C33: ='Modulo_D''Ordine_AI25'!F48 -> CORTA | D33: ='Modulo_D''Ordine_AI25'!G48 -> FAIR TRADE | E33: ='Modulo_D''Ordine_AI25'!Q48 -> 0
B34: ='Modulo_D''Ordine_AI25'!E54 -> T-SHIRT | C34: ='Modulo_D''Ordine_AI25'!F54 -> CORTA | D34: ='Modulo_D''Ordine_AI25'!G54 -> FAIR TRADE | E34: ='Modulo_D''Ordine_AI25'!Q54 -> 0
B35: ='Modulo_D''Ordine_AI25'!E55 -> T-SHIRT | C35: ='Modulo_D''Ordine_AI25'!F55 -> CORTA | D35: ='Modulo_D''Ordine_AI25'!G55 -> FAIR TRADE | E35: ='Modulo_D''Ordine_AI25'!Q55 -> 0
B36: ='Modulo_D''Ordine_AI25'!E56 -> T-SHIRT | C36: ='Modulo_D''Ordine_AI25'!F56 -> CORTA | D36: ='Modulo_D''Ordine_AI25'!G56 -> FAIR TRADE | E36: ='Modulo_D''Ordine_AI25'!Q56 -> 0
B37: ='Modulo_D''Ordine_AI25'!E62 -> T-SHIRT | C37: ='Modulo_D''Ordine_AI25'!F62 -> CORTA | D37: ='Modulo_D''Ordine_AI25'!G62 -> FAIR TRADE | E37: ='Modulo_D''Ordine_AI25'!Q62 -> 0
B38: ='Modulo_D''Ordine_AI25'!E63 -> T-SHIRT | C38: ='Modulo_D''Ordine_AI25'!F63 -> CORTA | D38: ='Modulo_D''Ordine_AI25'!G63 -> FAIR TRADE | E38: ='Modulo_D''Ordine_AI25'!Q63 -> 0
B39: ='Modulo_D''Ordine_AI25'!E64 -> T-SHIRT | C39: ='Modulo_D''Ordine_AI25'!F64 -> CORTA | D39: ='Modulo_D''Ordine_AI25'!G64 -> FAIR TRADE | E39: ='Modulo_D''Ordine_AI25'!Q64 -> 0
B40: ='Modulo_D''Ordine_AI25'!E70 -> T-SHIRT | C40: ='Modulo_D''Ordine_AI25'!F70 -> CORTA | D40: ='Modulo_D''Ordine_AI25'!G70 -> FAIR TRADE | E40: ='Modulo_D''Ordine_AI25'!Q70 -> 0
...

Sheet PVP_MARGINE
A1: 2023 | B1: 2024
C3: iva esclusa
C4: costo | D4: pvp consigliato | E4: margine in € | F4: margine in %
A5: TEES MANICA CORTA BIO | B5: TEES MANICA CORTA BIO | C5: 9.6 | D5: =20/1.22 -> 16.393443 | E5: =+D5-C5 -> 6.7934426 | F5: =+E5/D5 -> 0.4144
A6: TEES MANICA CORTA FAIR TRADE | B6: TEES MANICA CORTA FAIR TRADE | C6: 12.6 | D6: =26/1.22 -> 21.311475 | E6: =+D6-C6 -> 8.7114754 | F6: =+E6/D6 -> 0.40876923
A7: TEES MANICA LUNGA FT UNISEX | B7: TEES MANICA LUNGA FT UNISEX | C7: 16.5 | D7: =32/1.22 -> 26.229508 | E7: =+D7-C7 -> 9.7295082 | F7: =+E7/D7 -> 0.3709375
B8: TEES MANICA LUNGA FT DONNA | C8: 16.5 | D8: =32/1.22 -> 26.229508 | E8: =+D8-C8 -> 9.7295082 | F8: =+E8/D8 -> 0.3709375
A9: FELPA BIO | B9: FELPA FT CAPPUCCIO | C9: 35 | D9: =D19/1.22 -> 49.180328 | E9: =+D9-C9 -> 14.180328 | F9: =+E9/D9 -> 0.28833333
A10: FELPA BIO CAPPUCCIO | B10: TOTE BAG FAIR TRADE | C10: 2.5 | D10: =5.9/1.22 -> 4.8360656 | E10: =+D10-C10 -> 2.3360656 | F10: =+E10/D10 -> 0.48305085
B11: TOTE BAG BIO | C11: 2.5 | D11: =5.9/1.22 -> 4.8360656 | E11: =+D11-C11 -> 2.3360656 | F11: =+E11/D11 -> 0.48305085
C13: iva inclusa
C14: costo | D14: pvp consigliato | E14: margine in € | F14: margine in %
A15: TEES MANICA CORTA BIO | B15: TEES MANICA CORTA BIO | C15: =+C5*1.22 -> 11.712 | D15: =+D5*1.22 -> 20 | E15: =+D15-C15 -> 8.288 | F15: =+E15/D15 -> 0.4144
A16: TEES MANICA CORTA FAIR TRADE | B16: TEES MANICA CORTA FAIR TRADE | C16: =+C6*1.22 -> 15.372 | D16: =+D6*1.22 -> 26 | E16: =+D16-C16 -> 10.628 | F16: =+E16/D16 -> 0.40876923
A17: TEES MANICA LUNGA FT UNISEX | B17: TEES MANICA LUNGA FT UNISEX | C17: =+C7*1.22 -> 20.13 | D17: =+D7*1.22 -> 32 | E17: =+D17-C17 -> 11.87 | F17: =+E17/D17 -> 0.3709375
B18: TEES MANICA LUNGA FT DONNA | C18: =C8*1.22 -> 20.13 | D18: 32 | E18: =+D18-C18 -> 11.87 | F18: =+E18/D18 -> 0.3709375
A19: FELPA BIO | B19: FELPA FT CAPPUCCIO | C19: =+C9*1.22 -> 42.7 | D19: 60 | E19: =+D19-C19 -> 17.3 | F19: =+E19/D19 -> 0.28833333
A20: FELPA BIO CAPPUCCIO | B20: TOTE BAG FAIR TRADE | C20: =+C10*1.22 -> 3.05 | D20: =D10*1.22 -> 5.9 | E20: =+D20-C20 -> 2.85 | F20: =+E20/D20 -> 0.48305085
B21: TOTE BAG BIO | C21: =+C11*1.22 -> 3.05 | D21: =D11*1.22 -> 5.9 | E21: =+D21-C21 -> 2.85 | F21: =+E21/D21 -> 0.48305085

Sheet Dati_per_Fattura
B2: DATI PER FATTURA
B4: =+'Modulo_D''Ordine_AI25'!D3 -> Ragione Sociale | C4: =+'Modulo_D''Ordine_AI25'!E3 -> 0
B5: =+'Modulo_D''Ordine_AI25'!D4 -> Indirizzo Fatturazione | C5: =+'Modulo_D''Ordine_AI25'!E4 -> 0
B6: =+'Modulo_D''Ordine_AI25'!D5 -> Partita Iva | C6: =+'Modulo_D''Ordine_AI25'!E5 -> 0
B7: =+'Modulo_D''Ordine_AI25'!D6 -> Codice Univoco | C7: =+'Modulo_D''Ordine_AI25'!E6 -> 0
B8: =+'Modulo_D''Ordine_AI25'!D7 -> Destinazione Merce | C8: =+'Modulo_D''Ordine_AI25'!E7 -> 0
B9: =+'Modulo_D''Ordine_AI25'!I7 -> Telefono | C9: =+'Modulo_D''Ordine_AI25'!J7 -> 0
C11: TOT PZ | D11: VALORE UNITARIO | E11: VALORE TOTALE | F11: IVA 22% | G11: TOTALE FATTURA
B12: TEES MANICA CORTA BIO | C12: =DATI!E5 -> #REF! | D12: =PVP_MARGINE!C5 -> 9.6 | E12: =D12*C12 -> #REF! | F12: =+E12*0.22 -> #REF! | G12: =SUM(E12:E17) -> #REF!
B13: TEES MANICA CORTA FAIR TRADE | C13: =DATI!E6 -> #REF! | D13: =PVP_MARGINE!C6 -> 12.6 | E13: =D13*C13 -> #REF! | F13: =+E13*0.22 -> #REF!
B14: TEES MANICA LUNGA FT UNISEX | C14: =DATI!E7 -> #REF! | D14: =PVP_MARGINE!C7 -> 16.5 | E14: =D14*C14 -> #REF! | F14: =+E14*0.22 -> #REF!
B15: TEES MANICA LUNGA FT DONNA | C15: =DATI!E4 -> #REF! | D15: =PVP_MARGINE!C8 -> 16.5 | E15: =D15*C15 -> #REF! | F15: =+E15*0.22 -> #REF!
B16: FELPA FT CAPPUCCIO | C16: =DATI!E2 -> 0 | D16: =PVP_MARGINE!C9 -> 35 | E16: =D16*C16 -> 0 | F16: =+E16*0.22 -> 0
B17: TOTE BAG FAIR TRADE | C17: =DATI!E8 -> #REF! | D17: =PVP_MARGINE!C10 -> 2.5 | E17: =D17*C17 -> #REF! | F17: =+E17*0.22 -> #REF!
B18: TOTE BAG BIO | C18: =DATI!E9 -> 0 | D18: =PVP_MARGINE!C11 -> 2.5 | E18: =D18*C18 -> 0 | F18: =+E18*0.22 -> 0
C20: =SUM(C12:C17) -> #REF! | E20: =SUM(E12:E17) -> #REF! | F20: =SUM(F12:F17) -> #REF!
