Workbook

Sheet Modulo_D'Ordine_PE 26
E1: DATI ORDINANTE
D2: Ragione Sociale | P2: tot pezzi ordine:
D3: Indirizzo Fatturazione | P3: =SUM(P11:P200) -> 0
D4: Partita Iva | P4: tot valore ordine:
D5: Codice Univoco | P5: =SUM(Q11:Q200) -> 0
D6: Destinazione Merce / orari | I6: Telefono
E8: invia l'ordine a: opress@bottegasolidale.it
B10: autore / linea | C10: cantante | D10: descrizione | E10: referenza | F10: manica | G10: tipologia | H10: colore referenza | I10: colore stampa | J10: c.unitario (iva escl) | K10: S | L10: M | M10: L | N10: XL | O10: XXL | P10: tot pezzi | Q10: tot valore
C11: extratrack | D11: BELLA CIAO | E11: T-SHIRT | F11: CORTA | G11: FAIR TRADE | H11: nera | I11: bianca, rossa | J11: 12.6 | P11: =SUM(K11:O11) -> 0 | Q11: =+P11*J11 -> 0
C12: extratrack | D12: BELLA CIAO | E12: T-SHIRT | F12: CORTA | G12: FAIR TRADE | H12: rosso | I12: bianca | J12: 12.6 | P12: =SUM(K12:O12) -> 0 | Q12: =+P12*J12 -> 0
C13: extratrack | D13: BELLA CIAO | E13: T-SHIRT | F13: CORTA | G13: FAIR TRADE | H13: bianca | I13: nera rossa | J13: 12.6 | P13: =SUM(K13:O13) -> 0 | Q13: =+P13*J13 -> 0
C14: extratrack | D14: BELLA CIAO | E14: T-SHIRT DONNA | F14: CORTA | G14: FAIR TRADE | H14: bianca | I14: nera rossa | J14: 12.6 | P14: =SUM(K14:O14) -> 0 | Q14: =+P14*J14 -> 0
C15: extratrack | D15: BELLA CIAO | E15: T-SHIRT | F15: CORTA | G15: BIO | H15: nera | I15: bianca, rossa | J15: 9.6 | P15: =SUM(K15:O15) -> 0 | Q15: =+P15*J15 -> 0
C16: extratrack | D16: BELLA CIAO | E16: T-SHIRT | F16: CORTA | G16: BIO | H16: rosso | I16: bianca | J16: 9.6 | P16: =SUM(K16:O16) -> 0 | Q16: =+P16*J16 -> 0
C17: extratrack | D17: BELLA CIAO | E17: T-SHIRT | F17: CORTA | G17: BIO | H17: bianca | I17: nera rossa | J17: 9.6 | P17: =SUM(K17:O17) -> 0 | Q17: =+P17*J17 -> 0
C18: extratrack | D18: PROTEGGI IL PIANETA | E18: T-SHIRT | F18: CORTA | G18: FAIR TRADE | H18: BLU baltico | I18: verde | J18: 12.6 | P18: =SUM(K18:O18) -> 0 | Q18: =+P18*J18 -> 0
C19: extratrack | D19: PROTEGGI IL PIANETA | E19: T-SHIRT | F19: CORTA | G19: FAIR TRADE | H19: nera | I19: verde | J19: 12.6 | P19: =SUM(K19:O19) -> 0 | Q19: =+P19*J19 -> 0
C20: extratrack | D20: PROTEGGI IL PIANETA | E20: T-SHIRT | F20: CORTA | G20: FAIR TRADE | H20: rosso | I20: verde | J20: 12.6 | P20: =SUM(K20:O20) -> 0 | Q20: =+P20*J20 -> 0
C21: extratrack | D21: PROTEGGI IL PIANETA | E21: T-SHIRT | F21: CORTA | G21: FAIR TRADE | H21: bianca | I21: verde | J21: 12.6 | P21: =SUM(K21:O21) -> 0 | Q21: =+P21*J21 -> 0
C22: extratrack | D22: PROTEGGI IL PIANETA | E22: T-SHIRT DONNA | F22: CORTA | G22: FAIR TRADE | H22: bianca | I22: verde | J22: 12.6 | P22: =SUM(K22:O22) -> 0 | Q22: =+P22*J22 -> 0
... C102: Guccini | D102: CANZONE DI NOTTE N°2 | E102: T-SHIRT | F102: CORTA | G102: FAIR TRADE | H102: rosso | I102: bianca | J102: 12.6 | P102: =SUM(K102:O102) -> 0 | Q102: =+P102*J102 -> 0
C103: Guccini | D103: =+D100 -> CANZONE DI NOTTE N°2 | E103: T-SHIRT | F103: CORTA | G103: FAIR TRADE | H103: bianca | I103: nera | J103: 12.6 | P103: =SUM(K103:O103) -> 0 | Q103: =+P103*J103 -> 0
C104: Guccini | D104: =+D101 -> CANZONE DI NOTTE N°2 | E104: T-SHIRT DONNA | F104: CORTA | G104: FAIR TRADE | H104: bianca | I104: nera | J104: 12.6 | P104: =SUM(K104:O104) -> 0 | Q104: =+P104*J104 -> 0
C105: Guccini | D105: =+D102 -> CANZONE DI NOTTE N°2 | E105: T-SHIRT | F105: CORTA | G105: BIO | H105: blu navy | I105: bianca | J105: 9.6 | P105: =SUM(K105:O105) -> 0 | Q105: =+P105*J105 -> 0
C106: Guccini | D106: CANZONE DI NOTTE N°2 | E106: T-SHIRT | F106: CORTA | G106: BIO | H106: nera | I106: bianca | J106: 9.6 | P106: =SUM(K106:O106) -> 0 | Q106: =+P106*J106 -> 0
C107: Guccini | D107: CANZONE DI NOTTE N°2 | E107: T-SHIRT | F107: CORTA | G107: BIO | H107: rosso | I107: bianca | J107: 9.6 | P107: =SUM(K107:O107) -> 0 | Q107: =+P107*J107 -> 0
C108: Guccini | D108: CANZONE DI NOTTE N°2 | E108: T-SHIRT | F108: CORTA | G108: BIO | H108: bianca | I108: nera | J108: 9.6 | P108: =SUM(K108:O108) -> 0 | Q108: =+P108*J108 -> 0
C109: Bandabardò | D109: BEPPEANNA | E109: T-SHIRT | F109: CORTA | G109: FAIR TRADE | H109: BLU baltico | I109: bianca | J109: 12.6 | P109: =SUM(K109:O109) -> 0 | Q109: =+P109*J109 -> 0
C110: Bandabardò | D110: BEPPEANNA | E110: T-SHIRT | F110: CORTA | G110: FAIR TRADE | H110: nera | I110: bianca | J110: 12.6 | P110: =SUM(K110:O110) -> 0 | Q110: =+P110*J110 -> 0
C111: Bandabardò | D111: BEPPEANNA | E111: T-SHIRT | F111: CORTA | G111: FAIR TRADE | H111: rosso | I111: bianca | J111: 12.6 | P111: =SUM(K111:O111) -> 0 | Q111: =+P111*J111 -> 0
C112: Bandabardò | D112: BEPPEANNA | E112: T-SHIRT | F112: CORTA | G112: FAIR TRADE | H112: bianca | I112: nera | J112: 12.6 | P112: =SUM(K112:O112) -> 0 | Q112: =+P112*J112 -> 0
C113: Bandabardò | D113: BEPPEANNA | E113: T-SHIRT DONNA | F113: CORTA | G113: FAIR TRADE | H113: bianca | I113: nera | J113: 12.6 | P113: =SUM(K113:O113) -> 0 | Q113: =+P113*J113 -> 0
C114: Bandabardò | D114: BEPPEANNA | E114: T-SHIRT | F114: CORTA | G114: BIO | H114: blu navy | I114: bianca | J114: 9.6 | P114: =SUM(K114:O114) -> 0 | Q114: =+P114*J114 -> 0
C115: Bandabardò | D115: BEPPEANNA | E115: T-SHIRT | F115: CORTA | G115: BIO | H115: nera | I115: bianca | J115: 9.6 | P115: =SUM(K115:O115) -> 0 | Q115: =+P115*J115 -> 0
C116: Bandabardò | D116: BEPPEANNA | E116: T-SHIRT | F116: CORTA | G116: BIO | H116: rosso | I116: bianca | J116: 9.6 | P116: =SUM(K116:O116) -> 0 | Q116: =+P116*J116 -> 0
C117: Bandabardò | D117: BEPPEANNA | E117: T-SHIRT | F117: CORTA | G117: BIO | H117: bianca | I117: nera | J117: 9.6 | P117: =SUM(K117:O117) -> 0 | Q117: =+P117*J117 -> 0
... C127: extratrack | D127: FREE PALESTINE | E127: T-SHIRT | F127: CORTA | G127: BIO | H127: bianca | I127: rosso verde e nero | J127: 9.6 | P127: =SUM(K127:O127) -> 0 | Q127: =+P127*J127 -> 0
D128: FREE PALESTINE | E128: T-SHIRT donna | F128: CORTA | G128: FAIR TRADE | H128: bianca | I128: rosso verde e nero | J128: 12.6 | P128: =SUM(K128:O128) -> 0 | Q128: =+P128*J128 -> 0
D129: FREE PALESTINE | E129: T-SHIRT | F129: CORTA | G129: FAIR TRADE | H129: bianca | I129: rosso verde e nero | J129: 12.6 | P129: =SUM(K129:O129) -> 0 | Q129: =+P129*J129 -> 0
C130: extratrack | D130: GAGARIN | E130: T-SHIRT | F130: CORTA | G130: FAIR TRADE | H130: BLU baltico | I130: bianca | J130: 12.6 | P130: =SUM(K130:O130) -> 0 | Q130: =+P130*J130 -> 0
C131: extratrack | D131: GAGARIN | E131: T-SHIRT | F131: CORTA | G131: FAIR TRADE | H131: nera | I131: bianca | J131: 12.6 | P131: =SUM(K131:O131) -> 0 | Q131: =+P131*J131 -> 0
C132: extratrack | D132: GAGARIN | E132: T-SHIRT | F132: CORTA | G132: FAIR TRADE | H132: rosso | I132: bianca | J132: 12.6 | P132: =SUM(K132:O132) -> 0 | Q132: =+P132*J132 -> 0
C133: extratrack | D133: GAGARIN | E133: T-SHIRT | F133: CORTA | G133: FAIR TRADE | H133: bianca | I133: nera | J133: 12.6 | P133: =SUM(K133:O133) -> 0 | Q133: =+P133*J133 -> 0
C134: extratrack | D134: GAGARIN | E134: T-SHIRT DONNA | F134: CORTA | G134: FAIR TRADE | H134: bianca | I134: nera | J134: 12.6 | P134: =SUM(K134:O134) -> 0 | Q134: =+P134*J134 -> 0
C135: extratrack | D135: GAGARIN | E135: T-SHIRT | F135: CORTA | G135: BIO | H135: blu navy | I135: bianca | J135: 9.6 | P135: =SUM(K135:O135) -> 0 | Q135: =+P135*J135 -> 0
C136: extratrack | D136: GAGARIN | E136: T-SHIRT | F136: CORTA | G136: BIO | H136: nera | I136: bianca | J136: 9.6 | P136: =SUM(K136:O136) -> 0 | Q136: =+P136*J136 -> 0
C137: extratrack | D137: GAGARIN | E137: T-SHIRT | F137: CORTA | G137: BIO | H137: rosso | I137: bianca | J137: 9.6 | P137: =SUM(K137:O137) -> 0 | Q137: =+P137*J137 -> 0
C138: extratrack | D138: GAGARIN | E138: T-SHIRT | F138: CORTA | G138: BIO | H138: bianca | I138: nera | J138: 9.6 | P138: =SUM(K138:O138) -> 0 | Q138: =+P138*J138 -> 0
C139: extratrack | D139: I'M ORGANIC | E139: T-SHIRT | F139: CORTA | G139: FAIR TRADE | H139: BLU baltico | I139: bianca/verde | J139: 12.6 | P139: =SUM(K139:O139) -> 0 | Q139: =+P139*J139 -> 0
C140: extratrack | D140: I'M ORGANIC | E140: T-SHIRT | F140: CORTA | G140: FAIR TRADE | H140: nera | I140: bianca/verde | J140: 12.6 | P140: =SUM(K140:O140) -> 0 | Q140: =+P140*J140 -> 0
C141: extratrack | D141: I'M ORGANIC | E141: T-SHIRT | F141: CORTA | G141: FAIR TRADE | H141: rosso | I141: bianca/verde | J141: 12.6 | P141: =SUM(K141:O141) -> 0 | Q141: =+P141*J141 -> 0
... C148: extratrack | D148: HARING | E148: T-SHIRT | F148: CORTA | G148: FAIR TRADE | H148: BLU baltico | I148: bianca | J148: 12.6 | P148: =SUM(K148:O148) -> 0 | Q148: =+P148*J148 -> 0
C149: =+C148 -> extratrack | D149: HARING | E149: T-SHIRT | F149: CORTA | G149: FAIR TRADE | H149: nera | I149: bianca | J149: 12.6 | P149: =SUM(K149:O149) -> 0 | Q149: =+P149*J149 -> 0
C150: =+C149 -> extratrack | D150: HARING | E150: T-SHIRT | F150: CORTA | G150: FAIR TRADE | H150: rosso | I150: bianca | J150: 12.6 | P150: =SUM(K150:O150) -> 0 | Q150: =+P150*J150 -> 0
C151: =+C150 -> extratrack | D151: HARING | E151: T-SHIRT | F151: CORTA | G151: FAIR TRADE | H151: bianca | I151: arcobaleno | J151: 12.6 | P151: =SUM(K151:O151) -> 0 | Q151: =+P151*J151 -> 0
C152: =+C151 -> extratrack | D152: HARING | E152: T-SHIRT DONNA | F152: CORTA | G152: FAIR TRADE | H152: bianca | I152: arcobaleno | J152: 12.6 | P152: =SUM(K152:O152) -> 0 | Q152: =+P152*J152 -> 0
C153: =+C152 -> extratrack | D153: HARING | E153: T-SHIRT | F153: CORTA | G153: BIO | H153: blu navy | I153: bianca | J153: 9.6 | P153: =SUM(K153:O153) -> 0 | Q153: =+P153*J153 -> 0
C154: =+C152 -> extratrack | D154: HARING | E154: T-SHIRT | F154: CORTA | G154: BIO | H154: nera | I154: bianca | J154: 9.6 | P154: =SUM(K154:O154) -> 0 | Q154: =+P154*J154 -> 0
C155: =+C150 -> extratrack | D155: HARING | E155: T-SHIRT | F155: CORTA | G155: BIO | H155: rosso | I155: bianca | J155: 9.6 | P155: =SUM(K155:O155) -> 0 | Q155: =+P155*J155 -> 0
C156: =+C155 -> extratrack | D156: HARING | E156: T-SHIRT | F156: CORTA | G156: BIO | H156: bianca | I156: arcobaleno | J156: 9.6 | P156: =SUM(K156:O156) -> 0 | Q156: =+P156*J156 -> 0
C157: =+C156 -> extratrack | D157: ATTIVISTA | E157: T-SHIRT | F157: CORTA | G157: FAIR TRADE | H157: BLU baltico | I157: bianca | J157: 12.6 | P157: =SUM(K157:O157) -> 0 | Q157: =+P157*J157 -> 0
C158: =+C157 -> extratrack | D158: ATTIVISTA | E158: T-SHIRT | F158: CORTA | G158: FAIR TRADE | H158: nera | I158: bianca | J158: 12.6 | P158: =SUM(K158:O158) -> 0 | Q158: =+P158*J158 -> 0
C159: =+C158 -> extratrack | D159: ATTIVISTA | E159: T-SHIRT | F159: CORTA | G159: FAIR TRADE | H159: rosso | I159: bianca | J159: 12.6 | P159: =SUM(K159:O159) -> 0 | Q159: =+P159*J159 -> 0
C160: =+C159 -> extratrack | D160: ATTIVISTA | E160: T-SHIRT | F160: CORTA | G160: FAIR TRADE | H160: bianca | I160: nero | J160: 12.6 | P160: =SUM(K160:O160) -> 0 | Q160: =+P160*J160 -> 0
C161: =+C160 -> extratrack | D161: ATTIVISTA | E161: T-SHIRT DONNA | F161: CORTA | G161: FAIR TRADE | H161: bianca | I161: nera | J161: 12.6 | P161: =SUM(K161:O161) -> 0 | Q161: =+P161*J161 -> 0
C162: =+C160 -> extratrack | D162: ATTIVISTA | E162: T-SHIRT | F162: CORTA | G162: BIO | H162: blu navy | I162: bianca | J162: 9.6 | P162: =SUM(K162:O162) -> 0 | Q162: =+P162*J162 -> 0
C163: =+C162 -> extratrack | D163: ATTIVISTA | E163: T-SHIRT | F163: CORTA | G163: BIO | H163: nera | I163: bianca | J163: 9.6 | P163: =SUM(K163:O163) -> 0 | Q163: =+P163*J163 -> 0
C164: =+C163 -> extratrack | D164: ATTIVISTA | E164: T-SHIRT | F164: CORTA | G164: BIO | H164: rosso | I164: bianca | J164: 9.6 | P164: =SUM(K164:O164) -> 0 | Q164: =+P164*J164 -> 0
C165: =+C164 -> extratrack | D165: ATTIVISTA | E165: T-SHIRT | F165: CORTA | G165: BIO | H165: bianca | I165: nero | J165: 9.6 | P165: =SUM(K165:O165) -> 0 | Q165: =+P165*J165 -> 0
C166: =+C165 -> extratrack | D166: CAFFE' | E166: T-SHIRT | F166: CORTA | G166: FAIR TRADE | H166: BLU baltico | I166: bianca | J166: 12.6 | P166: =SUM(K166:O166) -> 0 | Q166: =+P166*J166 -> 0
C167: =+C166 -> extratrack | D167: CAFFE' | E167: T-SHIRT | F167: CORTA | G167: FAIR TRADE | H167: nera | I167: bianca | J167: 12.6 | P167: =SUM(K167:O167) -> 0 | Q167: =+P167*J167 -> 0
C168: =+C167 -> extratrack | D168: CAFFE' | E168: T-SHIRT | F168: CORTA | G168: FAIR TRADE | H168: rosso | I168: bianca | J168: 12.6 | P168: =SUM(K168:O168) -> 0 | Q168: =+P168*J168 -> 0
C169: =+C168 -> extratrack | D169: CAFFE' | E169: T-SHIRT | F169: CORTA | G169: FAIR TRADE | H169: bianca | I169: nero | J169: 12.6 | P169: =SUM(K169:O169) -> 0 | Q169: =+P169*J169 -> 0
C170: =+C169 -> extratrack | D170: CAFFE' | E170: T-SHIRT DONNA | F170: CORTA | G170: FAIR TRADE | H170: bianca | I170: nera | J170: 12.6 | P170: =SUM(K170:O170) -> 0 | Q170: =+P170*J170 -> 0
C171: =+C170 -> extratrack | D171: CAFFE' | E171: T-SHIRT | F171: CORTA | G171: BIO | H171: blu navy | I171: bianca | J171: 9.6 | P171: =SUM(K171:O171) -> 0 | Q171: =+P171*J171 -> 0
C172: =+C170 -> extratrack | D172: CAFFE' | E172: T-SHIRT | F172: CORTA | G172: BIO | H172: nera | I172: bianca | J172: 9.6 | P172: =SUM(K172:O172) -> 0 | Q172: =+P172*J172 -> 0
C173: =+C172 -> extratrack | D173: CAFFE' | E173: T-SHIRT | F173: CORTA | G173: BIO | H173: rosso | I173: bianca | J173: 9.6 | P173: =SUM(K173:O173) -> 0 | Q173: =+P173*J173 -> 0
C174: =+C173 -> extratrack | D174: CAFFE' | E174: T-SHIRT | F174: CORTA | G174: BIO | H174: bianca | I174: nero | J174: 9.6 | P174: =SUM(K174:O174) -> 0 | Q174: =+P174*J174 -> 0
C175: =+C174 -> extratrack | D175: STAFF | E175: T-SHIRT | F175: CORTA | G175: FAIR TRADE | H175: BLU baltico | I175: bianca | J175: 12.6 | P175: =SUM(K175:O175) -> 0 | Q175: =+P175*J175 -> 0
C176: =+C175 -> extratrack | D176: STAFF | E176: T-SHIRT | F176: CORTA | G176: FAIR TRADE | H176: nera | I176: bianca | J176: 12.6 | P176: =SUM(K176:O176) -> 0 | Q176: =+P176*J176 -> 0
C177: =+C176 -> extratrack | D177: STAFF | E177: T-SHIRT | F177: CORTA | G177: FAIR TRADE | H177: rosso | I177: bianca | J177: 12.6 | P177: =SUM(K177:O177) -> 0 | Q177: =+P177*J177 -> 0
C178: =+C177 -> extratrack | D178: STAFF | E178: T-SHIRT | F178: CORTA | G178: FAIR TRADE | H178: bianca | I178: nero | J178: 12.6 | P178: =SUM(K178:O178) -> 0 | Q178: =+P178*J178 -> 0
C179: =+C178 -> extratrack | D179: STAFF | E179: T-SHIRT DONNA | F179: CORTA | G179: FAIR TRADE | H179: bianca | I179: nera | J179: 12.6 | P179: =SUM(K179:O179) -> 0 | Q179: =+P179*J179 -> 0
C180: =+C179 -> extratrack | D180: STAFF | E180: T-SHIRT | F180: CORTA | G180: BIO | H180: blu navy | I180: bianca | J180: 9.6 | P180: =SUM(K180:O180) -> 0 | Q180: =+P180*J180 -> 0
C181: =+C180 -> extratrack | D181: STAFF | E181: T-SHIRT | F181: CORTA | G181: BIO | H181: nera | I181: bianca | J181: 9.6 | P181: =SUM(K181:O181) -> 0 | Q181: =+P181*J181 -> 0
C182: =+C181 -> extratrack | D182: STAFF | E182: T-SHIRT | F182: CORTA | G182: BIO | H182: rosso | I182: bianca | J182: 9.6 | P182: =SUM(K182:O182) -> 0 | Q182: =+P182*J182 -> 0
C183: =+C182 -> extratrack | D183: STAFF | E183: T-SHIRT | F183: CORTA | G183: BIO | H183: bianca | I183: nero | J183: 9.6 | P183: =SUM(K183:O183) -> 0 | Q183: =+P183*J183 -> 0
C184: =+C183 -> extratrack | D184: DEVASTANTE | E184: T-SHIRT | F184: CORTA | G184: FAIR TRADE | H184: BLU baltico | I184: bianca | J184: 12.6 | P184: =SUM(K184:O184) -> 0 | Q184: =+P184*J184 -> 0
... C189: =+C188 -> extratrack | D189: DEVASTANTE | E189: T-SHIRT | F189: CORTA | G189: BIO | H189: blu navy | I189: bianca | J189: 9.6 | P189: =SUM(K189:O189) -> 0 | Q189: =+P189*J189 -> 0
C190: =+C188 -> extratrack | D190: DEVASTANTE | E190: T-SHIRT | F190: CORTA | G190: BIO | H190: nera | I190: bianca | J190: 9.6 | P190: =SUM(K190:O190) -> 0 | Q190: =+P190*J190 -> 0
C191: =+C190 -> extratrack | D191: DEVASTANTE | E191: T-SHIRT | F191: CORTA | G191: BIO | H191: rosso | I191: bianca | J191: 9.6 | P191: =SUM(K191:O191) -> 0 | Q191: =+P191*J191 -> 0
C192: =+C191 -> extratrack | D192: DEVASTANTE | E192: T-SHIRT | F192: CORTA | G192: BIO | H192: bianca | I192: nero | J192: 9.6 | P192: =SUM(K192:O192) -> 0 | Q192: =+P192*J192 -> 0
C193: extratrack | D193: HARING | E193: TOTE BAG | G193: FAIR TRADE | H193: ecru | I193: arcobaleno | J193: 5 | P193: =SUM(K193:O193) -> 0 | Q193: =+P193*J193 -> 0
C194: extratrack | D194: SAFFO | E194: TOTE BAG | G194: FAIR TRADE | H194: ecru | I194: nera | J194: 5 | P194: =SUM(K194:O194) -> 0 | Q194: =+P194*J194 -> 0
A195: RA | C195: extratrack | D195: RANA PLAZA | E195: TOTE BAG | G195: FAIR TRADE | H195: ecru | I195: arcobaleno | J195: 5 | P195: =SUM(K195:O195) -> 0 | Q195: =+P195*J195 -> 0
A196: RA | C196: extratrack | D196: BELLA CIAO | E196: TOTE BAG | G196: FAIR TRADE | H196: ecru | I196: nera, rossa | J196: 5 | P196: =SUM(K196:O196) -> 0 | Q196: =+P196*J196 -> 0
C197: extratrack | D197: CAFFE' | E197: TOTE BAG | G197: FAIR TRADE | H197: ecru | I197: nera | J197: 5 | P197: =SUM(K197:O197) -> 0 | Q197: =+P197*J197 -> 0
C198: extratrack | D198: ATTIVISTA | E198: TOTE BAG | G198: FAIR TRADE | H198: ecru | I198: nera | J198: 5 | P198: =SUM(K198:O198) -> 0 | Q198: =+P198*J198 -> 0
C199: extratrack | D199: OPRESS | E199: TOTE BAG | G199: FAIR TRADE | H199: ecru | I199: nera | J199: 5 | P199: =SUM(K199:O199) -> 0 | Q199: =+P199*J199 -> 0
C200: extratrack | D200: GAGARIN | E200: TOTE BAG | G200: FAIR TRADE | H200: ecru | I200: nera | J200: 5 | P200: =SUM(K200:O200) -> 0 | Q200: =+P200*J200 -> 0

Sheet Ordine_|_DDT
C2: ORDINE / DOCUMENTO DI TRASPORTO
C4: DATI DESTINATARIO
B5: Ragione Sociale | C5: =+'Modulo_D''Ordine_PE 26'!E2 -> 0 | I5: DDT N° | L5: tot pezzi | M5: =SUM(M14:M203) -> 0
B6: Destinazione Merce | C6: =+'Modulo_D''Ordine_PE 26'!E6 -> 0 | I6: del
L7: tot valore | M7: =M9+M8 -> 0
I8: N° COLLI | L8: di cui iva al 22% | M8: =M9*0.22 -> 0
B9: Telefono | C9: =+'Modulo_D''Ordine_PE 26'!J6 -> 0 | I9: PESO | L9: di cui imponibile | M9: =SUM(N14:N203) -> 0
A13: descrizione | B13: referenza | C13: manica | D13: tipologia | E13: colore referenza | F13: colore stampa | G13: c.unitario (iva escl) | H13: S | I13: M | J13: L | K13: XL | L13: XXL | M13: tot pezzi | N13: tot valore
A14: ='Modulo_D''Ordine_PE 26'!D11 -> BELLA CIAO | B14: ='Modulo_D''Ordine_PE 26'!E11 -> T-SHIRT | C14: ='Modulo_D''Ordine_PE 26'!F11 -> CORTA | D14: ='Modulo_D''Ordine_PE 26'!G11 -> FAIR TRADE | E14: ='Modulo_D''Ordine_PE 26'!H11 -> nera | F14: ='Modulo_D''Ordine_PE 26'!I11 -> bianca, rossa | G14: ='Modulo_D''Ordine_PE 26'!J11 -> 12.6 | H14: ='Modulo_D''Ordine_PE 26'!K11 -> 0 | ... N14: ='Modulo_D''Ordine_PE 26'!Q11 -> 0
A15: ='Modulo_D''Ordine_PE 26'!D12 -> BELLA CIAO | B15: ='Modulo_D''Ordine_PE 26'!E12 -> T-SHIRT | C15: ='Modulo_D''Ordine_PE 26'!F12 -> CORTA | D15: ='Modulo_D''Ordine_PE 26'!G12 -> FAIR TRADE | E15: ='Modulo_D''Ordine_PE 26'!H12 -> rosso | F15: ='Modulo_D''Ordine_PE 26'!I12 -> bianca | G15: ='Modulo_D''Ordine_PE 26'!J12 -> 12.6 | H15: ='Modulo_D''Ordine_PE 26'!K12 -> 0 | ... N15: ='Modulo_D''Ordine_PE 26'!Q12 -> 0
A16: ='Modulo_D''Ordine_PE 26'!D13 -> BELLA CIAO | B16: ='Modulo_D''Ordine_PE 26'!E13 -> T-SHIRT | C16: ='Modulo_D''Ordine_PE 26'!F13 -> CORTA | D16: ='Modulo_D''Ordine_PE 26'!G13 -> FAIR TRADE | E16: ='Modulo_D''Ordine_PE 26'!H13 -> bianca | F16: ='Modulo_D''Ordine_PE 26'!I13 -> nera rossa | G16: ='Modulo_D''Ordine_PE 26'!J13 -> 12.6 | H16: ='Modulo_D''Ordine_PE 26'!K13 -> 0 | ... N16: ='Modulo_D''Ordine_PE 26'!Q13 -> 0
A17: ='Modulo_D''Ordine_PE 26'!D14 -> BELLA CIAO | B17: ='Modulo_D''Ordine_PE 26'!E14 -> T-SHIRT DONNA | C17: ='Modulo_D''Ordine_PE 26'!F14 -> CORTA | D17: ='Modulo_D''Ordine_PE 26'!G14 -> FAIR TRADE | E17: ='Modulo_D''Ordine_PE 26'!H14 -> bianca | F17: ='Modulo_D''Ordine_PE 26'!I14 -> nera rossa | G17: ='Modulo_D''Ordine_PE 26'!J14 -> 12.6 | H17: ='Modulo_D''Ordine_PE 26'!K14 -> 0 | ... N17: ='Modulo_D''Ordine_PE 26'!Q14 -> 0
A18: ='Modulo_D''Ordine_PE 26'!D15 -> BELLA CIAO | B18: ='Modulo_D''Ordine_PE 26'!E15 -> T-SHIRT | C18: ='Modulo_D''Ordine_PE 26'!F15 -> CORTA | D18: ='Modulo_D''Ordine_PE 26'!G15 -> BIO | E18: ='Modulo_D''Ordine_PE 26'!H15 -> nera | F18: ='Modulo_D''Ordine_PE 26'!I15 -> bianca, rossa | G18: ='Modulo_D''Ordine_PE 26'!J15 -> 9.6 | H18: ='Modulo_D''Ordine_PE 26'!K15 -> 0 | ... N18: ='Modulo_D''Ordine_PE 26'!Q15 -> 0
A19: ='Modulo_D''Ordine_PE 26'!D16 -> BELLA CIAO | B19: ='Modulo_D''Ordine_PE 26'!E16 -> T-SHIRT | C19: ='Modulo_D''Ordine_PE 26'!F16 -> CORTA | D19: ='Modulo_D''Ordine_PE 26'!G16 -> BIO | E19: ='Modulo_D''Ordine_PE 26'!H16 -> rosso | F19: ='Modulo_D''Ordine_PE 26'!I16 -> bianca | G19: ='Modulo_D''Ordine_PE 26'!J16 -> 9.6 | H19: ='Modulo_D''Ordine_PE 26'!K16 -> 0 | ... N19: ='Modulo_D''Ordine_PE 26'!Q16 -> 0
A20: ='Modulo_D''Ordine_PE 26'!D17 -> BELLA CIAO | B20: ='Modulo_D''Ordine_PE 26'!E17 -> T-SHIRT | C20: ='Modulo_D''Ordine_PE 26'!F17 -> CORTA | D20: ='Modulo_D''Ordine_PE 26'!G17 -> BIO | E20: ='Modulo_D''Ordine_PE 26'!H17 -> bianca | F20: ='Modulo_D''Ordine_PE 26'!I17 -> nera rossa | G20: ='Modulo_D''Ordine_PE 26'!J17 -> 9.6 | H20: ='Modulo_D''Ordine_PE 26'!K17 -> 0 | ... N20: ='Modulo_D''Ordine_PE 26'!Q17 -> 0
A21: ='Modulo_D''Ordine_PE 26'!D18 -> PROTEGGI IL PIANETA | B21: ='Modulo_D''Ordine_PE 26'!E18 -> T-SHIRT | C21: ='Modulo_D''Ordine_PE 26'!F18 -> CORTA | D21: ='Modulo_D''Ordine_PE 26'!G18 -> FAIR TRADE | E21: ='Modulo_D''Ordine_PE 26'!H18 -> BLU baltico | F21: ='Modulo_D''Ordine_PE 26'!I18 -> verde | G21: ='Modulo_D''Ordine_PE 26'!J18 -> 12.6 | H21: ='Modulo_D''Ordine_PE 26'!K18 -> 0 | ... N21: ='Modulo_D''Ordine_PE 26'!Q18 -> 0
A22: ='Modulo_D''Ordine_PE 26'!D19 -> PROTEGGI IL PIANETA | B22: ='Modulo_D''Ordine_PE 26'!E19 -> T-SHIRT | C22: ='Modulo_D''Ordine_PE 26'!F19 -> CORTA | D22: ='Modulo_D''Ordine_PE 26'!G19 -> FAIR TRADE | E22: ='Modulo_D''Ordine_PE 26'!H19 -> nera | F22: ='Modulo_D''Ordine_PE 26'!I19 -> verde | G22: ='Modulo_D''Ordine_PE 26'!J19 -> 12.6 | H22: ='Modulo_D''Ordine_PE 26'!K19 -> 0 | ... N22: ='Modulo_D''Ordine_PE 26'!Q19 -> 0
A23: ='Modulo_D''Ordine_PE 26'!D20 -> PROTEGGI IL PIANETA | B23: ='Modulo_D''Ordine_PE 26'!E20 -> T-SHIRT | C23: ='Modulo_D''Ordine_PE 26'!F20 -> CORTA | D23: ='Modulo_D''Ordine_PE 26'!G20 -> FAIR TRADE | E23: ='Modulo_D''Ordine_PE 26'!H20 -> rosso | F23: ='Modulo_D''Ordine_PE 26'!I20 -> verde | G23: ='Modulo_D''Ordine_PE 26'!J20 -> 12.6 | H23: ='Modulo_D''Ordine_PE 26'!K20 -> 0 | ... N23: ='Modulo_D''Ordine_PE 26'!Q20 -> 0
A24: ='Modulo_D''Ordine_PE 26'!D21 -> PROTEGGI IL PIANETA | B24: ='Modulo_D''Ordine_PE 26'!E21 -> T-SHIRT | C24: ='Modulo_D''Ordine_PE 26'!F21 -> CORTA | D24: ='Modulo_D''Ordine_PE 26'!G21 -> FAIR TRADE | E24: ='Modulo_D''Ordine_PE 26'!H21 -> bianca | F24: ='Modulo_D''Ordine_PE 26'!I21 -> verde | G24: ='Modulo_D''Ordine_PE 26'!J21 -> 12.6 | H24: ='Modulo_D''Ordine_PE 26'!K21 -> 0 | ... N24: ='Modulo_D''Ordine_PE 26'!Q21 -> 0
A25: ='Modulo_D''Ordine_PE 26'!D22 -> PROTEGGI IL PIANETA | B25: ='Modulo_D''Ordine_PE 26'!E22 -> T-SHIRT DONNA | C25: ='Modulo_D''Ordine_PE 26'!F22 -> CORTA | D25: ='Modulo_D''Ordine_PE 26'!G22 -> FAIR TRADE | E25: ='Modulo_D''Ordine_PE 26'!H22 -> bianca | F25: ='Modulo_D''Ordine_PE 26'!I22 -> verde | G25: ='Modulo_D''Ordine_PE 26'!J22 -> 12.6 | H25: ='Modulo_D''Ordine_PE 26'!K22 -> 0 | ... N25: ='Modulo_D''Ordine_PE 26'!Q22 -> 0
... A203: ='Modulo_D''Ordine_PE 26'!D200 -> GAGARIN | B203: ='Modulo_D''Ordine_PE 26'!E200 -> TOTE BAG | C203: ='Modulo_D''Ordine_PE 26'!F200 -> 0 | D203: ='Modulo_D''Ordine_PE 26'!G200 -> FAIR TRADE | E203: ='Modulo_D''Ordine_PE 26'!H200 -> ecru | F203: ='Modulo_D''Ordine_PE 26'!I200 -> nera | G203: ='Modulo_D''Ordine_PE 26'!J200 -> 5 | H203: ='Modulo_D''Ordine_PE 26'!K200 -> 0 | ... N203: ='Modulo_D''Ordine_PE 26'!Q200 -> 0

Sheet PVP_MARGINE
A1: 2023 | B1: 2024
C3: iva esclusa
C4: costo | D4: pvp consigliato | E4: margine in € | F4: margine in %
A5: TEES MANICA CORTA BIO | B5: TEES MANICA CORTA BIO | C5: 9.6 | D5: =20/1.22 -> 16.393443 | E5: =+D5-C5 -> 6.7934426 | F5: =+E5/D5 -> 0.4144
A6: TEES MANICA CORTA FAIR TRADE | B6: TEES MANICA CORTA FAIR TRADE | C6: 12.6 | D6: =26/1.22 -> 21.311475 | E6: =+D6-C6 -> 8.7114754 | F6: =+E6/D6 -> 0.40876923
A7: TEES MANICA LUNGA FT UNISEX | B7: TEES MANICA LUNGA FT UNISEX | C7: 16.5 | D7: =32/1.22 -> 26.229508 | E7: =+D7-C7 -> 9.7295082 | F7: =+E7/D7 -> 0.3709375
B8: TEES MANICA LUNGA FT DONNA | C8: 16.5 | D8: =32/1.22 -> 26.229508 | E8: =+D8-C8 -> 9.7295082 | F8: =+E8/D8 -> 0.3709375
A9: FELPA BIO | B9: FELPA FT CAPPUCCIO | C9: 35 | D9: =D19/1.22 -> 49.180328 | E9: =+D9-C9 -> 14.180328 | F9: =+E9/D9 -> 0.28833333
A10: FELPA BIO CAPPUCCIO | B10: TOTE BAG FAIR TRADE | C10: 2.5 | D10: =5.9/1.22 -> 4.8360656 | E10: =+D10-C10 -> 2.3360656 | F10: =+E10/D10 -> 0.48305085
B11: TOTE BAG BIO | C11: 2.5 | D11: =5.9/1.22 -> 4.8360656 | E11: =+D11-C11 -> 2.3360656 | F11: =+E11/D11 -> 0.48305085
C13: iva inclusa
C14: costo | D14: pvp consigliato | E14: margine in € | F14: margine in %
A15: TEES MANICA CORTA BIO | B15: TEES MANICA CORTA BIO | C15: =+C5*1.22 -> 11.712 | D15: =+D5*1.22 -> 20 | E15: =+D15-C15 -> 8.288 | F15: =+E15/D15 -> 0.4144
A16: TEES MANICA CORTA FAIR TRADE | B16: TEES MANICA CORTA FAIR TRADE | C16: =+C6*1.22 -> 15.372 | D16: =+D6*1.22 -> 26 | E16: =+D16-C16 -> 10.628 | F16: =+E16/D16 -> 0.40876923
A17: TEES MANICA LUNGA FT UNISEX | B17: TEES MANICA LUNGA FT UNISEX | C17: =+C7*1.22 -> 20.13 | D17: =+D7*1.22 -> 32 | E17: =+D17-C17 -> 11.87 | F17: =+E17/D17 -> 0.3709375
B18: TEES MANICA LUNGA FT DONNA | C18: =C8*1.22 -> 20.13 | D18: 32 | E18: =+D18-C18 -> 11.87 | F18: =+E18/D18 -> 0.3709375
A19: FELPA BIO | B19: FELPA FT CAPPUCCIO | C19: =+C9*1.22 -> 42.7 | D19: 60 | E19: =+D19-C19 -> 17.3 | F19: =+E19/D19 -> 0.28833333
A20: FELPA BIO CAPPUCCIO | B20: TOTE BAG FAIR TRADE | C20: =+C10*1.22 -> 3.05 | D20: =D10*1.22 -> 5.9 | E20: =+D20-C20 -> 2.85 | F20: =+E20/D20 -> 0.48305085
B21: TOTE BAG BIO | C21: =+C11*1.22 -> 3.05 | D21: =D11*1.22 -> 5.9 | E21: =+D21-C21 -> 2.85 | F21: =+E21/D21 -> 0.48305085

Sheet Dati_per_Fattura
B2: DATI PER FATTURA
B4: =+'Modulo_D''Ordine_PE 26'!D2 -> Ragione Sociale | C4: =+'Modulo_D''Ordine_PE 26'!E2 -> 0
B5: =+'Modulo_D''Ordine_PE 26'!D3 -> Indirizzo Fatturazione | C5: =+'Modulo_D''Ordine_PE 26'!E3 -> 0
B6: =+'Modulo_D''Ordine_PE 26'!D4 -> Partita Iva | C6: =+'Modulo_D''Ordine_PE 26'!E4 -> 0
B7: =+'Modulo_D''Ordine_PE 26'!D5 -> Codice Univoco | C7: =+'Modulo_D''Ordine_PE 26'!E5 -> 0
B8: =+'Modulo_D''Ordine_PE 26'!D6 -> Destinazione Merce / orari | C8: =+'Modulo_D''Ordine_PE 26'!E6 -> 0
B9: =+'Modulo_D''Ordine_PE 26'!I6 -> Telefono | C9: =+'Modulo_D''Ordine_PE 26'!J6 -> 0
C11: TOT PZ | D11: VALORE UNITARIO | E11: VALORE TOTALE | F11: IVA 22% | G11: TOTALE FATTURA
B12: TEES MANICA CORTA BIO | C12: =#REF! -> #REF! | D12: =PVP_MARGINE!C5 -> 9.6 | E12: =D12*C12 -> #REF! | F12: =+E12*0.22 -> #REF! | G12: =SUM(E12:E17) -> #REF!
B13: TEES MANICA CORTA FAIR TRADE | C13: =#REF! -> #REF! | D13: =PVP_MARGINE!C6 -> 12.6 | E13: =D13*C13 -> #REF! | F13: =+E13*0.22 -> #REF!
B14: TEES MANICA LUNGA FT UNISEX | C14: =#REF! -> #REF! | D14: =PVP_MARGINE!C7 -> 16.5 | E14: =D14*C14 -> #REF! | F14: =+E14*0.22 -> #REF!
B15: TEES MANICA LUNGA FT DONNA | C15: =#REF! -> #REF! | D15: =PVP_MARGINE!C8 -> 16.5 | E15: =D15*C15 -> #REF! | F15: =+E15*0.22 -> #REF!
B16: FELPA FT CAPPUCCIO | C16: =#REF! -> #REF! | D16: =PVP_MARGINE!C9 -> 35 | E16: =D16*C16 -> #REF! | F16: =+E16*0.22 -> #REF!
B17: TOTE BAG FAIR TRADE | C17: =#REF! -> #REF! | D17: =PVP_MARGINE!C10 -> 2.5 | E17: =D17*C17 -> #REF! | F17: =+E17*0.22 -> #REF!
B18: TOTE BAG BIO | C18: =#REF! -> #REF! | D18: =PVP_MARGINE!C11 -> 2.5 | E18: =D18*C18 -> #REF! | F18: =+E18*0.22 -> #REF!
C20: =SUM(C12:C17) -> #REF! | E20: =SUM(E12:E17) -> #REF! | F20: =SUM(F12:F17) -> #REF!
