Workbook

Sheet Modulo_D'Ordine_AI26
E2: DATI ORDINANTE | L2: CONDIZIONI DI FORNITURA
D3: Ragione Sociale | Q3: tot pezzi ordine:
D4: Indirizzo Fatturazione | Q4: =SUM(Q12:Q784) -> 0
D5: Partita Iva | Q5: tot valore ordine:
D6: Codice Univoco | F6: mail: | I6: Telefono: | Q6: =SUM(R12:R784) -> 0
D7: Destinazione Merce e orari
E9: invia l'ordine a: opress@bottegasolidale.it
B11: autore / linea | C11: cantante | D11: descrizione | E11: referenza | F11: manica | G11: tipologia | H11: colore referenza | I11: colore stampa | J11: c.unitario (iva escl) | K11: XS | L11: S | M11: M | N11: L | O11: XL | P11: XXL | Q11: tot pezzi | R11: tot valore
C12: bandabardò | D12: SEMPRE ALLEGRI | E12: FELPA CON ZIP | F12: lunga | G12: FAIR TRADE | H12: nera | I12: bianca | J12: 35 | Q12: =SUM(L12:P12) -> 0 | R12: =+Q12*J12 -> 0
E13: FELPA INTERA | F13: lunga | G13: FAIR TRADE | H13: grigia | I13: bianca | J13: 30 | Q13: =SUM(L13:P13) -> 0 | R13: =+Q13*J13 -> 0
C14: bandabardò | D14: BEPPEANNA | E14: FELPA CON ZIP | F14: lunga | G14: FAIR TRADE | H14: nera | I14: bianca | J14: 35 | Q14: =SUM(L14:P14) -> 0 | R14: =+Q14*J14 -> 0
E15: FELPA INTERA | F15: lunga | G15: FAIR TRADE | H15: grigia | I15: bianca | J15: 30 | Q15: =SUM(L15:P15) -> 0 | R15: =+Q15*J15 -> 0
C16: de andré | D16: SMISURATA PREGHIERA | E16: FELPA CON ZIP | F16: lunga | G16: FAIR TRADE | H16: nera | I16: bianca | J16: 35 | Q16: =SUM(L16:P16) -> 0 | R16: =+Q16*J16 -> 0
E17: FELPA INTERA | F17: lunga | G17: FAIR TRADE | H17: grigia | I17: bianca | J17: 30 | Q17: =SUM(L17:P17) -> 0 | R17: =+Q17*J17 -> 0
C18: extratrack | D18: HARING | E18: FELPA CON ZIP | F18: lunga | G18: FAIR TRADE | H18: nera | I18: bianca | J18: 35 | Q18: =SUM(L18:P18) -> 0 | R18: =+Q18*J18 -> 0
C19: extratrack | D19: HARING | E19: FELPA INTERA | F19: lunga | G19: FAIR TRADE | H19: grigia | I19: bianca | J19: 30 | Q19: =SUM(L19:P19) -> 0 | R19: =+Q19*J19 -> 0
C20: extratrack | D20: CHICCO DI CAFFE | E20: T-SHIRT | F20: CORTA | G20: FAIR TRADE | H20: bianco | I20: marrone/ beige | J20: 13 | Q20: =SUM(L20:P20) -> 0 | R20: =+Q20*J20 -> 0
C21: extratrack | D21: CHICCO DI CAFFE | E21: T-SHIRT | F21: CORTA | G21: FAIR TRADE | H21: nero | I21: beige/bianco | J21: 13 | Q21: =SUM(L21:P21) -> 0 | R21: =+Q21*J21 -> 0
C22: extratrack | D22: CHICCO DI CAFFE | E22: T-SHIRT UNISEX | F22: LUNGA | G22: FAIR TRADE | H22: nero | I22: beige/bianco | J22: 16.5 | Q22: =SUM(L22:P22) -> 0 | R22: =+Q22*J22 -> 0
C23: extratrack | D23: CHICCO DI CAFFE | E23: T-SHIRT DONNA | F23: LUNGA | G23: FAIR TRADE | H23: nero | I23: beige/bianco | J23: 16.5 | Q23: =SUM(L23:P23) -> 0 | R23: =+Q23*J23 -> 0
C24: extratrack | D24: CHICCO DI CAFFE | E24: T-SHIRT | F24: CORTA | G24: BIO | H24: bianco | I24: marrone/ beige | J24: 10 | Q24: =SUM(L24:P24) -> 0 | R24: =+Q24*J24 -> 0
C25: extratrack | D25: CHICCO DI CAFFE | E25: T-SHIRT | F25: CORTA | G25: BIO | H25: nero | I25: beige/bianco | J25: 10 | Q25: =SUM(L25:P25) -> 0 | R25: =+Q25*J25 -> 0
C26: extratrack | D26: GRAMSCI | E26: T-SHIRT | F26: CORTA | G26: FAIR TRADE | H26: BLU baltico | I26: bianca | J26: 13 | Q26: =SUM(L26:P26) -> 0 | R26: =+Q26*J26 -> 0
C27: extratrack | D27: GRAMSCI | E27: T-SHIRT | F27: CORTA | G27: FAIR TRADE | H27: bianco | I27: nero | J27: 13 | Q27: =SUM(L27:P27) -> 0 | R27: =+Q27*J27 -> 0
C28: extratrack | D28: GRAMSCI | E28: T-SHIRT | F28: CORTA | G28: FAIR TRADE | H28: nero | I28: bianca | J28: 13 | Q28: =SUM(L28:P28) -> 0 | R28: =+Q28*J28 -> 0
C29: extratrack | D29: GRAMSCI | E29: T-SHIRT | F29: CORTA | G29: FAIR TRADE | H29: rosso | I29: bianca | J29: 13 | Q29: =SUM(L29:P29) -> 0 | R29: =+Q29*J29 -> 0
... C45: extratrack | D45: THINKING RIGHT | E45: T-SHIRT | F45: CORTA | G45: BIO | H45: nero | I45: verde | J45: 10 | Q45: =SUM(L45:P45) -> 0 | R45: =+Q45*J45 -> 0
C46: extratrack | D46: FREE PALESTINE | E46: T-SHIRT | F46: CORTA | G46: FAIR TRADE | H46: bianco | J46: 13 | Q46: =SUM(L46:P46) -> 0 | R46: =+Q46*J46 -> 0
D47: FREE PALESTINE | E47: T-SHIRT | F47: CORTA | G47: BIO | H47: bianco | J47: 10 | Q47: =SUM(L47:P47) -> 0 | R47: =+Q47*J47 -> 0
C48: extratrack | D48: AUGURI | E48: T-SHIRT | F48: CORTA | G48: FAIR TRADE | H48: rossa | I48: bianca | J48: 13 | Q48: =SUM(L48:P48) -> 0 | R48: =+Q48*J48 -> 0
D49: AUGURI | E49: T-SHIRT | F49: CORTA | G49: BIO | H49: rossa | I49: bianca | J49: 10 | Q49: =SUM(L49:P49) -> 0 | R49: =+Q49*J49 -> 0
C50: extratrack | D50: BELLA CIAO | E50: T-SHIRT | F50: CORTA | G50: FAIR TRADE | H50: bianco | I50: nero/rosso | J50: 13 | Q50: =SUM(L50:P50) -> 0 | R50: =+Q50*J50 -> 0
C51: extratrack | D51: BELLA CIAO | E51: T-SHIRT | F51: CORTA | G51: FAIR TRADE | H51: nero | I51: bianca/rosso | J51: 13 | Q51: =SUM(L51:P51) -> 0 | R51: =+Q51*J51 -> 0
C52: extratrack | D52: BELLA CIAO | E52: T-SHIRT | F52: CORTA | G52: FAIR TRADE | H52: Rosso | I52: nera | J52: 13 | Q52: =SUM(L52:P52) -> 0 | R52: =+Q52*J52 -> 0
C53: extratrack | D53: BELLA CIAO | E53: T-SHIRT UNISEX | F53: LUNGA | G53: FAIR TRADE | H53: nero | I53: bianca/rosso | J53: 16.5 | Q53: =SUM(L53:P53) -> 0 | R53: =+Q53*J53 -> 0
C54: extratrack | D54: BELLA CIAO | E54: T-SHIRT DONNA | F54: LUNGA | G54: FAIR TRADE | H54: nero | I54: bianca/rosso | J54: 16.5 | Q54: =SUM(L54:P54) -> 0 | R54: =+Q54*J54 -> 0
C55: extratrack | D55: BELLA CIAO | E55: T-SHIRT | F55: CORTA | G55: BIO | H55: bianco | I55: nero/rosso | J55: 10 | Q55: =SUM(L55:P55) -> 0 | R55: =+Q55*J55 -> 0
C56: extratrack | D56: BELLA CIAO | E56: T-SHIRT | F56: CORTA | G56: BIO | H56: nero | I56: bianca/rosso | J56: 10 | Q56: =SUM(L56:P56) -> 0 | R56: =+Q56*J56 -> 0
C57: extratrack | D57: BELLA CIAO | E57: T-SHIRT | F57: CORTA | G57: BIO | H57: Rosso | I57: nera | J57: 10 | Q57: =SUM(L57:P57) -> 0 | R57: =+Q57*J57 -> 0
C58: extratrack | D58: RANA PLAZA | E58: T-SHIRT | F58: CORTA | G58: FAIR TRADE | H58: bianco | I58: arcobaleno | J58: 13 | Q58: =SUM(L58:P58) -> 0 | R58: =+Q58*J58 -> 0
C59: extratrack | D59: RANA PLAZA | E59: T-SHIRT | F59: CORTA | G59: FAIR TRADE | H59: nero | I59: arcobaleno | J59: 13 | Q59: =SUM(L59:P59) -> 0 | R59: =+Q59*J59 -> 0
C60: extratrack | D60: RANA PLAZA | E60: T-SHIRT UNISEX | F60: LUNGA | G60: FAIR TRADE | H60: nero | I60: arcobaleno | J60: 16.5 | Q60: =SUM(L60:P60) -> 0 | R60: =+Q60*J60 -> 0
C61: extratrack | D61: RANA PLAZA | E61: T-SHIRT DONNA | F61: LUNGA | G61: FAIR TRADE | H61: nero | I61: arcobaleno | J61: 16.5 | Q61: =SUM(L61:P61) -> 0 | R61: =+Q61*J61 -> 0
... C90: de andré | D90: AMICO FRAGILE | E90: T-SHIRT | F90: CORTA | G90: BIO | H90: blu navy | I90: bianca | J90: 10 | Q90: =SUM(L90:P90) -> 0 | R90: =+Q90*J90 -> 0
C91: de andré | D91: AMICO FRAGILE | E91: T-SHIRT | G91: BIO | H91: bianco | I91: nero | J91: 10 | Q91: =SUM(L91:P91) -> 0 | R91: =+Q91*J91 -> 0
C92: de andré | D92: AMICO FRAGILE | E92: T-SHIRT | F92: CORTA | G92: BIO | H92: nero | I92: bianca | J92: 10 | Q92: =SUM(L92:P92) -> 0 | R92: =+Q92*J92 -> 0
C93: de andré | D93: AMICO FRAGILE | E93: T-SHIRT | F93: CORTA | G93: BIO | H93: rosso | I93: bianca | J93: 10 | Q93: =SUM(L93:P93) -> 0 | R93: =+Q93*J93 -> 0
C94: de andré | D94: CANZONE DEL MAGGIO | E94: T-SHIRT | F94: CORTA | G94: FAIR TRADE | H94: BLU baltico | I94: bianca | J94: 13 | Q94: =SUM(L94:P94) -> 0 | R94: =+Q94*J94 -> 0
C95: de andré | D95: CANZONE DEL MAGGIO | E95: T-SHIRT | F95: CORTA | G95: FAIR TRADE | H95: bianco | I95: nero | J95: 13 | Q95: =SUM(L95:P95) -> 0 | R95: =+Q95*J95 -> 0
C96: de andré | D96: CANZONE DEL MAGGIO | E96: T-SHIRT | F96: CORTA | G96: FAIR TRADE | H96: nero | I96: bianca | J96: 13 | Q96: =SUM(L96:P96) -> 0 | R96: =+Q96*J96 -> 0
C97: de andré | D97: CANZONE DEL MAGGIO | E97: T-SHIRT | F97: CORTA | G97: FAIR TRADE | H97: rosso | I97: nero | J97: 13 | Q97: =SUM(L97:P97) -> 0 | R97: =+Q97*J97 -> 0
C98: de andré | D98: CANZONE DEL MAGGIO | E98: T SHIRT UNISEX | F98: LUNGA | G98: FAIR TRADE | H98: nero | I98: bianca | J98: 16.5 | Q98: =SUM(L98:P98) -> 0 | R98: =+Q98*J98 -> 0
C99: de andré | D99: CANZONE DEL MAGGIO | E99: T-SHIRT DONNA | F99: LUNGA | G99: FAIR TRADE | H99: nero | I99: bianca | J99: 16.5 | Q99: =SUM(L99:P99) -> 0 | R99: =+Q99*J99 -> 0
C100: de andré | D100: CANZONE DEL MAGGIO | E100: T-SHIRT | F100: CORTA | G100: BIO | H100: blu navy | I100: bianca | J100: 10 | Q100: =SUM(L100:P100) -> 0 | R100: =+Q100*J100 -> 0
C101: de andré | D101: CANZONE DEL MAGGIO | E101: T-SHIRT | F101: CORTA | G101: BIO | H101: bianco | I101: nero | J101: 10 | Q101: =SUM(L101:P101) -> 0 | R101: =+Q101*J101 -> 0
C102: de andré | D102: CANZONE DEL MAGGIO | E102: T-SHIRT | F102: CORTA | G102: BIO | H102: nero | I102: bianca | J102: 10 | Q102: =SUM(L102:P102) -> 0 | R102: =+Q102*J102 -> 0
C103: de andré | D103: CANZONE DEL MAGGIO | E103: T-SHIRT | F103: CORTA | G103: BIO | H103: rosso | I103: nero | J103: 10 | Q103: =SUM(L103:P103) -> 0 | R103: =+Q103*J103 -> 0
... C132: de andré | D132: UN MATTO | E132: T-SHIRT | F132: CORTA | G132: BIO | H132: nero | I132: bianca | J132: 10 | Q132: =SUM(L132:P132) -> 0 | R132: =+Q132*J132 -> 0
C133: =+C132 -> de andré | D133: UN MATTO | E133: T-SHIRT | F133: CORTA | G133: BIO | H133: rosso | I133: bianca | J133: 10 | Q133: =SUM(L133:P133) -> 0 | R133: =+Q133*J133 -> 0
C134: =+C133 -> de andré | D134: VIA DEL CAMPO | E134: T-SHIRT | F134: CORTA | G134: FAIR TRADE | H134: BLU baltico | I134: bianca | J134: 13 | Q134: =SUM(L134:P134) -> 0 | R134: =+Q134*J134 -> 0
C135: =+C133 -> de andré | D135: VIA DEL CAMPO | E135: T-SHIRT | F135: CORTA | G135: FAIR TRADE | H135: bianco | I135: nero | J135: 13 | Q135: =SUM(L135:P135) -> 0 | R135: =+Q135*J135 -> 0
C136: =+C134 -> de andré | D136: VIA DEL CAMPO | E136: T-SHIRT | F136: CORTA | G136: FAIR TRADE | H136: nero | I136: bianca | J136: 13 | Q136: =SUM(L136:P136) -> 0 | R136: =+Q136*J136 -> 0
C137: =+C136 -> de andré | D137: VIA DEL CAMPO | E137: T-SHIRT | F137: CORTA | G137: FAIR TRADE | H137: rosso | I137: bianca | J137: 13 | Q137: =SUM(L137:P137) -> 0 | R137: =+Q137*J137 -> 0
C138: =+C137 -> de andré | D138: VIA DEL CAMPO | E138: T SHIRT UNISEX | F138: LUNGA | G138: FAIR TRADE | H138: nero | I138: bianca | J138: 16.5 | Q138: =SUM(L138:P138) -> 0 | R138: =+Q138*J138 -> 0
C139: =+C138 -> de andré | D139: VIA DEL CAMPO | E139: T-SHIRT DONNA | F139: LUNGA | G139: FAIR TRADE | H139: nero | I139: bianca | J139: 16.5 | Q139: =SUM(L139:P139) -> 0 | R139: =+Q139*J139 -> 0
C140: =+C139 -> de andré | D140: VIA DEL CAMPO | E140: T-SHIRT | F140: CORTA | G140: BIO | H140: blu navy | I140: bianca | J140: 10 | Q140: =SUM(L140:P140) -> 0 | R140: =+Q140*J140 -> 0
C141: =+C139 -> de andré | D141: VIA DEL CAMPO | E141: T-SHIRT | F141: CORTA | G141: BIO | H141: bianco | I141: nero | J141: 10 | Q141: =SUM(L141:P141) -> 0 | R141: =+Q141*J141 -> 0
C142: =+C140 -> de andré | D142: VIA DEL CAMPO | E142: T-SHIRT | F142: CORTA | G142: BIO | H142: nero | I142: bianca | J142: 10 | Q142: =SUM(L142:P142) -> 0 | R142: =+Q142*J142 -> 0
C143: =+C142 -> de andré | D143: VIA DEL CAMPO | E143: T-SHIRT | F143: CORTA | G143: BIO | H143: rosso | I143: bianca | J143: 10 | Q143: =SUM(L143:P143) -> 0 | R143: =+Q143*J143 -> 0
C144: guccini | D144: CANZONE DI NOTTE N°2 | E144: T-SHIRT | F144: CORTA | G144: FAIR TRADE | H144: nero | I144: bianca | J144: 13 | Q144: =SUM(L144:P144) -> 0 | R144: =+Q144*J144 -> 0
C145: guccini | D145: CANZONE DI NOTTE N°2 | E145: T SHIRT UNISEX | F145: LUNGA | G145: FAIR TRADE | H145: nero | I145: bianca | J145: 16.5 | Q145: =SUM(L145:P145) -> 0 | R145: =+Q145*J145 -> 0
C146: guccini | D146: =+D144 -> CANZONE DI NOTTE N°2 | E146: T-SHIRT DONNA | F146: LUNGA | G146: FAIR TRADE | H146: nero | I146: bianca | J146: 16.5 | Q146: =SUM(L146:P146) -> 0 | R146: =+Q146*J146 -> 0
C147: guccini | D147: CANZONE DI NOTTE N°2 | E147: T-SHIRT | F147: CORTA | G147: BIO | H147: nero | I147: bianca | J147: 10 | Q147: =SUM(L147:P147) -> 0 | R147: =+Q147*J147 -> 0
C148: extratrack | D148: GAGARIN | E148: T-SHIRT | F148: CORTA | G148: FAIR TRADE | H148: BLU baltico | I148: bianca | J148: 13 | Q148: =SUM(L148:P148) -> 0 | R148: =+Q148*J148 -> 0
C149: extratrack | D149: GAGARIN | E149: T-SHIRT | F149: CORTA | G149: FAIR TRADE | H149: bianco | I149: nero | J149: 13 | Q149: =SUM(L149:P149) -> 0 | R149: =+Q149*J149 -> 0
C150: extratrack | D150: GAGARIN | E150: T-SHIRT | F150: CORTA | G150: FAIR TRADE | H150: nero | I150: bianca | J150: 13 | Q150: =SUM(L150:P150) -> 0 | R150: =+Q150*J150 -> 0
C151: extratrack | D151: GAGARIN | E151: T-SHIRT | F151: CORTA | G151: FAIR TRADE | H151: rosso | I151: bianca | J151: 13 | Q151: =SUM(L151:P151) -> 0 | R151: =+Q151*J151 -> 0
C152: extratrack | D152: GAGARIN | E152: T-SHIRT UNISEX | F152: LUNGA | G152: FAIR TRADE | H152: nero | I152: bianca | J152: 16.5 | Q152: =SUM(L152:P152) -> 0 | R152: =+Q152*J152 -> 0
C153: extratrack | D153: GAGARIN | E153: T-SHIRT DONNA | F153: LUNGA | G153: FAIR TRADE | H153: nero | I153: bianca | J153: 16.5 | Q153: =SUM(L153:P153) -> 0 | R153: =+Q153*J153 -> 0
C154: extratrack | D154: GAGARIN | E154: T-SHIRT | F154: CORTA | G154: BIO | H154: blu navy | I154: bianca | J154: 10 | Q154: =SUM(L154:P154) -> 0 | R154: =+Q154*J154 -> 0
C155: extratrack | D155: GAGARIN | E155: T-SHIRT | F155: CORTA | G155: BIO | H155: bianco | I155: nero | J155: 10 | Q155: =SUM(L155:P155) -> 0 | R155: =+Q155*J155 -> 0
C156: extratrack | D156: GAGARIN | E156: T-SHIRT | F156: CORTA | G156: BIO | H156: nero | I156: bianca | J156: 10 | Q156: =SUM(L156:P156) -> 0 | R156: =+Q156*J156 -> 0
C157: extratrack | D157: GAGARIN | E157: T-SHIRT | F157: CORTA | G157: BIO | H157: rosso | I157: bianca | J157: 10 | Q157: =SUM(L157:P157) -> 0 | R157: =+Q157*J157 -> 0
C158: extratrack | D158: I'M ORGANIC | E158: T-SHIRT | F158: CORTA | G158: FAIR TRADE | H158: BLU baltico | I158: bianca/verde | J158: 13 | Q158: =SUM(L158:P158) -> 0 | R158: =+Q158*J158 -> 0
... C168: extratrack | D168: HARING | E168: T-SHIRT | F168: CORTA | G168: FAIR TRADE | H168: BLU baltico | I168: bianca | J168: 13 | Q168: =SUM(L168:P168) -> 0 | R168: =+Q168*J168 -> 0
C169: =+C167 -> extratrack | D169: HARING | E169: T-SHIRT | F169: CORTA | G169: FAIR TRADE | H169: bianco | I169: arcobaleno | J169: 13 | Q169: =SUM(L169:P169) -> 0 | R169: =+Q169*J169 -> 0
C170: =+C168 -> extratrack | D170: HARING | E170: T-SHIRT | F170: CORTA | G170: FAIR TRADE | H170: nero | I170: bianca | J170: 13 | Q170: =SUM(L170:P170) -> 0 | R170: =+Q170*J170 -> 0
C171: =+C170 -> extratrack | D171: HARING | E171: T-SHIRT | F171: CORTA | G171: FAIR TRADE | H171: rosso | I171: bianca | J171: 13 | Q171: =SUM(L171:P171) -> 0 | R171: =+Q171*J171 -> 0
C172: =+C171 -> extratrack | D172: HARING | E172: T-SHIRT UNISEX | F172: LUNGA | G172: FAIR TRADE | H172: nero | I172: bianca | J172: 16.5 | Q172: =SUM(L172:P172) -> 0 | R172: =+Q172*J172 -> 0
C173: =+C172 -> extratrack | D173: HARING | E173: T-SHIRT DONNA | F173: LUNGA | G173: FAIR TRADE | H173: nero | I173: bianca | J173: 16.5 | Q173: =SUM(L173:P173) -> 0 | R173: =+Q173*J173 -> 0
C174: =+C173 -> extratrack | D174: HARING | E174: T-SHIRT | F174: CORTA | G174: BIO | H174: blu navy | I174: bianca | J174: 10 | Q174: =SUM(L174:P174) -> 0 | R174: =+Q174*J174 -> 0
C175: =+C173 -> extratrack | D175: HARING | E175: T-SHIRT | F175: CORTA | G175: BIO | H175: bianco | I175: arcobaleno | J175: 10 | Q175: =SUM(L175:P175) -> 0 | R175: =+Q175*J175 -> 0
C176: =+C171 -> extratrack | D176: HARING | E176: T-SHIRT | F176: CORTA | G176: BIO | H176: nero | I176: bianca | J176: 10 | Q176: =SUM(L176:P176) -> 0 | R176: =+Q176*J176 -> 0
C177: =+C176 -> extratrack | D177: HARING | E177: T-SHIRT | F177: CORTA | G177: BIO | H177: rosso | I177: bianca | J177: 10 | Q177: =SUM(L177:P177) -> 0 | R177: =+Q177*J177 -> 0
C178: =+C177 -> extratrack | D178: PROTEGGI IL TUO PIANETA | E178: T-SHIRT | F178: CORTA | G178: FAIR TRADE | H178: BLU baltico | I178: bianca | J178: 13 | Q178: =SUM(L178:P178) -> 0 | R178: =+Q178*J178 -> 0
C179: =+C177 -> extratrack | D179: PROTEGGI IL TUO PIANETA | E179: T-SHIRT | F179: CORTA | G179: FAIR TRADE | H179: bianco | I179: nero | J179: 13 | Q179: =SUM(L179:P179) -> 0 | R179: =+Q179*J179 -> 0
C180: =+C178 -> extratrack | D180: PROTEGGI IL TUO PIANETA | E180: T-SHIRT | F180: CORTA | G180: FAIR TRADE | H180: nero | I180: bianca | J180: 13 | Q180: =SUM(L180:P180) -> 0 | R180: =+Q180*J180 -> 0
C181: =+C179 -> extratrack | D181: PROTEGGI IL TUO PIANETA | E181: T-SHIRT UNISEX | F181: LUNGA | G181: FAIR TRADE | H181: nero | I181: bianca | J181: 16.5 | Q181: =SUM(L181:P181) -> 0 | R181: =+Q181*J181 -> 0
C182: =+C180 -> extratrack | D182: PROTEGGI IL TUO PIANETA | E182: T-SHIRT DONNA | F182: LUNGA | G182: FAIR TRADE | H182: nero | I182: bianca | J182: 16.5 | Q182: =SUM(L182:P182) -> 0 | R182: =+Q182*J182 -> 0
C183: =+C181 -> extratrack | D183: PROTEGGI IL TUO PIANETA | E183: T-SHIRT | F183: CORTA | G183: BIO | H183: blu navy | I183: bianca | J183: 10 | Q183: =SUM(L183:P183) -> 0 | R183: =+Q183*J183 -> 0
...

Sheet Ordine_|_DDT
C2: ORDINE / DOCUMENTO DI TRASPORTO
C4: DATI DESTINATARIO
B5: Ragione Sociale | C5: =+'Modulo_D''Ordine_AI26'!E3 -> 0 | J5: DDT N° | N5: tot pezzi | O5: =SUM(O14:O723) -> 0
B6: Destinazione Merce | C6: =+'Modulo_D''Ordine_AI26'!E7 -> 0 | J6: del
N7: tot valore | O7: =+O8+O9 -> 0
J8: N° COLLI | N8: di cui iva al 22% | O8: =+O9*0.22 -> 0
B9: Telefono | C9: =+'Modulo_D''Ordine_AI26'!J7 -> 0 | J9: PESO | N9: di cui imponibile | O9: =SUM(P14:P725) -> 0
B11: Corriere | E11: Firma per ritiro spedizione | J11: Firma Destinatario per consegna avvenuta
B13: descrizione | C13: =+'Modulo_D''Ordine_AI26'!E11 -> referenza | D13: =+'Modulo_D''Ordine_AI26'!F11 -> manica | E13: =+'Modulo_D''Ordine_AI26'!G11 -> tipologia | F13: =+'Modulo_D''Ordine_AI26'!H11 -> colore referenza | G13: =+'Modulo_D''Ordine_AI26'!I11 -> colore stampa | H13: =+'Modulo_D''Ordine_AI26'!J11 -> c.unitario (iva escl) | I13: =+'Modulo_D''Ordine_AI26'!K11 -> XS | J13: =+'Modulo_D''Ordine_AI26'!L11 -> S | ... P13: =+'Modulo_D''Ordine_AI26'!R11 -> tot valore
B14: SEMPRE ALLEGRI | C14: ='Modulo_D''Ordine_AI26'!E12 -> FELPA CON ZIP | D14: ='Modulo_D''Ordine_AI26'!F12 -> lunga | E14: ='Modulo_D''Ordine_AI26'!G12 -> FAIR TRADE | F14: ='Modulo_D''Ordine_AI26'!H12 -> nera | G14: ='Modulo_D''Ordine_AI26'!I12 -> bianca | H14: ='Modulo_D''Ordine_AI26'!J12 -> 35 | I14: =+'Modulo_D''Ordine_AI26'!K12 -> 0 | J14: ='Modulo_D''Ordine_AI26'!L12 -> 0 | K14: ='Modulo_D''Ordine_AI26'!M12 -> 0 | L14: ='Modulo_D''Ordine_AI26'!N12 -> 0 | M14: ='Modulo_D''Ordine_AI26'!O12 -> 0 | N14: ='Modulo_D''Ordine_AI26'!P12 -> 0 | O14: ='Modulo_D''Ordine_AI26'!Q12 -> 0 | P14: ='Modulo_D''Ordine_AI26'!R12 -> 0
B15: =+'Modulo_D''Ordine_AI26'!D12 -> SEMPRE ALLEGRI | C15: ='Modulo_D''Ordine_AI26'!E13 -> FELPA INTERA | D15: ='Modulo_D''Ordine_AI26'!F13 -> lunga | E15: ='Modulo_D''Ordine_AI26'!G13 -> FAIR TRADE | F15: ='Modulo_D''Ordine_AI26'!H13 -> grigia | G15: ='Modulo_D''Ordine_AI26'!I13 -> bianca | H15: ='Modulo_D''Ordine_AI26'!J13 -> 30 | I15: =+'Modulo_D''Ordine_AI26'!K13 -> 0 | J15: ='Modulo_D''Ordine_AI26'!L13 -> 0 | K15: ='Modulo_D''Ordine_AI26'!M13 -> 0 | L15: ='Modulo_D''Ordine_AI26'!N13 -> 0 | M15: ='Modulo_D''Ordine_AI26'!O13 -> 0 | N15: ='Modulo_D''Ordine_AI26'!P13 -> 0 | O15: ='Modulo_D''Ordine_AI26'!Q13 -> 0 | P15: ='Modulo_D''Ordine_AI26'!R13 -> 0
B16: BEPPEANNA | C16: ='Modulo_D''Ordine_AI26'!E14 -> FELPA CON ZIP | D16: ='Modulo_D''Ordine_AI26'!F14 -> lunga | E16: ='Modulo_D''Ordine_AI26'!G14 -> FAIR TRADE | F16: ='Modulo_D''Ordine_AI26'!H14 -> nera | G16: ='Modulo_D''Ordine_AI26'!I14 -> bianca | H16: ='Modulo_D''Ordine_AI26'!J14 -> 35 | I16: =+'Modulo_D''Ordine_AI26'!K14 -> 0 | J16: ='Modulo_D''Ordine_AI26'!L14 -> 0 | K16: ='Modulo_D''Ordine_AI26'!M14 -> 0 | L16: ='Modulo_D''Ordine_AI26'!N14 -> 0 | M16: ='Modulo_D''Ordine_AI26'!O14 -> 0 | N16: ='Modulo_D''Ordine_AI26'!P14 -> 0 | O16: ='Modulo_D''Ordine_AI26'!Q14 -> 0 | P16: ='Modulo_D''Ordine_AI26'!R14 -> 0
B17: BEPPEANNA | C17: ='Modulo_D''Ordine_AI26'!E15 -> FELPA INTERA | D17: ='Modulo_D''Ordine_AI26'!F15 -> lunga | E17: ='Modulo_D''Ordine_AI26'!G15 -> FAIR TRADE | F17: ='Modulo_D''Ordine_AI26'!H15 -> grigia | G17: ='Modulo_D''Ordine_AI26'!I15 -> bianca | H17: ='Modulo_D''Ordine_AI26'!J15 -> 30 | I17: =+'Modulo_D''Ordine_AI26'!K15 -> 0 | J17: ='Modulo_D''Ordine_AI26'!L15 -> 0 | K17: ='Modulo_D''Ordine_AI26'!M15 -> 0 | L17: ='Modulo_D''Ordine_AI26'!N15 -> 0 | M17: ='Modulo_D''Ordine_AI26'!O15 -> 0 | N17: ='Modulo_D''Ordine_AI26'!P15 -> 0 | O17: ='Modulo_D''Ordine_AI26'!Q15 -> 0 | P17: ='Modulo_D''Ordine_AI26'!R15 -> 0
B18: SMISURATA PREGHIERA | C18: ='Modulo_D''Ordine_AI26'!E16 -> FELPA CON ZIP | D18: ='Modulo_D''Ordine_AI26'!F16 -> lunga | E18: ='Modulo_D''Ordine_AI26'!G16 -> FAIR TRADE | F18: ='Modulo_D''Ordine_AI26'!H16 -> nera | G18: ='Modulo_D''Ordine_AI26'!I16 -> bianca | H18: ='Modulo_D''Ordine_AI26'!J16 -> 35 | I18: =+'Modulo_D''Ordine_AI26'!K16 -> 0 | J18: ='Modulo_D''Ordine_AI26'!L16 -> 0 | K18: ='Modulo_D''Ordine_AI26'!M16 -> 0 | L18: ='Modulo_D''Ordine_AI26'!N16 -> 0 | M18: ='Modulo_D''Ordine_AI26'!O16 -> 0 | N18: ='Modulo_D''Ordine_AI26'!P16 -> 0 | O18: ='Modulo_D''Ordine_AI26'!Q16 -> 0 | P18: ='Modulo_D''Ordine_AI26'!R16 -> 0
B19: SMISURATA PREGHIERA | C19: ='Modulo_D''Ordine_AI26'!E17 -> FELPA INTERA | D19: ='Modulo_D''Ordine_AI26'!F17 -> lunga | E19: ='Modulo_D''Ordine_AI26'!G17 -> FAIR TRADE | F19: ='Modulo_D''Ordine_AI26'!H17 -> grigia | G19: ='Modulo_D''Ordine_AI26'!I17 -> bianca | H19: ='Modulo_D''Ordine_AI26'!J17 -> 30 | I19: =+'Modulo_D''Ordine_AI26'!K17 -> 0 | J19: ='Modulo_D''Ordine_AI26'!L17 -> 0 | K19: ='Modulo_D''Ordine_AI26'!M17 -> 0 | L19: ='Modulo_D''Ordine_AI26'!N17 -> 0 | M19: ='Modulo_D''Ordine_AI26'!O17 -> 0 | N19: ='Modulo_D''Ordine_AI26'!P17 -> 0 | O19: ='Modulo_D''Ordine_AI26'!Q17 -> 0 | P19: ='Modulo_D''Ordine_AI26'!R17 -> 0
B20: HARING | C20: ='Modulo_D''Ordine_AI26'!E18 -> FELPA CON ZIP | D20: ='Modulo_D''Ordine_AI26'!F18 -> lunga | E20: ='Modulo_D''Ordine_AI26'!G18 -> FAIR TRADE | F20: ='Modulo_D''Ordine_AI26'!H18 -> nera | G20: ='Modulo_D''Ordine_AI26'!I18 -> bianca | H20: ='Modulo_D''Ordine_AI26'!J18 -> 35 | I20: =+'Modulo_D''Ordine_AI26'!K18 -> 0 | J20: ='Modulo_D''Ordine_AI26'!L18 -> 0 | K20: ='Modulo_D''Ordine_AI26'!M18 -> 0 | L20: ='Modulo_D''Ordine_AI26'!N18 -> 0 | M20: ='Modulo_D''Ordine_AI26'!O18 -> 0 | N20: ='Modulo_D''Ordine_AI26'!P18 -> 0 | O20: ='Modulo_D''Ordine_AI26'!Q18 -> 0 | P20: ='Modulo_D''Ordine_AI26'!R18 -> 0
B21: HARING | C21: ='Modulo_D''Ordine_AI26'!E19 -> FELPA INTERA | D21: ='Modulo_D''Ordine_AI26'!F19 -> lunga | E21: ='Modulo_D''Ordine_AI26'!G19 -> FAIR TRADE | F21: ='Modulo_D''Ordine_AI26'!H19 -> grigia | G21: ='Modulo_D''Ordine_AI26'!I19 -> bianca | H21: ='Modulo_D''Ordine_AI26'!J19 -> 30 | I21: =+'Modulo_D''Ordine_AI26'!K19 -> 0 | J21: ='Modulo_D''Ordine_AI26'!L19 -> 0 | K21: ='Modulo_D''Ordine_AI26'!M19 -> 0 | L21: ='Modulo_D''Ordine_AI26'!N19 -> 0 | M21: ='Modulo_D''Ordine_AI26'!O19 -> 0 | N21: ='Modulo_D''Ordine_AI26'!P19 -> 0 | O21: ='Modulo_D''Ordine_AI26'!Q19 -> 0 | P21: ='Modulo_D''Ordine_AI26'!R19 -> 0
B22: ='Modulo_D''Ordine_AI26'!D20 -> CHICCO DI CAFFE | C22: ='Modulo_D''Ordine_AI26'!E20 -> T-SHIRT | D22: ='Modulo_D''Ordine_AI26'!F20 -> CORTA | E22: ='Modulo_D''Ordine_AI26'!G20 -> FAIR TRADE | F22: ='Modulo_D''Ordine_AI26'!H20 -> bianco | G22: ='Modulo_D''Ordine_AI26'!I20 -> marrone/ beige | H22: ='Modulo_D''Ordine_AI26'!J20 -> 13 | I22: =+'Modulo_D''Ordine_AI26'!K20 -> 0 | J22: ='Modulo_D''Ordine_AI26'!L20 -> 0 | K22: ='Modulo_D''Ordine_AI26'!M20 -> 0 | L22: ='Modulo_D''Ordine_AI26'!N20 -> 0 | M22: ='Modulo_D''Ordine_AI26'!O20 -> 0 | N22: ='Modulo_D''Ordine_AI26'!P20 -> 0 | O22: ='Modulo_D''Ordine_AI26'!Q20 -> 0 | P22: ='Modulo_D''Ordine_AI26'!R20 -> 0
B23: ='Modulo_D''Ordine_AI26'!D21 -> CHICCO DI CAFFE | C23: ='Modulo_D''Ordine_AI26'!E21 -> T-SHIRT | D23: ='Modulo_D''Ordine_AI26'!F21 -> CORTA | E23: ='Modulo_D''Ordine_AI26'!G21 -> FAIR TRADE | F23: ='Modulo_D''Ordine_AI26'!H21 -> nero | G23: ='Modulo_D''Ordine_AI26'!I21 -> beige/bianco | H23: ='Modulo_D''Ordine_AI26'!J21 -> 13 | I23: =+'Modulo_D''Ordine_AI26'!K21 -> 0 | J23: ='Modulo_D''Ordine_AI26'!L21 -> 0 | K23: ='Modulo_D''Ordine_AI26'!M21 -> 0 | L23: ='Modulo_D''Ordine_AI26'!N21 -> 0 | M23: ='Modulo_D''Ordine_AI26'!O21 -> 0 | N23: ='Modulo_D''Ordine_AI26'!P21 -> 0 | O23: ='Modulo_D''Ordine_AI26'!Q21 -> 0 | P23: ='Modulo_D''Ordine_AI26'!R21 -> 0
B24: ='Modulo_D''Ordine_AI26'!D22 -> CHICCO DI CAFFE | C24: ='Modulo_D''Ordine_AI26'!E22 -> T-SHIRT UNISEX | D24: ='Modulo_D''Ordine_AI26'!F22 -> LUNGA | E24: ='Modulo_D''Ordine_AI26'!G22 -> FAIR TRADE | F24: ='Modulo_D''Ordine_AI26'!H22 -> nero | G24: ='Modulo_D''Ordine_AI26'!I22 -> beige/bianco | H24: ='Modulo_D''Ordine_AI26'!J22 -> 16.5 | I24: =+'Modulo_D''Ordine_AI26'!K22 -> 0 | J24: ='Modulo_D''Ordine_AI26'!L22 -> 0 | K24: ='Modulo_D''Ordine_AI26'!M22 -> 0 | L24: ='Modulo_D''Ordine_AI26'!N22 -> 0 | M24: ='Modulo_D''Ordine_AI26'!O22 -> 0 | N24: ='Modulo_D''Ordine_AI26'!P22 -> 0 | O24: ='Modulo_D''Ordine_AI26'!Q22 -> 0 | P24: ='Modulo_D''Ordine_AI26'!R22 -> 0
B25: ='Modulo_D''Ordine_AI26'!D23 -> CHICCO DI CAFFE | C25: ='Modulo_D''Ordine_AI26'!E23 -> T-SHIRT DONNA | D25: ='Modulo_D''Ordine_AI26'!F23 -> LUNGA | E25: ='Modulo_D''Ordine_AI26'!G23 -> FAIR TRADE | F25: ='Modulo_D''Ordine_AI26'!H23 -> nero | G25: ='Modulo_D''Ordine_AI26'!I23 -> beige/bianco | H25: ='Modulo_D''Ordine_AI26'!J23 -> 16.5 | I25: =+'Modulo_D''Ordine_AI26'!K23 -> 0 | J25: ='Modulo_D''Ordine_AI26'!L23 -> 0 | K25: ='Modulo_D''Ordine_AI26'!M23 -> 0 | L25: ='Modulo_D''Ordine_AI26'!N23 -> 0 | M25: ='Modulo_D''Ordine_AI26'!O23 -> 0 | N25: ='Modulo_D''Ordine_AI26'!P23 -> 0 | O25: ='Modulo_D''Ordine_AI26'!Q23 -> 0 | P25: ='Modulo_D''Ordine_AI26'!R23 -> 0
B26: ='Modulo_D''Ordine_AI26'!D24 -> CHICCO DI CAFFE | C26: ='Modulo_D''Ordine_AI26'!E24 -> T-SHIRT | D26: ='Modulo_D''Ordine_AI26'!F24 -> CORTA | E26: ='Modulo_D''Ordine_AI26'!G24 -> BIO | F26: ='Modulo_D''Ordine_AI26'!H24 -> bianco | G26: ='Modulo_D''Ordine_AI26'!I24 -> marrone/ beige | H26: ='Modulo_D''Ordine_AI26'!J24 -> 10 | I26: =+'Modulo_D''Ordine_AI26'!K24 -> 0 | J26: ='Modulo_D''Ordine_AI26'!L24 -> 0 | K26: ='Modulo_D''Ordine_AI26'!M24 -> 0 | L26: ='Modulo_D''Ordine_AI26'!N24 -> 0 | M26: ='Modulo_D''Ordine_AI26'!O24 -> 0 | N26: ='Modulo_D''Ordine_AI26'!P24 -> 0 | O26: ='Modulo_D''Ordine_AI26'!Q24 -> 0 | P26: ='Modulo_D''Ordine_AI26'!R24 -> 0
B27: ='Modulo_D''Ordine_AI26'!D25 -> CHICCO DI CAFFE | C27: ='Modulo_D''Ordine_AI26'!E25 -> T-SHIRT | D27: ='Modulo_D''Ordine_AI26'!F25 -> CORTA | E27: ='Modulo_D''Ordine_AI26'!G25 -> BIO | F27: ='Modulo_D''Ordine_AI26'!H25 -> nero | G27: ='Modulo_D''Ordine_AI26'!I25 -> beige/bianco | H27: ='Modulo_D''Ordine_AI26'!J25 -> 10 | I27: =+'Modulo_D''Ordine_AI26'!K25 -> 0 | J27: ='Modulo_D''Ordine_AI26'!L25 -> 0 | K27: ='Modulo_D''Ordine_AI26'!M25 -> 0 | L27: ='Modulo_D''Ordine_AI26'!N25 -> 0 | M27: ='Modulo_D''Ordine_AI26'!O25 -> 0 | N27: ='Modulo_D''Ordine_AI26'!P25 -> 0 | O27: ='Modulo_D''Ordine_AI26'!Q25 -> 0 | P27: ='Modulo_D''Ordine_AI26'!R25 -> 0
B28: ='Modulo_D''Ordine_AI26'!D26 -> GRAMSCI | C28: ='Modulo_D''Ordine_AI26'!E26 -> T-SHIRT | D28: ='Modulo_D''Ordine_AI26'!F26 -> CORTA | E28: ='Modulo_D''Ordine_AI26'!G26 -> FAIR TRADE | F28: ='Modulo_D''Ordine_AI26'!H26 -> BLU baltico | G28: ='Modulo_D''Ordine_AI26'!I26 -> bianca | H28: ='Modulo_D''Ordine_AI26'!J26 -> 13 | I28: =+'Modulo_D''Ordine_AI26'!K26 -> 0 | J28: ='Modulo_D''Ordine_AI26'!L26 -> 0 | K28: ='Modulo_D''Ordine_AI26'!M26 -> 0 | L28: ='Modulo_D''Ordine_AI26'!N26 -> 0 | M28: ='Modulo_D''Ordine_AI26'!O26 -> 0 | N28: ='Modulo_D''Ordine_AI26'!P26 -> 0 | O28: ='Modulo_D''Ordine_AI26'!Q26 -> 0 | P28: ='Modulo_D''Ordine_AI26'!R26 -> 0
B29: ='Modulo_D''Ordine_AI26'!D27 -> GRAMSCI | C29: ='Modulo_D''Ordine_AI26'!E27 -> T-SHIRT | D29: ='Modulo_D''Ordine_AI26'!F27 -> CORTA | E29: ='Modulo_D''Ordine_AI26'!G27 -> FAIR TRADE | F29: ='Modulo_D''Ordine_AI26'!H27 -> bianco | G29: ='Modulo_D''Ordine_AI26'!I27 -> nero | H29: ='Modulo_D''Ordine_AI26'!J27 -> 13 | I29: =+'Modulo_D''Ordine_AI26'!K27 -> 0 | J29: ='Modulo_D''Ordine_AI26'!L27 -> 0 | K29: ='Modulo_D''Ordine_AI26'!M27 -> 0 | L29: ='Modulo_D''Ordine_AI26'!N27 -> 0 | M29: ='Modulo_D''Ordine_AI26'!O27 -> 0 | N29: ='Modulo_D''Ordine_AI26'!P27 -> 0 | O29: ='Modulo_D''Ordine_AI26'!Q27 -> 0 | P29: ='Modulo_D''Ordine_AI26'!R27 -> 0
B30: ='Modulo_D''Ordine_AI26'!D28 -> GRAMSCI | C30: ='Modulo_D''Ordine_AI26'!E28 -> T-SHIRT | D30: ='Modulo_D''Ordine_AI26'!F28 -> CORTA | E30: ='Modulo_D''Ordine_AI26'!G28 -> FAIR TRADE | F30: ='Modulo_D''Ordine_AI26'!H28 -> nero | G30: ='Modulo_D''Ordine_AI26'!I28 -> bianca | H30: ='Modulo_D''Ordine_AI26'!J28 -> 13 | I30: =+'Modulo_D''Ordine_AI26'!K28 -> 0 | J30: ='Modulo_D''Ordine_AI26'!L28 -> 0 | K30: ='Modulo_D''Ordine_AI26'!M28 -> 0 | L30: ='Modulo_D''Ordine_AI26'!N28 -> 0 | M30: ='Modulo_D''Ordine_AI26'!O28 -> 0 | N30: ='Modulo_D''Ordine_AI26'!P28 -> 0 | O30: ='Modulo_D''Ordine_AI26'!Q28 -> 0 | P30: ='Modulo_D''Ordine_AI26'!R28 -> 0
B31: ='Modulo_D''Ordine_AI26'!D29 -> GRAMSCI | C31: ='Modulo_D''Ordine_AI26'!E29 -> T-SHIRT | D31: ='Modulo_D''Ordine_AI26'!F29 -> CORTA | E31: ='Modulo_D''Ordine_AI26'!G29 -> FAIR TRADE | F31: ='Modulo_D''Ordine_AI26'!H29 -> rosso | G31: ='Modulo_D''Ordine_AI26'!I29 -> bianca | H31: ='Modulo_D''Ordine_AI26'!J29 -> 13 | I31: =+'Modulo_D''Ordine_AI26'!K29 -> 0 | J31: ='Modulo_D''Ordine_AI26'!L29 -> 0 | K31: ='Modulo_D''Ordine_AI26'!M29 -> 0 | L31: ='Modulo_D''Ordine_AI26'!N29 -> 0 | M31: ='Modulo_D''Ordine_AI26'!O29 -> 0 | N31: ='Modulo_D''Ordine_AI26'!P29 -> 0 | O31: ='Modulo_D''Ordine_AI26'!Q29 -> 0 | P31: ='Modulo_D''Ordine_AI26'!R29 -> 0
B32: ='Modulo_D''Ordine_AI26'!D30 -> GRAMSCI | C32: ='Modulo_D''Ordine_AI26'!E30 -> T-SHIRT UNISEX | D32: ='Modulo_D''Ordine_AI26'!F30 -> LUNGA | E32: ='Modulo_D''Ordine_AI26'!G30 -> FAIR TRADE | F32: ='Modulo_D''Ordine_AI26'!H30 -> nero | G32: ='Modulo_D''Ordine_AI26'!I30 -> bianca | H32: ='Modulo_D''Ordine_AI26'!J30 -> 16.5 | I32: =+'Modulo_D''Ordine_AI26'!K30 -> 0 | J32: ='Modulo_D''Ordine_AI26'!L30 -> 0 | K32: ='Modulo_D''Ordine_AI26'!M30 -> 0 | L32: ='Modulo_D''Ordine_AI26'!N30 -> 0 | M32: ='Modulo_D''Ordine_AI26'!O30 -> 0 | N32: ='Modulo_D''Ordine_AI26'!P30 -> 0 | O32: ='Modulo_D''Ordine_AI26'!Q30 -> 0 | P32: ='Modulo_D''Ordine_AI26'!R30 -> 0
B33: ='Modulo_D''Ordine_AI26'!D31 -> GRAMSCI | C33: ='Modulo_D''Ordine_AI26'!E31 -> T-SHIRT DONNA | D33: ='Modulo_D''Ordine_AI26'!F31 -> LUNGA | E33: ='Modulo_D''Ordine_AI26'!G31 -> FAIR TRADE | F33: ='Modulo_D''Ordine_AI26'!H31 -> nero | G33: ='Modulo_D''Ordine_AI26'!I31 -> bianca | H33: ='Modulo_D''Ordine_AI26'!J31 -> 16.5 | I33: =+'Modulo_D''Ordine_AI26'!K31 -> 0 | J33: ='Modulo_D''Ordine_AI26'!L31 -> 0 | K33: ='Modulo_D''Ordine_AI26'!M31 -> 0 | L33: ='Modulo_D''Ordine_AI26'!N31 -> 0 | M33: ='Modulo_D''Ordine_AI26'!O31 -> 0 | N33: ='Modulo_D''Ordine_AI26'!P31 -> 0 | O33: ='Modulo_D''Ordine_AI26'!Q31 -> 0 | P33: ='Modulo_D''Ordine_AI26'!R31 -> 0
... B182: ='Modulo_D''Ordine_AI26'!D180 -> PROTEGGI IL TUO PIANETA | C182: ='Modulo_D''Ordine_AI26'!E180 -> T-SHIRT | D182: ='Modulo_D''Ordine_AI26'!F180 -> CORTA | E182: ='Modulo_D''Ordine_AI26'!G180 -> FAIR TRADE | F182: ='Modulo_D''Ordine_AI26'!H180 -> nero | G182: ='Modulo_D''Ordine_AI26'!I180 -> bianca | H182: ='Modulo_D''Ordine_AI26'!J180 -> 13 | I182: =+'Modulo_D''Ordine_AI26'!K180 -> 0 | J182: ='Modulo_D''Ordine_AI26'!L180 -> 0 | K182: ='Modulo_D''Ordine_AI26'!M180 -> 0 | L182: ='Modulo_D''Ordine_AI26'!N180 -> 0 | M182: ='Modulo_D''Ordine_AI26'!O180 -> 0 | N182: ='Modulo_D''Ordine_AI26'!P180 -> 0 | O182: ='Modulo_D''Ordine_AI26'!Q180 -> 0 | P182: ='Modulo_D''Ordine_AI26'!R180 -> 0
B183: ='Modulo_D''Ordine_AI26'!D181 -> PROTEGGI IL TUO PIANETA | C183: ='Modulo_D''Ordine_AI26'!E181 -> T-SHIRT UNISEX | D183: ='Modulo_D''Ordine_AI26'!F181 -> LUNGA | E183: ='Modulo_D''Ordine_AI26'!G181 -> FAIR TRADE | F183: ='Modulo_D''Ordine_AI26'!H181 -> nero | G183: ='Modulo_D''Ordine_AI26'!I181 -> bianca | H183: ='Modulo_D''Ordine_AI26'!J181 -> 16.5 | I183: =+'Modulo_D''Ordine_AI26'!K182 -> 0 | J183: ='Modulo_D''Ordine_AI26'!L181 -> 0 | K183: ='Modulo_D''Ordine_AI26'!M181 -> 0 | L183: ='Modulo_D''Ordine_AI26'!N181 -> 0 | M183: ='Modulo_D''Ordine_AI26'!O181 -> 0 | N183: ='Modulo_D''Ordine_AI26'!P181 -> 0 | O183: ='Modulo_D''Ordine_AI26'!Q181 -> 0 | P183: ='Modulo_D''Ordine_AI26'!R181 -> 0
B184: ='Modulo_D''Ordine_AI26'!D182 -> PROTEGGI IL TUO PIANETA | C184: ='Modulo_D''Ordine_AI26'!E182 -> T-SHIRT DONNA | D184: ='Modulo_D''Ordine_AI26'!F182 -> LUNGA | E184: ='Modulo_D''Ordine_AI26'!G182 -> FAIR TRADE | F184: ='Modulo_D''Ordine_AI26'!H182 -> nero | G184: ='Modulo_D''Ordine_AI26'!I182 -> bianca | H184: ='Modulo_D''Ordine_AI26'!J182 -> 16.5 | I184: =+'Modulo_D''Ordine_AI26'!K183 -> 0 | J184: ='Modulo_D''Ordine_AI26'!L182 -> 0 | K184: ='Modulo_D''Ordine_AI26'!M182 -> 0 | L184: ='Modulo_D''Ordine_AI26'!N182 -> 0 | M184: ='Modulo_D''Ordine_AI26'!O182 -> 0 | N184: ='Modulo_D''Ordine_AI26'!P182 -> 0 | O184: ='Modulo_D''Ordine_AI26'!Q182 -> 0 | P184: ='Modulo_D''Ordine_AI26'!R182 -> 0
B185: ='Modulo_D''Ordine_AI26'!D183 -> PROTEGGI IL TUO PIANETA | C185: ='Modulo_D''Ordine_AI26'!E183 -> T-SHIRT | D185: ='Modulo_D''Ordine_AI26'!F183 -> CORTA | E185: ='Modulo_D''Ordine_AI26'!G183 -> BIO | F185: ='Modulo_D''Ordine_AI26'!H183 -> blu navy | G185: ='Modulo_D''Ordine_AI26'!I183 -> bianca | H185: ='Modulo_D''Ordine_AI26'!J183 -> 10 | I185: =+'Modulo_D''Ordine_AI26'!K184 -> 0 | J185: ='Modulo_D''Ordine_AI26'!L183 -> 0 | K185: ='Modulo_D''Ordine_AI26'!M183 -> 0 | L185: ='Modulo_D''Ordine_AI26'!N183 -> 0 | M185: ='Modulo_D''Ordine_AI26'!O183 -> 0 | N185: ='Modulo_D''Ordine_AI26'!P183 -> 0 | O185: ='Modulo_D''Ordine_AI26'!Q183 -> 0 | P185: ='Modulo_D''Ordine_AI26'!R183 -> 0
B186: ='Modulo_D''Ordine_AI26'!D184 -> PROTEGGI IL TUO PIANETA | C186: ='Modulo_D''Ordine_AI26'!E184 -> T-SHIRT | D186: ='Modulo_D''Ordine_AI26'!F184 -> CORTA | E186: ='Modulo_D''Ordine_AI26'!G184 -> BIO | F186: ='Modulo_D''Ordine_AI26'!H184 -> bianco | G186: ='Modulo_D''Ordine_AI26'!I184 -> nero | H186: ='Modulo_D''Ordine_AI26'!J184 -> 10 | I186: =+'Modulo_D''Ordine_AI26'!K185 -> 0 | J186: ='Modulo_D''Ordine_AI26'!L184 -> 0 | K186: ='Modulo_D''Ordine_AI26'!M184 -> 0 | L186: ='Modulo_D''Ordine_AI26'!N184 -> 0 | M186: ='Modulo_D''Ordine_AI26'!O184 -> 0 | N186: ='Modulo_D''Ordine_AI26'!P184 -> 0 | O186: ='Modulo_D''Ordine_AI26'!Q184 -> 0 | P186: ='Modulo_D''Ordine_AI26'!R184 -> 0
B187: ='Modulo_D''Ordine_AI26'!D185 -> PROTEGGI IL TUO PIANETA | C187: ='Modulo_D''Ordine_AI26'!E185 -> T-SHIRT | D187: ='Modulo_D''Ordine_AI26'!F185 -> CORTA | E187: ='Modulo_D''Ordine_AI26'!G185 -> BIO | F187: ='Modulo_D''Ordine_AI26'!H185 -> nero | G187: ='Modulo_D''Ordine_AI26'!I185 -> bianca | H187: ='Modulo_D''Ordine_AI26'!J185 -> 10 | I187: =+'Modulo_D''Ordine_AI26'!K186 -> 0 | J187: ='Modulo_D''Ordine_AI26'!L185 -> 0 | K187: ='Modulo_D''Ordine_AI26'!M185 -> 0 | L187: ='Modulo_D''Ordine_AI26'!N185 -> 0 | M187: ='Modulo_D''Ordine_AI26'!O185 -> 0 | N187: ='Modulo_D''Ordine_AI26'!P185 -> 0 | O187: ='Modulo_D''Ordine_AI26'!Q185 -> 0 | P187: ='Modulo_D''Ordine_AI26'!R185 -> 0
B188: ='Modulo_D''Ordine_AI26'!D186 -> CAFFE' | C188: ='Modulo_D''Ordine_AI26'!E186 -> T-SHIRT | D188: ='Modulo_D''Ordine_AI26'!F186 -> CORTA | E188: ='Modulo_D''Ordine_AI26'!G186 -> FAIR TRADE | F188: ='Modulo_D''Ordine_AI26'!H186 -> BLU baltico | G188: ='Modulo_D''Ordine_AI26'!I186 -> bianca | H188: ='Modulo_D''Ordine_AI26'!J186 -> 13 | I188: =+'Modulo_D''Ordine_AI26'!K188 -> 0 | J188: ='Modulo_D''Ordine_AI26'!L186 -> 0 | K188: ='Modulo_D''Ordine_AI26'!M186 -> 0 | L188: ='Modulo_D''Ordine_AI26'!N186 -> 0 | M188: ='Modulo_D''Ordine_AI26'!O186 -> 0 | N188: ='Modulo_D''Ordine_AI26'!P186 -> 0 | O188: ='Modulo_D''Ordine_AI26'!Q186 -> 0 | P188: ='Modulo_D''Ordine_AI26'!R186 -> 0
B189: ='Modulo_D''Ordine_AI26'!D187 -> CAFFE' | C189: ='Modulo_D''Ordine_AI26'!E187 -> T-SHIRT | D189: ='Modulo_D''Ordine_AI26'!F187 -> CORTA | E189: ='Modulo_D''Ordine_AI26'!G187 -> FAIR TRADE | F189: ='Modulo_D''Ordine_AI26'!H187 -> bianco | G189: ='Modulo_D''Ordine_AI26'!I187 -> nero | H189: ='Modulo_D''Ordine_AI26'!J187 -> 13 | I189: =+'Modulo_D''Ordine_AI26'!K189 -> 0 | J189: ='Modulo_D''Ordine_AI26'!L187 -> 0 | K189: ='Modulo_D''Ordine_AI26'!M187 -> 0 | L189: ='Modulo_D''Ordine_AI26'!N187 -> 0 | M189: ='Modulo_D''Ordine_AI26'!O187 -> 0 | N189: ='Modulo_D''Ordine_AI26'!P187 -> 0 | O189: ='Modulo_D''Ordine_AI26'!Q187 -> 0 | P189: ='Modulo_D''Ordine_AI26'!R187 -> 0
B190: ='Modulo_D''Ordine_AI26'!D188 -> CAFFE' | C190: ='Modulo_D''Ordine_AI26'!E188 -> T-SHIRT | D190: ='Modulo_D''Ordine_AI26'!F188 -> CORTA | E190: ='Modulo_D''Ordine_AI26'!G188 -> FAIR TRADE | F190: ='Modulo_D''Ordine_AI26'!H188 -> nero | G190: ='Modulo_D''Ordine_AI26'!I188 -> bianca | H190: ='Modulo_D''Ordine_AI26'!J188 -> 13 | I190: =+'Modulo_D''Ordine_AI26'!K190 -> 0 | J190: ='Modulo_D''Ordine_AI26'!L188 -> 0 | K190: ='Modulo_D''Ordine_AI26'!M188 -> 0 | L190: ='Modulo_D''Ordine_AI26'!N188 -> 0 | M190: ='Modulo_D''Ordine_AI26'!O188 -> 0 | N190: ='Modulo_D''Ordine_AI26'!P188 -> 0 | O190: ='Modulo_D''Ordine_AI26'!Q188 -> 0 | P190: ='Modulo_D''Ordine_AI26'!R188 -> 0
B191: ='Modulo_D''Ordine_AI26'!D189 -> CAFFE' | C191: ='Modulo_D''Ordine_AI26'!E189 -> T-SHIRT | D191: ='Modulo_D''Ordine_AI26'!F189 -> CORTA | E191: ='Modulo_D''Ordine_AI26'!G189 -> FAIR TRADE | F191: ='Modulo_D''Ordine_AI26'!H189 -> rosso | G191: ='Modulo_D''Ordine_AI26'!I189 -> bianca | H191: ='Modulo_D''Ordine_AI26'!J189 -> 13 | I191: =+'Modulo_D''Ordine_AI26'!K191 -> 0 | J191: ='Modulo_D''Ordine_AI26'!L189 -> 0 | K191: ='Modulo_D''Ordine_AI26'!M189 -> 0 | L191: ='Modulo_D''Ordine_AI26'!N189 -> 0 | M191: ='Modulo_D''Ordine_AI26'!O189 -> 0 | N191: ='Modulo_D''Ordine_AI26'!P189 -> 0 | O191: ='Modulo_D''Ordine_AI26'!Q189 -> 0 | P191: ='Modulo_D''Ordine_AI26'!R189 -> 0
B192: ='Modulo_D''Ordine_AI26'!D190 -> CAFFE' | C192: ='Modulo_D''Ordine_AI26'!E190 -> T-SHIRT UNISEX | D192: ='Modulo_D''Ordine_AI26'!F190 -> LUNGA | E192: ='Modulo_D''Ordine_AI26'!G190 -> FAIR TRADE | F192: ='Modulo_D''Ordine_AI26'!H190 -> nero | G192: ='Modulo_D''Ordine_AI26'!I190 -> bianca | H192: ='Modulo_D''Ordine_AI26'!J190 -> 16.5 | I192: =+'Modulo_D''Ordine_AI26'!K192 -> 0 | J192: ='Modulo_D''Ordine_AI26'!L190 -> 0 | K192: ='Modulo_D''Ordine_AI26'!M190 -> 0 | L192: ='Modulo_D''Ordine_AI26'!N190 -> 0 | M192: ='Modulo_D''Ordine_AI26'!O190 -> 0 | N192: ='Modulo_D''Ordine_AI26'!P190 -> 0 | O192: ='Modulo_D''Ordine_AI26'!Q190 -> 0 | P192: ='Modulo_D''Ordine_AI26'!R190 -> 0
B193: ='Modulo_D''Ordine_AI26'!D191 -> CAFFE' | C193: ='Modulo_D''Ordine_AI26'!E191 -> T-SHIRT DONNA | D193: ='Modulo_D''Ordine_AI26'!F191 -> LUNGA | E193: ='Modulo_D''Ordine_AI26'!G191 -> FAIR TRADE | F193: ='Modulo_D''Ordine_AI26'!H191 -> nero | G193: ='Modulo_D''Ordine_AI26'!I191 -> bianca | H193: ='Modulo_D''Ordine_AI26'!J191 -> 16.5 | I193: =+'Modulo_D''Ordine_AI26'!K193 -> 0 | J193: ='Modulo_D''Ordine_AI26'!L191 -> 0 | K193: ='Modulo_D''Ordine_AI26'!M191 -> 0 | L193: ='Modulo_D''Ordine_AI26'!N191 -> 0 | M193: ='Modulo_D''Ordine_AI26'!O191 -> 0 | N193: ='Modulo_D''Ordine_AI26'!P191 -> 0 | O193: ='Modulo_D''Ordine_AI26'!Q191 -> 0 | P193: ='Modulo_D''Ordine_AI26'!R191 -> 0
B194: ='Modulo_D''Ordine_AI26'!D192 -> CAFFE' | C194: ='Modulo_D''Ordine_AI26'!E192 -> T-SHIRT | D194: ='Modulo_D''Ordine_AI26'!F192 -> CORTA | E194: ='Modulo_D''Ordine_AI26'!G192 -> BIO | F194: ='Modulo_D''Ordine_AI26'!H192 -> blu navy | G194: ='Modulo_D''Ordine_AI26'!I192 -> bianca | H194: ='Modulo_D''Ordine_AI26'!J192 -> 10 | I194: =+'Modulo_D''Ordine_AI26'!K194 -> 0 | J194: ='Modulo_D''Ordine_AI26'!L192 -> 0 | K194: ='Modulo_D''Ordine_AI26'!M192 -> 0 | L194: ='Modulo_D''Ordine_AI26'!N192 -> 0 | M194: ='Modulo_D''Ordine_AI26'!O192 -> 0 | N194: ='Modulo_D''Ordine_AI26'!P192 -> 0 | O194: ='Modulo_D''Ordine_AI26'!Q192 -> 0 | P194: ='Modulo_D''Ordine_AI26'!R192 -> 0
B195: ='Modulo_D''Ordine_AI26'!D193 -> CAFFE' | C195: ='Modulo_D''Ordine_AI26'!E193 -> T-SHIRT | D195: ='Modulo_D''Ordine_AI26'!F193 -> CORTA | E195: ='Modulo_D''Ordine_AI26'!G193 -> BIO | F195: ='Modulo_D''Ordine_AI26'!H193 -> bianco | G195: ='Modulo_D''Ordine_AI26'!I193 -> nero | H195: ='Modulo_D''Ordine_AI26'!J193 -> 10 | I195: =+'Modulo_D''Ordine_AI26'!K195 -> 0 | J195: ='Modulo_D''Ordine_AI26'!L193 -> 0 | K195: ='Modulo_D''Ordine_AI26'!M193 -> 0 | L195: ='Modulo_D''Ordine_AI26'!N193 -> 0 | M195: ='Modulo_D''Ordine_AI26'!O193 -> 0 | N195: ='Modulo_D''Ordine_AI26'!P193 -> 0 | O195: ='Modulo_D''Ordine_AI26'!Q193 -> 0 | P195: ='Modulo_D''Ordine_AI26'!R193 -> 0
B196: ='Modulo_D''Ordine_AI26'!D194 -> CAFFE' | C196: ='Modulo_D''Ordine_AI26'!E194 -> T-SHIRT | D196: ='Modulo_D''Ordine_AI26'!F194 -> CORTA | E196: ='Modulo_D''Ordine_AI26'!G194 -> BIO | F196: ='Modulo_D''Ordine_AI26'!H194 -> nero | G196: ='Modulo_D''Ordine_AI26'!I194 -> bianca | H196: ='Modulo_D''Ordine_AI26'!J194 -> 10 | I196: =+'Modulo_D''Ordine_AI26'!K196 -> 0 | J196: ='Modulo_D''Ordine_AI26'!L194 -> 0 | K196: ='Modulo_D''Ordine_AI26'!M194 -> 0 | L196: ='Modulo_D''Ordine_AI26'!N194 -> 0 | M196: ='Modulo_D''Ordine_AI26'!O194 -> 0 | N196: ='Modulo_D''Ordine_AI26'!P194 -> 0 | O196: ='Modulo_D''Ordine_AI26'!Q194 -> 0 | P196: ='Modulo_D''Ordine_AI26'!R194 -> 0
B197: ='Modulo_D''Ordine_AI26'!D195 -> CAFFE' | C197: ='Modulo_D''Ordine_AI26'!E195 -> T-SHIRT | D197: ='Modulo_D''Ordine_AI26'!F195 -> CORTA | E197: ='Modulo_D''Ordine_AI26'!G195 -> BIO | F197: ='Modulo_D''Ordine_AI26'!H195 -> rosso | G197: ='Modulo_D''Ordine_AI26'!I195 -> bianca | H197: ='Modulo_D''Ordine_AI26'!J195 -> 10 | I197: =+'Modulo_D''Ordine_AI26'!K197 -> 0 | J197: ='Modulo_D''Ordine_AI26'!L195 -> 0 | K197: ='Modulo_D''Ordine_AI26'!M195 -> 0 | L197: ='Modulo_D''Ordine_AI26'!N195 -> 0 | M197: ='Modulo_D''Ordine_AI26'!O195 -> 0 | N197: ='Modulo_D''Ordine_AI26'!P195 -> 0 | O197: ='Modulo_D''Ordine_AI26'!Q195 -> 0 | P197: ='Modulo_D''Ordine_AI26'!R195 -> 0
B198: ='Modulo_D''Ordine_AI26'!D196 -> STAFF | C198: ='Modulo_D''Ordine_AI26'!E196 -> T-SHIRT | D198: ='Modulo_D''Ordine_AI26'!F196 -> CORTA | E198: ='Modulo_D''Ordine_AI26'!G196 -> FAIR TRADE | F198: ='Modulo_D''Ordine_AI26'!H196 -> BLU baltico | G198: ='Modulo_D''Ordine_AI26'!I196 -> bianca | H198: ='Modulo_D''Ordine_AI26'!J196 -> 13 | I198: =+'Modulo_D''Ordine_AI26'!K198 -> 0 | J198: ='Modulo_D''Ordine_AI26'!L196 -> 0 | K198: ='Modulo_D''Ordine_AI26'!M196 -> 0 | L198: ='Modulo_D''Ordine_AI26'!N196 -> 0 | M198: ='Modulo_D''Ordine_AI26'!O196 -> 0 | N198: ='Modulo_D''Ordine_AI26'!P196 -> 0 | O198: ='Modulo_D''Ordine_AI26'!Q196 -> 0 | P198: ='Modulo_D''Ordine_AI26'!R196 -> 0
B199: ='Modulo_D''Ordine_AI26'!D197 -> STAFF | C199: ='Modulo_D''Ordine_AI26'!E197 -> T-SHIRT | D199: ='Modulo_D''Ordine_AI26'!F197 -> CORTA | E199: ='Modulo_D''Ordine_AI26'!G197 -> FAIR TRADE | F199: ='Modulo_D''Ordine_AI26'!H197 -> bianco | G199: ='Modulo_D''Ordine_AI26'!I197 -> nero | H199: ='Modulo_D''Ordine_AI26'!J197 -> 13 | I199: =+'Modulo_D''Ordine_AI26'!K199 -> 0 | J199: ='Modulo_D''Ordine_AI26'!L197 -> 0 | K199: ='Modulo_D''Ordine_AI26'!M197 -> 0 | L199: ='Modulo_D''Ordine_AI26'!N197 -> 0 | M199: ='Modulo_D''Ordine_AI26'!O197 -> 0 | N199: ='Modulo_D''Ordine_AI26'!P197 -> 0 | O199: ='Modulo_D''Ordine_AI26'!Q197 -> 0 | P199: ='Modulo_D''Ordine_AI26'!R197 -> 0
... B231: ='Modulo_D''Ordine_AI26'!D229 -> SMISURATA PREGHIERA | C231: ='Modulo_D''Ordine_AI26'!E229 -> spilla tonda | D231: ='Modulo_D''Ordine_AI26'!F229 -> 0 | E231: ='Modulo_D''Ordine_AI26'!G229 -> 0 | F231: ='Modulo_D''Ordine_AI26'!H229 -> 0 | G231: ='Modulo_D''Ordine_AI26'!I229 -> nero | H231: ='Modulo_D''Ordine_AI26'!J229 -> 1.65 | I231: =+'Modulo_D''Ordine_AI26'!K231 -> 0 | J231: ='Modulo_D''Ordine_AI26'!L229 -> 0 | K231: ='Modulo_D''Ordine_AI26'!M229 -> 0 | L231: ='Modulo_D''Ordine_AI26'!N229 -> 0 | M231: ='Modulo_D''Ordine_AI26'!O229 -> 0 | N231: ='Modulo_D''Ordine_AI26'!P229 -> 0 | O231: ='Modulo_D''Ordine_AI26'!Q229 -> 0 | P231: ='Modulo_D''Ordine_AI26'!R229 -> 0
B232: ='Modulo_D''Ordine_AI26'!D230 -> BELLA CIAO | C232: ='Modulo_D''Ordine_AI26'!E230 -> TOTE BAG | D232: ='Modulo_D''Ordine_AI26'!F230 -> no | E232: ='Modulo_D''Ordine_AI26'!G230 -> FAIR TRADE | F232: ='Modulo_D''Ordine_AI26'!H230 -> ecru | G232: ='Modulo_D''Ordine_AI26'!I230 -> nera | H232: ='Modulo_D''Ordine_AI26'!J230 -> 6 | I232: ='Modulo_D''Ordine_AI26'!K230 -> 0 | O232: ='Modulo_D''Ordine_AI26'!Q230 -> 0 | P232: ='Modulo_D''Ordine_AI26'!R230 -> 0
B233: ='Modulo_D''Ordine_AI26'!D231 -> HARING | C233: ='Modulo_D''Ordine_AI26'!E231 -> TOTE BAG | D233: ='Modulo_D''Ordine_AI26'!F231 -> no | E233: ='Modulo_D''Ordine_AI26'!G231 -> FAIR TRADE | F233: ='Modulo_D''Ordine_AI26'!H231 -> ecru | G233: ='Modulo_D''Ordine_AI26'!I231 -> arcobaleno | H233: ='Modulo_D''Ordine_AI26'!J231 -> 6 | I233: ='Modulo_D''Ordine_AI26'!K231 -> 0 | O233: ='Modulo_D''Ordine_AI26'!Q231 -> 0 | P233: ='Modulo_D''Ordine_AI26'!R231 -> 0
B234: HARING | C234: ='Modulo_D''Ordine_AI26'!E232 -> 0 | D234: no | E234: ='Modulo_D''Ordine_AI26'!G232 -> 0 | F234: ='Modulo_D''Ordine_AI26'!H232 -> 0 | G234: ='Modulo_D''Ordine_AI26'!I232 -> nera | H234: ='Modulo_D''Ordine_AI26'!J232 -> 6 | I234: ='Modulo_D''Ordine_AI26'!K232 -> 0 | O234: ='Modulo_D''Ordine_AI26'!Q232 -> 0 | P234: ='Modulo_D''Ordine_AI26'!R232 -> 0
B235: ='Modulo_D''Ordine_AI26'!D233 -> GAGARIN | C235: ='Modulo_D''Ordine_AI26'!E233 -> TOTE BAG | D235: ='Modulo_D''Ordine_AI26'!F233 -> no | E235: ='Modulo_D''Ordine_AI26'!G233 -> FAIR TRADE | F235: ='Modulo_D''Ordine_AI26'!H233 -> ecru | G235: ='Modulo_D''Ordine_AI26'!I233 -> nera | H235: ='Modulo_D''Ordine_AI26'!J233 -> 6 | I235: ='Modulo_D''Ordine_AI26'!K233 -> 0 | O235: ='Modulo_D''Ordine_AI26'!Q233 -> 0 | P235: ='Modulo_D''Ordine_AI26'!R233 -> 0
B236: ='Modulo_D''Ordine_AI26'!D234 -> CAFFE' | C236: ='Modulo_D''Ordine_AI26'!E234 -> TOTE BAG | D236: ='Modulo_D''Ordine_AI26'!F234 -> no | E236: ='Modulo_D''Ordine_AI26'!G234 -> FAIR TRADE | F236: ='Modulo_D''Ordine_AI26'!H234 -> ecru | G236: ='Modulo_D''Ordine_AI26'!I234 -> nera | H236: ='Modulo_D''Ordine_AI26'!J234 -> 6 | I236: ='Modulo_D''Ordine_AI26'!K234 -> 0 | O236: ='Modulo_D''Ordine_AI26'!Q234 -> 0 | P236: ='Modulo_D''Ordine_AI26'!R234 -> 0
B237: ='Modulo_D''Ordine_AI26'!D235 -> ATTIVISTA | C237: ='Modulo_D''Ordine_AI26'!E235 -> TOTE BAG | D237: ='Modulo_D''Ordine_AI26'!F235 -> no | E237: ='Modulo_D''Ordine_AI26'!G235 -> FAIR TRADE | F237: ='Modulo_D''Ordine_AI26'!H235 -> ecru | G237: ='Modulo_D''Ordine_AI26'!I235 -> nera | H237: ='Modulo_D''Ordine_AI26'!J235 -> 6 | I237: ='Modulo_D''Ordine_AI26'!K235 -> 0 | O237: ='Modulo_D''Ordine_AI26'!Q235 -> 0 | P237: ='Modulo_D''Ordine_AI26'!R235 -> 0
B238: ='Modulo_D''Ordine_AI26'!D236 -> SAFFO | C238: ='Modulo_D''Ordine_AI26'!E236 -> TOTE BAG | D238: ='Modulo_D''Ordine_AI26'!F236 -> no | E238: ='Modulo_D''Ordine_AI26'!G236 -> FAIR TRADE | F238: ='Modulo_D''Ordine_AI26'!H236 -> ecru | G238: ='Modulo_D''Ordine_AI26'!I236 -> nera | H238: ='Modulo_D''Ordine_AI26'!J236 -> 6 | I238: ='Modulo_D''Ordine_AI26'!K236 -> 0 | O238: ='Modulo_D''Ordine_AI26'!Q236 -> 0 | P238: ='Modulo_D''Ordine_AI26'!R236 -> 0
B239: ='Modulo_D''Ordine_AI26'!D237 -> RANA PLAZA | C239: ='Modulo_D''Ordine_AI26'!E237 -> TOTE BAG | D239: ='Modulo_D''Ordine_AI26'!F237 -> no | E239: ='Modulo_D''Ordine_AI26'!G237 -> FAIR TRADE | F239: ='Modulo_D''Ordine_AI26'!H237 -> ecru | G239: ='Modulo_D''Ordine_AI26'!I237 -> nera | H239: ='Modulo_D''Ordine_AI26'!J237 -> 6 | I239: ='Modulo_D''Ordine_AI26'!K237 -> 0 | O239: ='Modulo_D''Ordine_AI26'!Q237 -> 0 | P239: ='Modulo_D''Ordine_AI26'!R237 -> 0
B240: ='Modulo_D''Ordine_AI26'!D238 -> OPRESS | C240: ='Modulo_D''Ordine_AI26'!E238 -> TOTE BAG | D240: ='Modulo_D''Ordine_AI26'!F238 -> no | E240: ='Modulo_D''Ordine_AI26'!G238 -> FAIR TRADE | F240: ='Modulo_D''Ordine_AI26'!H238 -> ecru | G240: ='Modulo_D''Ordine_AI26'!I238 -> nera | H240: ='Modulo_D''Ordine_AI26'!J238 -> 6 | I240: ='Modulo_D''Ordine_AI26'!K238 -> 0 | O240: ='Modulo_D''Ordine_AI26'!Q238 -> 0 | P240: ='Modulo_D''Ordine_AI26'!R238 -> 0
B241: ='Modulo_D''Ordine_AI26'!D239 -> AUGURI | C241: ='Modulo_D''Ordine_AI26'!E239 -> TOTE BAG | D241: ='Modulo_D''Ordine_AI26'!F239 -> no | E241: ='Modulo_D''Ordine_AI26'!G239 -> FAIR TRADE | F241: ='Modulo_D''Ordine_AI26'!H239 -> ecru | G241: ='Modulo_D''Ordine_AI26'!I239 -> rossa | H241: ='Modulo_D''Ordine_AI26'!J239 -> 6 | I241: ='Modulo_D''Ordine_AI26'!K239 -> 0 | O241: ='Modulo_D''Ordine_AI26'!Q239 -> 0 | P241: ='Modulo_D''Ordine_AI26'!R239 -> 0

Sheet PVP_MARGINE
A1: 2023 | B1: 2024
C3: iva esclusa
C4: costo | D4: pvp consigliato | E4: margine in € | F4: margine in %
A5: TEES MANICA CORTA BIO | B5: TEES MANICA CORTA BIO | C5: 9.6 | D5: =20/1.22 -> 16.393443 | E5: =+D5-C5 -> 6.7934426 | F5: =+E5/D5 -> 0.4144
A6: TEES MANICA CORTA FAIR TRADE | B6: TEES MANICA CORTA FAIR TRADE | C6: 12.6 | D6: =26/1.22 -> 21.311475 | E6: =+D6-C6 -> 8.7114754 | F6: =+E6/D6 -> 0.40876923
A7: TEES MANICA LUNGA FT UNISEX | B7: TEES MANICA LUNGA FT UNISEX | C7: 16.5 | D7: =32/1.22 -> 26.229508 | E7: =+D7-C7 -> 9.7295082 | F7: =+E7/D7 -> 0.3709375
B8: TEES MANICA LUNGA FT DONNA | C8: 16.5 | D8: =32/1.22 -> 26.229508 | E8: =+D8-C8 -> 9.7295082 | F8: =+E8/D8 -> 0.3709375
A9: FELPA BIO | B9: FELPA FT CAPPUCCIO | C9: 35 | D9: =D19/1.22 -> 49.180328 | E9: =+D9-C9 -> 14.180328 | F9: =+E9/D9 -> 0.28833333
A10: FELPA BIO CAPPUCCIO | B10: TOTE BAG FAIR TRADE | C10: 2.5 | D10: =5.9/1.22 -> 4.8360656 | E10: =+D10-C10 -> 2.3360656 | F10: =+E10/D10 -> 0.48305085
B11: TOTE BAG BIO | C11: 2.5 | D11: =5.9/1.22 -> 4.8360656 | E11: =+D11-C11 -> 2.3360656 | F11: =+E11/D11 -> 0.48305085
C13: iva inclusa
C14: costo | D14: pvp consigliato | E14: margine in € | F14: margine in %
A15: TEES MANICA CORTA BIO | B15: TEES MANICA CORTA BIO | C15: =+C5*1.22 -> 11.712 | D15: =+D5*1.22 -> 20 | E15: =+D15-C15 -> 8.288 | F15: =+E15/D15 -> 0.4144
A16: TEES MANICA CORTA FAIR TRADE | B16: TEES MANICA CORTA FAIR TRADE | C16: =+C6*1.22 -> 15.372 | D16: =+D6*1.22 -> 26 | E16: =+D16-C16 -> 10.628 | F16: =+E16/D16 -> 0.40876923
A17: TEES MANICA LUNGA FT UNISEX | B17: TEES MANICA LUNGA FT UNISEX | C17: =+C7*1.22 -> 20.13 | D17: =+D7*1.22 -> 32 | E17: =+D17-C17 -> 11.87 | F17: =+E17/D17 -> 0.3709375
B18: TEES MANICA LUNGA FT DONNA | C18: =C8*1.22 -> 20.13 | D18: 32 | E18: =+D18-C18 -> 11.87 | F18: =+E18/D18 -> 0.3709375
A19: FELPA BIO | B19: FELPA FT CAPPUCCIO | C19: =+C9*1.22 -> 42.7 | D19: 60 | E19: =+D19-C19 -> 17.3 | F19: =+E19/D19 -> 0.28833333
A20: FELPA BIO CAPPUCCIO | B20: TOTE BAG FAIR TRADE | C20: =+C10*1.22 -> 3.05 | D20: =D10*1.22 -> 5.9 | E20: =+D20-C20 -> 2.85 | F20: =+E20/D20 -> 0.48305085
B21: TOTE BAG BIO | C21: =+C11*1.22 -> 3.05 | D21: =D11*1.22 -> 5.9 | E21: =+D21-C21 -> 2.85 | F21: =+E21/D21 -> 0.48305085

Sheet Dati_per_Fattura
B2: DATI PER FATTURA
B4: =+'Modulo_D''Ordine_AI26'!D3 -> Ragione Sociale | C4: =+'Modulo_D''Ordine_AI26'!E3 -> 0
B5: =+'Modulo_D''Ordine_AI26'!D4 -> Indirizzo Fatturazione | C5: =+'Modulo_D''Ordine_AI26'!E4 -> 0
B6: =+'Modulo_D''Ordine_AI26'!D5 -> Partita Iva | C6: =+'Modulo_D''Ordine_AI26'!E5 -> 0
B7: =+'Modulo_D''Ordine_AI26'!D6 -> Codice Univoco | C7: =+'Modulo_D''Ordine_AI26'!E6 -> 0
B8: =+'Modulo_D''Ordine_AI26'!D7 -> Destinazione Merce e orari | C8: =+'Modulo_D''Ordine_AI26'!E7 -> 0
B9: =+'Modulo_D''Ordine_AI26'!I7 -> 0 | C9: =+'Modulo_D''Ordine_AI26'!J7 -> 0
C11: TOT PZ | D11: VALORE UNITARIO | E11: VALORE TOTALE | F11: IVA 22% | G11: TOTALE FATTURA
B12: TEES MANICA CORTA BIO | C12: =#REF! -> #REF! | D12: =PVP_MARGINE!C5 -> 9.6 | E12: =D12*C12 -> #REF! | F12: =+E12*0.22 -> #REF! | G12: =SUM(E12:E17) -> #REF!
B13: TEES MANICA CORTA FAIR TRADE | C13: =#REF! -> #REF! | D13: =PVP_MARGINE!C6 -> 12.6 | E13: =D13*C13 -> #REF! | F13: =+E13*0.22 -> #REF!
B14: TEES MANICA LUNGA FT UNISEX | C14: =#REF! -> #REF! | D14: =PVP_MARGINE!C7 -> 16.5 | E14: =D14*C14 -> #REF! | F14: =+E14*0.22 -> #REF!
B15: TEES MANICA LUNGA FT DONNA | C15: =#REF! -> #REF! | D15: =PVP_MARGINE!C8 -> 16.5 | E15: =D15*C15 -> #REF! | F15: =+E15*0.22 -> #REF!
B16: FELPA FT CAPPUCCIO | C16: =#REF! -> #REF! | D16: =PVP_MARGINE!C9 -> 35 | E16: =D16*C16 -> #REF! | F16: =+E16*0.22 -> #REF!
B17: TOTE BAG FAIR TRADE | C17: =#REF! -> #REF! | D17: =PVP_MARGINE!C10 -> 2.5 | E17: =D17*C17 -> #REF! | F17: =+E17*0.22 -> #REF!
B18: TOTE BAG BIO | C18: =#REF! -> #REF! | D18: =PVP_MARGINE!C11 -> 2.5 | E18: =D18*C18 -> #REF! | F18: =+E18*0.22 -> #REF!
C20: =SUM(C12:C17) -> #REF! | E20: =SUM(E12:E17) -> #REF! | F20: =SUM(F12:F17) -> #REF!
