Workbook

Sheet Modulo_D'Ordine_AI26
E2: DATI ORDINANTE | L2: CONDIZIONI DI FORNITURA
D3: Ragione Sociale | Q3: tot pezzi ordine:
D4: Indirizzo Fatturazione | Q4: =SUM(Q12:Q784) -> 0
D5: Partita Iva | Q5: tot valore ordine:
D6: Codice Univoco | F6: mail: | I6: Telefono: | Q6: =SUM(R12:R784) -> 0
D7: Destinazione Merce e orari
E9: invia l'ordine a: opress@bottegasolidale.it
B11: autore / linea | C11: cantante | D11: descrizione | E11: referenza | F11: manica | G11: tipologia | H11: colore referenza | I11: colore stampa | J11: c.unitario (iva escl) | K11: XS | L11: S | M11: M | N11: L | O11: XL | P11: XXL | Q11: tot pezzi | R11: tot valore
C12: bandabardò | D12: SEMPRE ALLEGRI | E12: FELPA CON ZIP | F12: lunga | G12: FAIR TRADE | H12: nera | I12: bianca | J12: 35 | Q12: =SUM(L12:P12) -> 0 | R12: =+Q12*J12 -> 0
E13: FELPA INTERA | F13: lunga | G13: FAIR TRADE | H13: grigia | I13: bianca | J13: 30 | Q13: =SUM(L13:P13) -> 0 | R13: =+Q13*J13 -> 0
C14: bandabardò | D14: BEPPEANNA | E14: FELPA CON ZIP | F14: lunga | G14: FAIR TRADE | H14: nera | I14: bianca | J14: 35 | Q14: =SUM(L14:P14) -> 0 | R14: =+Q14*J14 -> 0
E15: FELPA INTERA | F15: lunga | G15: FAIR TRADE | H15: grigia | I15: bianca | J15: 30 | Q15: =SUM(L15:P15) -> 0 | R15: =+Q15*J15 -> 0
C16: de andré | D16: SMISURATA PREGHIERA | E16: FELPA CON ZIP | F16: lunga | G16: FAIR TRADE | H16: nera | I16: bianca | J16: 35 | Q16: =SUM(L16:P16) -> 0 | R16: =+Q16*J16 -> 0
E17: FELPA INTERA | F17: lunga | G17: FAIR TRADE | H17: grigia | I17: bianca | J17: 30 | Q17: =SUM(L17:P17) -> 0 | R17: =+Q17*J17 -> 0
C18: extratrack | D18: HARING | E18: FELPA CON ZIP | F18: lunga | G18: FAIR TRADE | H18: nera | I18: bianca | J18: 35 | Q18: =SUM(L18:P18) -> 0 | R18: =+Q18*J18 -> 0
C19: extratrack | D19: HARING | E19: FELPA INTERA | F19: lunga | G19: FAIR TRADE | H19: grigia | I19: bianca | J19: 30 | Q19: =SUM(L19:P19) -> 0 | R19: =+Q19*J19 -> 0
C20: extratrack | D20: CHICCO DI CAFFE | E20: T-SHIRT | F20: CORTA | G20: FAIR TRADE | H20: bianco | I20: marrone/ beige | J20: 13 | Q20: =SUM(L20:P20) -> 0 | R20: =+Q20*J20 -> 0
C21: extratrack | D21: CHICCO DI CAFFE | E21: T-SHIRT | F21: CORTA | G21: FAIR TRADE | H21: nero | I21: beige/bianco | J21: 13 | Q21: =SUM(L21:P21) -> 0 | R21: =+Q21*J21 -> 0
C22: extratrack | D22: CHICCO DI CAFFE | E22: T-SHIRT UNISEX | F22: LUNGA | G22: FAIR TRADE | H22: nero | I22: beige/bianco | J22: 16.5 | Q22: =SUM(L22:P22) -> 0 | R22: =+Q22*J22 -> 0
C23: extratrack | D23: CHICCO DI CAFFE | E23: T-SHIRT DONNA | F23: LUNGA | G23: FAIR TRADE | H23: nero | I23: beige/bianco | J23: 16.5 | Q23: =SUM(L23:P23) -> 0 | R23: =+Q23*J23 -> 0
C24: extratrack | D24: CHICCO DI CAFFE | E24: T-SHIRT | F24: CORTA | G24: BIO | H24: bianco | I24: marrone/ beige | J24: 10 | Q24: =SUM(L24:P24) -> 0 | R24: =+Q24*J24 -> 0
C25: extratrack | D25: CHICCO DI CAFFE | E25: T-SHIRT | F25: CORTA | G25: BIO | H25: nero | I25: beige/bianco | J25: 10 | Q25: =SUM(L25:P25) -> 0 | R25: =+Q25*J25 -> 0
C26: extratrack | D26: GRAMSCI | E26: T-SHIRT | F26: CORTA | G26: FAIR TRADE | H26: BLU baltico | I26: bianca | J26: 13 | Q26: =SUM(L26:P26) -> 0 | R26: =+Q26*J26 -> 0
C27: extratrack | D27: GRAMSCI | E27: T-SHIRT | F27: CORTA | G27: FAIR TRADE | H27: bianco | I27: nero | J27: 13 | Q27: =SUM(L27:P27) -> 0 | R27: =+Q27*J27 -> 0
C28: extratrack | D28: GRAMSCI | E28: T-SHIRT | F28: CORTA | G28: FAIR TRADE | H28: nero | I28: bianca | J28: 13 | Q28: =SUM(L28:P28) -> 0 | R28: =+Q28*J28 -> 0
C29: extratrack | D29: GRAMSCI | E29: T-SHIRT | F29: CORTA | G29: FAIR TRADE | H29: rosso | I29: bianca | J29: 13 | Q29: =SUM(L29:P29) -> 0 | R29: =+Q29*J29 -> 0
... C45: extratrack | D45: THINKING RIGHT | E45: T-SHIRT | F45: CORTA | G45: BIO | H45: nero | I45: verde | J45: 10 | Q45: =SUM(L45:P45) -> 0 | R45: =+Q45*J45 -> 0
C46: extratrack | D46: FREE PALESTINE | E46: T-SHIRT | F46: CORTA | G46: FAIR TRADE | H46: bianco | J46: 13 | Q46: =SUM(L46:P46) -> 0 | R46: =+Q46*J46 -> 0
D47: FREE PALESTINE | E47: T-SHIRT | F47: CORTA | G47: BIO | H47: bianco | J47: 10 | Q47: =SUM(L47:P47) -> 0 | R47: =+Q47*J47 -> 0
C48: extratrack | D48: AUGURI | E48: T-SHIRT | F48: CORTA | G48: FAIR TRADE | H48: rossa | I48: bianca | J48: 13 | Q48: =SUM(L48:P48) -> 0 | R48: =+Q48*J48 -> 0
D49: AUGURI | E49: T-SHIRT | F49: CORTA | G49: BIO | H49: rossa | I49: bianca | J49: 10 | Q49: =SUM(L49:P49) -> 0 | R49: =+Q49*J49 -> 0
C50: extratrack | D50: BELLA CIAO | E50: T-SHIRT | F50: CORTA | G50: FAIR TRADE | H50: bianco | I50: nero/rosso | J50: 13 | Q50: =SUM(L50:P50) -> 0 | R50: =+Q50*J50 -> 0
C51: extratrack | D51: BELLA CIAO | E51: T-SHIRT | F51: CORTA | G51: FAIR TRADE | H51: nero | I51: bianca/rosso | J51: 13 | Q51: =SUM(L51:P51) -> 0 | R51: =+Q51*J51 -> 0
C52: extratrack | D52: BELLA CIAO | E52: T-SHIRT | F52: CORTA | G52: FAIR TRADE | H52: Rosso | I52: nera | J52: 13 | Q52: =SUM(L52:P52) -> 0 | R52: =+Q52*J52 -> 0
C53: extratrack | D53: BELLA CIAO | E53: T-SHIRT UNISEX | F53: LUNGA | G53: FAIR TRADE | H53: nero | I53: bianca/rosso | J53: 16.5 | Q53: =SUM(L53:P53) -> 0 | R53: =+Q53*J53 -> 0
C54: extratrack | D54: BELLA CIAO | E54: T-SHIRT DONNA | F54: LUNGA | G54: FAIR TRADE | H54: nero | I54: bianca/rosso | J54: 16.5 | Q54: =SUM(L54:P54) -> 0 | R54: =+Q54*J54 -> 0
C55: extratrack | D55: BELLA CIAO | E55: T-SHIRT | F55: CORTA | G55: BIO | H55: bianco | I55: nero/rosso | J55: 10 | Q55: =SUM(L55:P55) -> 0 | R55: =+Q55*J55 -> 0
C56: extratrack | D56: BELLA CIAO | E56: T-SHIRT | F56: CORTA | G56: BIO | H56: nero | I56: bianca/rosso | J56: 10 | Q56: =SUM(L56:P56) -> 0 | R56: =+Q56*J56 -> 0
C57: extratrack | D57: BELLA CIAO | E57: T-SHIRT | F57: CORTA | G57: BIO | H57: Rosso | I57: nera | J57: 10 | Q57: =SUM(L57:P57) -> 0 | R57: =+Q57*J57 -> 0
C58: extratrack | D58: RANA PLAZA | E58: T-SHIRT | F58: CORTA | G58: FAIR TRADE | H58: bianco | I58: arcobaleno | J58: 13 | Q58: =SUM(L58:P58) -> 0 | R58: =+Q58*J58 -> 0
...

Sheet Ordine_|_DDT
C2: ORDINE / DOCUMENTO DI TRASPORTO
C4: DATI DESTINATARIO
B5: Ragione Sociale | C5: =+'Modulo_D''Ordine_AI26'!E3 -> 0 | J5: DDT N° | N5: tot pezzi | O5: =SUM(O14:O723) -> 0
B6: Destinazione Merce | C6: =+'Modulo_D''Ordine_AI26'!E7 -> 0 | J6: del
N7: tot valore | O7: =+O8+O9 -> 0
J8: N° COLLI | N8: di cui iva al 22% | O8: =+O9*0.22 -> 0
B9: Telefono | C9: =+'Modulo_D''Ordine_AI26'!J7 -> 0 | J9: PESO | N9: di cui imponibile | O9: =SUM(P14:P725) -> 0
B11: Corriere | E11: Firma per ritiro spedizione | J11: Firma Destinatario per consegna avvenuta
B13: descrizione | C13: =+'Modulo_D''Ordine_AI26'!E11 -> referenza | D13: =+'Modulo_D''Ordine_AI26'!F11 -> manica | E13: =+'Modulo_D''Ordine_AI26'!G11 -> tipologia | F13: =+'Modulo_D''Ordine_AI26'!H11 -> colore referenza | G13: =+'Modulo_D''Ordine_AI26'!I11 -> colore stampa | H13: =+'Modulo_D''Ordine_AI26'!J11 -> c.unitario (iva escl) | I13: =+'Modulo_D''Ordine_AI26'!K11 -> XS | J13: =+'Modulo_D''Ordine_AI26'!L11 -> S | ... P13: =+'Modulo_D''Ordine_AI26'!R11 -> tot valore
B14: SEMPRE ALLEGRI | C14: ='Modulo_D''Ordine_AI26'!E12 -> FELPA CON ZIP | D14: ='Modulo_D''Ordine_AI26'!F12 -> lunga | E14: ='Modulo_D''Ordine_AI26'!G12 -> FAIR TRADE | F14: ='Modulo_D''Ordine_AI26'!H12 -> nera | G14: ='Modulo_D''Ordine_AI26'!I12 -> bianca | H14: ='Modulo_D''Ordine_AI26'!J12 -> 35 | I14: =+'Modulo_D''Ordine_AI26'!K12 -> 0 | J14: ='Modulo_D''Ordine_AI26'!L12 -> 0 | K14: ='Modulo_D''Ordine_AI26'!M12 -> 0 | L14: ='Modulo_D''Ordine_AI26'!N12 -> 0 | M14: ='Modulo_D''Ordine_AI26'!O12 -> 0 | N14: ='Modulo_D''Ordine_AI26'!P12 -> 0 | O14: ='Modulo_D''Ordine_AI26'!Q12 -> 0 | P14: ='Modulo_D''Ordine_AI26'!R12 -> 0
B15: =+'Modulo_D''Ordine_AI26'!D12 -> SEMPRE ALLEGRI | C15: ='Modulo_D''Ordine_AI26'!E13 -> FELPA INTERA | D15: ='Modulo_D''Ordine_AI26'!F13 -> lunga | E15: ='Modulo_D''Ordine_AI26'!G13 -> FAIR TRADE | F15: ='Modulo_D''Ordine_AI26'!H13 -> grigia | G15: ='Modulo_D''Ordine_AI26'!I13 -> bianca | H15: ='Modulo_D''Ordine_AI26'!J13 -> 30 | I15: =+'Modulo_D''Ordine_AI26'!K13 -> 0 | J15: ='Modulo_D''Ordine_AI26'!L13 -> 0 | K15: ='Modulo_D''Ordine_AI26'!M13 -> 0 | L15: ='Modulo_D''Ordine_AI26'!N13 -> 0 | M15: ='Modulo_D''Ordine_AI26'!O13 -> 0 | N15: ='Modulo_D''Ordine_AI26'!P13 -> 0 | O15: ='Modulo_D''Ordine_AI26'!Q13 -> 0 | P15: ='Modulo_D''Ordine_AI26'!R13 -> 0
B16: BEPPEANNA | C16: ='Modulo_D''Ordine_AI26'!E14 -> FELPA CON ZIP | D16: ='Modulo_D''Ordine_AI26'!F14 -> lunga | E16: ='Modulo_D''Ordine_AI26'!G14 -> FAIR TRADE | F16: ='Modulo_D''Ordine_AI26'!H14 -> nera | G16: ='Modulo_D''Ordine_AI26'!I14 -> bianca | H16: ='Modulo_D''Ordine_AI26'!J14 -> 35 | I16: =+'Modulo_D''Ordine_AI26'!K14 -> 0 | J16: ='Modulo_D''Ordine_AI26'!L14 -> 0 | K16: ='Modulo_D''Ordine_AI26'!M14 -> 0 | L16: ='Modulo_D''Ordine_AI26'!N14 -> 0 | M16: ='Modulo_D''Ordine_AI26'!O14 -> 0 | N16: ='Modulo_D''Ordine_AI26'!P14 -> 0 | O16: ='Modulo_D''Ordine_AI26'!Q14 -> 0 | P16: ='Modulo_D''Ordine_AI26'!R14 -> 0
B17: BEPPEANNA | C17: ='Modulo_D''Ordine_AI26'!E15 -> FELPA INTERA | D17: ='Modulo_D''Ordine_AI26'!F15 -> lunga | E17: ='Modulo_D''Ordine_AI26'!G15 -> FAIR TRADE | F17: ='Modulo_D''Ordine_AI26'!H15 -> grigia | G17: ='Modulo_D''Ordine_AI26'!I15 -> bianca | H17: ='Modulo_D''Ordine_AI26'!J15 -> 30 | I17: =+'Modulo_D''Ordine_AI26'!K15 -> 0 | J17: ='Modulo_D''Ordine_AI26'!L15 -> 0 | K17: ='Modulo_D''Ordine_AI26'!M15 -> 0 | L17: ='Modulo_D''Ordine_AI26'!N15 -> 0 | M17: ='Modulo_D''Ordine_AI26'!O15 -> 0 | N17: ='Modulo_D''Ordine_AI26'!P15 -> 0 | O17: ='Modulo_D''Ordine_AI26'!Q15 -> 0 | P17: ='Modulo_D''Ordine_AI26'!R15 -> 0
B18: SMISURATA PREGHIERA | C18: ='Modulo_D''Ordine_AI26'!E16 -> FELPA CON ZIP | D18: ='Modulo_D''Ordine_AI26'!F16 -> lunga | E18: ='Modulo_D''Ordine_AI26'!G16 -> FAIR TRADE | F18: ='Modulo_D''Ordine_AI26'!H16 -> nera | G18: ='Modulo_D''Ordine_AI26'!I16 -> bianca | H18: ='Modulo_D''Ordine_AI26'!J16 -> 35 | I18: =+'Modulo_D''Ordine_AI26'!K16 -> 0 | J18: ='Modulo_D''Ordine_AI26'!L16 -> 0 | K18: ='Modulo_D''Ordine_AI26'!M16 -> 0 | L18: ='Modulo_D''Ordine_AI26'!N16 -> 0 | M18: ='Modulo_D''Ordine_AI26'!O16 -> 0 | N18: ='Modulo_D''Ordine_AI26'!P16 -> 0 | O18: ='Modulo_D''Ordine_AI26'!Q16 -> 0 | P18: ='Modulo_D''Ordine_AI26'!R16 -> 0
B19: SMISURATA PREGHIERA | C19: ='Modulo_D''Ordine_AI26'!E17 -> FELPA INTERA | D19: ='Modulo_D''Ordine_AI26'!F17 -> lunga | E19: ='Modulo_D''Ordine_AI26'!G17 -> FAIR TRADE | F19: ='Modulo_D''Ordine_AI26'!H17 -> grigia | G19: ='Modulo_D''Ordine_AI26'!I17 -> bianca | H19: ='Modulo_D''Ordine_AI26'!J17 -> 30 | I19: =+'Modulo_D''Ordine_AI26'!K17 -> 0 | J19: ='Modulo_D''Ordine_AI26'!L17 -> 0 | K19: ='Modulo_D''Ordine_AI26'!M17 -> 0 | L19: ='Modulo_D''Ordine_AI26'!N17 -> 0 | M19: ='Modulo_D''Ordine_AI26'!O17 -> 0 | N19: ='Modulo_D''Ordine_AI26'!P17 -> 0 | O19: ='Modulo_D''Ordine_AI26'!Q17 -> 0 | P19: ='Modulo_D''Ordine_AI26'!R17 -> 0
B20: HARING | C20: ='Modulo_D''Ordine_AI26'!E18 -> FELPA CON ZIP | D20: ='Modulo_D''Ordine_AI26'!F18 -> lunga | E20: ='Modulo_D''Ordine_AI26'!G18 -> FAIR TRADE | F20: ='Modulo_D''Ordine_AI26'!H18 -> nera | G20: ='Modulo_D''Ordine_AI26'!I18 -> bianca | H20: ='Modulo_D''Ordine_AI26'!J18 -> 35 | I20: =+'Modulo_D''Ordine_AI26'!K18 -> 0 | J20: ='Modulo_D''Ordine_AI26'!L18 -> 0 | K20: ='Modulo_D''Ordine_AI26'!M18 -> 0 | L20: ='Modulo_D''Ordine_AI26'!N18 -> 0 | M20: ='Modulo_D''Ordine_AI26'!O18 -> 0 | N20: ='Modulo_D''Ordine_AI26'!P18 -> 0 | O20: ='Modulo_D''Ordine_AI26'!Q18 -> 0 | P20: ='Modulo_D''Ordine_AI26'!R18 -> 0
B21: HARING | C21: ='Modulo_D''Ordine_AI26'!E19 -> FELPA INTERA | D21: ='Modulo_D''Ordine_AI26'!F19 -> lunga | E21: ='Modulo_D''Ordine_AI26'!G19 -> FAIR TRADE | F21: ='Modulo_D''Ordine_AI26'!H19 -> grigia | G21: ='Modulo_D''Ordine_AI26'!I19 -> bianca | H21: ='Modulo_D''Ordine_AI26'!J19 -> 30 | I21: =+'Modulo_D''Ordine_AI26'!K19 -> 0 | J21: ='Modulo_D''Ordine_AI26'!L19 -> 0 | K21: ='Modulo_D''Ordine_AI26'!M19 -> 0 | L21: ='Modulo_D''Ordine_AI26'!N19 -> 0 | M21: ='Modulo_D''Ordine_AI26'!O19 -> 0 | N21: ='Modulo_D''Ordine_AI26'!P19 -> 0 | O21: ='Modulo_D''Ordine_AI26'!Q19 -> 0 | P21: ='Modulo_D''Ordine_AI26'!R19 -> 0
B22: ='Modulo_D''Ordine_AI26'!D20 -> CHICCO DI CAFFE | C22: ='Modulo_D''Ordine_AI26'!E20 -> T-SHIRT | D22: ='Modulo_D''Ordine_AI26'!F20 -> CORTA | E22: ='Modulo_D''Ordine_AI26'!G20 -> FAIR TRADE | F22: ='Modulo_D''Ordine_AI26'!H20 -> bianco | G22: ='Modulo_D''Ordine_AI26'!I20 -> marrone/ beige | H22: ='Modulo_D''Ordine_AI26'!J20 -> 13 | I22: =+'Modulo_D''Ordine_AI26'!K20 -> 0 | J22: ='Modulo_D''Ordine_AI26'!L20 -> 0 | K22: ='Modulo_D''Ordine_AI26'!M20 -> 0 | L22: ='Modulo_D''Ordine_AI26'!N20 -> 0 | M22: ='Modulo_D''Ordine_AI26'!O20 -> 0 | N22: ='Modulo_D''Ordine_AI26'!P20 -> 0 | O22: ='Modulo_D''Ordine_AI26'!Q20 -> 0 | P22: ='Modulo_D''Ordine_AI26'!R20 -> 0
B23: ='Modulo_D''Ordine_AI26'!D21 -> CHICCO DI CAFFE | C23: ='Modulo_D''Ordine_AI26'!E21 -> T-SHIRT | D23: ='Modulo_D''Ordine_AI26'!F21 -> CORTA | E23: ='Modulo_D''Ordine_AI26'!G21 -> FAIR TRADE | F23: ='Modulo_D''Ordine_AI26'!H21 -> nero | G23: ='Modulo_D''Ordine_AI26'!I21 -> beige/bianco | H23: ='Modulo_D''Ordine_AI26'!J21 -> 13 | I23: =+'Modulo_D''Ordine_AI26'!K21 -> 0 | J23: ='Modulo_D''Ordine_AI26'!L21 -> 0 | K23: ='Modulo_D''Ordine_AI26'!M21 -> 0 | L23: ='Modulo_D''Ordine_AI26'!N21 -> 0 | M23: ='Modulo_D''Ordine_AI26'!O21 -> 0 | N23: ='Modulo_D''Ordine_AI26'!P21 -> 0 | O23: ='Modulo_D''Ordine_AI26'!Q21 -> 0 | P23: ='Modulo_D''Ordine_AI26'!R21 -> 0
B24: ='Modulo_D''Ordine_AI26'!D22 -> CHICCO DI CAFFE | C24: ='Modulo_D''Ordine_AI26'!E22 -> T-SHIRT UNISEX | D24: ='Modulo_D''Ordine_AI26'!F22 -> LUNGA | E24: ='Modulo_D''Ordine_AI26'!G22 -> FAIR TRADE | F24: ='Modulo_D''Ordine_AI26'!H22 -> nero | G24: ='Modulo_D''Ordine_AI26'!I22 -> beige/bianco | H24: ='Modulo_D''Ordine_AI26'!J22 -> 16.5 | I24: =+'Modulo_D''Ordine_AI26'!K22 -> 0 | J24: ='Modulo_D''Ordine_AI26'!L22 -> 0 | K24: ='Modulo_D''Ordine_AI26'!M22 -> 0 | L24: ='Modulo_D''Ordine_AI26'!N22 -> 0 | M24: ='Modulo_D''Ordine_AI26'!O22 -> 0 | N24: ='Modulo_D''Ordine_AI26'!P22 -> 0 | O24: ='Modulo_D''Ordine_AI26'!Q22 -> 0 | P24: ='Modulo_D''Ordine_AI26'!R22 -> 0
B25: ='Modulo_D''Ordine_AI26'!D23 -> CHICCO DI CAFFE | C25: ='Modulo_D''Ordine_AI26'!E23 -> T-SHIRT DONNA | D25: ='Modulo_D''Ordine_AI26'!F23 -> LUNGA | E25: ='Modulo_D''Ordine_AI26'!G23 -> FAIR TRADE | F25: ='Modulo_D''Ordine_AI26'!H23 -> nero | G25: ='Modulo_D''Ordine_AI26'!I23 -> beige/bianco | H25: ='Modulo_D''Ordine_AI26'!J23 -> 16.5 | I25: =+'Modulo_D''Ordine_AI26'!K23 -> 0 | J25: ='Modulo_D''Ordine_AI26'!L23 -> 0 | K25: ='Modulo_D''Ordine_AI26'!M23 -> 0 | L25: ='Modulo_D''Ordine_AI26'!N23 -> 0 | M25: ='Modulo_D''Ordine_AI26'!O23 -> 0 | N25: ='Modulo_D''Ordine_AI26'!P23 -> 0 | O25: ='Modulo_D''Ordine_AI26'!Q23 -> 0 | P25: ='Modulo_D''Ordine_AI26'!R23 -> 0
B26: ='Modulo_D''Ordine_AI26'!D24 -> CHICCO DI CAFFE | C26: ='Modulo_D''Ordine_AI26'!E24 -> T-SHIRT | D26: ='Modulo_D''Ordine_AI26'!F24 -> CORTA | E26: ='Modulo_D''Ordine_AI26'!G24 -> BIO | F26: ='Modulo_D''Ordine_AI26'!H24 -> bianco | G26: ='Modulo_D''Ordine_AI26'!I24 -> marrone/ beige | H26: ='Modulo_D''Ordine_AI26'!J24 -> 10 | I26: =+'Modulo_D''Ordine_AI26'!K24 -> 0 | J26: ='Modulo_D''Ordine_AI26'!L24 -> 0 | K26: ='Modulo_D''Ordine_AI26'!M24 -> 0 | L26: ='Modulo_D''Ordine_AI26'!N24 -> 0 | M26: ='Modulo_D''Ordine_AI26'!O24 -> 0 | N26: ='Modulo_D''Ordine_AI26'!P24 -> 0 | O26: ='Modulo_D''Ordine_AI26'!Q24 -> 0 | P26: ='Modulo_D''Ordine_AI26'!R24 -> 0
B27: ='Modulo_D''Ordine_AI26'!D25 -> CHICCO DI CAFFE | C27: ='Modulo_D''Ordine_AI26'!E25 -> T-SHIRT | D27: ='Modulo_D''Ordine_AI26'!F25 -> CORTA | E27: ='Modulo_D''Ordine_AI26'!G25 -> BIO | F27: ='Modulo_D''Ordine_AI26'!H25 -> nero | G27: ='Modulo_D''Ordine_AI26'!I25 -> beige/bianco | H27: ='Modulo_D''Ordine_AI26'!J25 -> 10 | I27: =+'Modulo_D''Ordine_AI26'!K25 -> 0 | J27: ='Modulo_D''Ordine_AI26'!L25 -> 0 | K27: ='Modulo_D''Ordine_AI26'!M25 -> 0 | L27: ='Modulo_D''Ordine_AI26'!N25 -> 0 | M27: ='Modulo_D''Ordine_AI26'!O25 -> 0 | N27: ='Modulo_D''Ordine_AI26'!P25 -> 0 | O27: ='Modulo_D''Ordine_AI26'!Q25 -> 0 | P27: ='Modulo_D''Ordine_AI26'!R25 -> 0
B28: ='Modulo_D''Ordine_AI26'!D26 -> GRAMSCI | C28: ='Modulo_D''Ordine_AI26'!E26 -> T-SHIRT | D28: ='Modulo_D''Ordine_AI26'!F26 -> CORTA | E28: ='Modulo_D''Ordine_AI26'!G26 -> FAIR TRADE | F28: ='Modulo_D''Ordine_AI26'!H26 -> BLU baltico | G28: ='Modulo_D''Ordine_AI26'!I26 -> bianca | H28: ='Modulo_D''Ordine_AI26'!J26 -> 13 | I28: =+'Modulo_D''Ordine_AI26'!K26 -> 0 | J28: ='Modulo_D''Ordine_AI26'!L26 -> 0 | K28: ='Modulo_D''Ordine_AI26'!M26 -> 0 | L28: ='Modulo_D''Ordine_AI26'!N26 -> 0 | M28: ='Modulo_D''Ordine_AI26'!O26 -> 0 | N28: ='Modulo_D''Ordine_AI26'!P26 -> 0 | O28: ='Modulo_D''Ordine_AI26'!Q26 -> 0 | P28: ='Modulo_D''Ordine_AI26'!R26 -> 0
B29: ='Modulo_D''Ordine_AI26'!D27 -> GRAMSCI | C29: ='Modulo_D''Ordine_AI26'!E27 -> T-SHIRT | D29: ='Modulo_D''Ordine_AI26'!F27 -> CORTA | E29: ='Modulo_D''Ordine_AI26'!G27 -> FAIR TRADE | F29: ='Modulo_D''Ordine_AI26'!H27 -> bianco | G29: ='Modulo_D''Ordine_AI26'!I27 -> nero | H29: ='Modulo_D''Ordine_AI26'!J27 -> 13 | I29: =+'Modulo_D''Ordine_AI26'!K27 -> 0 | J29: ='Modulo_D''Ordine_AI26'!L27 -> 0 | K29: ='Modulo_D''Ordine_AI26'!M27 -> 0 | L29: ='Modulo_D''Ordine_AI26'!N27 -> 0 | M29: ='Modulo_D''Ordine_AI26'!O27 -> 0 | N29: ='Modulo_D''Ordine_AI26'!P27 -> 0 | O29: ='Modulo_D''Ordine_AI26'!Q27 -> 0 | P29: ='Modulo_D''Ordine_AI26'!R27 -> 0
B30: ='Modulo_D''Ordine_AI26'!D28 -> GRAMSCI | C30: ='Modulo_D''Ordine_AI26'!E28 -> T-SHIRT | D30: ='Modulo_D''Ordine_AI26'!F28 -> CORTA | E30: ='Modulo_D''Ordine_AI26'!G28 -> FAIR TRADE | F30: ='Modulo_D''Ordine_AI26'!H28 -> nero | G30: ='Modulo_D''Ordine_AI26'!I28 -> bianca | H30: ='Modulo_D''Ordine_AI26'!J28 -> 13 | I30: =+'Modulo_D''Ordine_AI26'!K28 -> 0 | J30: ='Modulo_D''Ordine_AI26'!L28 -> 0 | K30: ='Modulo_D''Ordine_AI26'!M28 -> 0 | L30: ='Modulo_D''Ordine_AI26'!N28 -> 0 | M30: ='Modulo_D''Ordine_AI26'!O28 -> 0 | N30: ='Modulo_D''Ordine_AI26'!P28 -> 0 | O30: ='Modulo_D''Ordine_AI26'!Q28 -> 0 | P30: ='Modulo_D''Ordine_AI26'!R28 -> 0
B31: ='Modulo_D''Ordine_AI26'!D29 -> GRAMSCI | C31: ='Modulo_D''Ordine_AI26'!E29 -> T-SHIRT | D31: ='Modulo_D''Ordine_AI26'!F29 -> CORTA | E31: ='Modulo_D''Ordine_AI26'!G29 -> FAIR TRADE | F31: ='Modulo_D''Ordine_AI26'!H29 -> rosso | G31: ='Modulo_D''Ordine_AI26'!I29 -> bianca | H31: ='Modulo_D''Ordine_AI26'!J29 -> 13 | I31: =+'Modulo_D''Ordine_AI26'!K29 -> 0 | J31: ='Modulo_D''Ordine_AI26'!L29 -> 0 | K31: ='Modulo_D''Ordine_AI26'!M29 -> 0 | L31: ='Modulo_D''Ordine_AI26'!N29 -> 0 | M31: ='Modulo_D''Ordine_AI26'!O29 -> 0 | N31: ='Modulo_D''Ordine_AI26'!P29 -> 0 | O31: ='Modulo_D''Ordine_AI26'!Q29 -> 0 | P31: ='Modulo_D''Ordine_AI26'!R29 -> 0
B32: ='Modulo_D''Ordine_AI26'!D30 -> GRAMSCI | C32: ='Modulo_D''Ordine_AI26'!E30 -> T-SHIRT UNISEX | D32: ='Modulo_D''Ordine_AI26'!F30 -> LUNGA | E32: ='Modulo_D''Ordine_AI26'!G30 -> FAIR TRADE | F32: ='Modulo_D''Ordine_AI26'!H30 -> nero | G32: ='Modulo_D''Ordine_AI26'!I30 -> bianca | H32: ='Modulo_D''Ordine_AI26'!J30 -> 16.5 | I32: =+'Modulo_D''Ordine_AI26'!K30 -> 0 | J32: ='Modulo_D''Ordine_AI26'!L30 -> 0 | K32: ='Modulo_D''Ordine_AI26'!M30 -> 0 | L32: ='Modulo_D''Ordine_AI26'!N30 -> 0 | M32: ='Modulo_D''Ordine_AI26'!O30 -> 0 | N32: ='Modulo_D''Ordine_AI26'!P30 -> 0 | O32: ='Modulo_D''Ordine_AI26'!Q30 -> 0 | P32: ='Modulo_D''Ordine_AI26'!R30 -> 0
B33: ='Modulo_D''Ordine_AI26'!D31 -> GRAMSCI | C33: ='Modulo_D''Ordine_AI26'!E31 -> T-SHIRT DONNA | D33: ='Modulo_D''Ordine_AI26'!F31 -> LUNGA | E33: ='Modulo_D''Ordine_AI26'!G31 -> FAIR TRADE | F33: ='Modulo_D''Ordine_AI26'!H31 -> nero | G33: ='Modulo_D''Ordine_AI26'!I31 -> bianca | H33: ='Modulo_D''Ordine_AI26'!J31 -> 16.5 | I33: =+'Modulo_D''Ordine_AI26'!K31 -> 0 | J33: ='Modulo_D''Ordine_AI26'!L31 -> 0 | K33: ='Modulo_D''Ordine_AI26'!M31 -> 0 | L33: ='Modulo_D''Ordine_AI26'!N31 -> 0 | M33: ='Modulo_D''Ordine_AI26'!O31 -> 0 | N33: ='Modulo_D''Ordine_AI26'!P31 -> 0 | O33: ='Modulo_D''Ordine_AI26'!Q31 -> 0 | P33: ='Modulo_D''Ordine_AI26'!R31 -> 0
... B182: ='Modulo_D''Ordine_AI26'!D180 -> PROTEGGI IL TUO PIANETA | C182: ='Modulo_D''Ordine_AI26'!E180 -> T-SHIRT | D182: ='Modulo_D''Ordine_AI26'!F180 -> CORTA | E182: ='Modulo_D''Ordine_AI26'!G180 -> FAIR TRADE | F182: ='Modulo_D''Ordine_AI26'!H180 -> nero | G182: ='Modulo_D''Ordine_AI26'!I180 -> bianca | H182: ='Modulo_D''Ordine_AI26'!J180 -> 13 | I182: =+'Modulo_D''Ordine_AI26'!K180 -> 0 | J182: ='Modulo_D''Ordine_AI26'!L180 -> 0 | K182: ='Modulo_D''Ordine_AI26'!M180 -> 0 | L182: ='Modulo_D''Ordine_AI26'!N180 -> 0 | M182: ='Modulo_D''Ordine_AI26'!O180 -> 0 | N182: ='Modulo_D''Ordine_AI26'!P180 -> 0 | O182: ='Modulo_D''Ordine_AI26'!Q180 -> 0 | P182: ='Modulo_D''Ordine_AI26'!R180 -> 0
B183: ='Modulo_D''Ordine_AI26'!D181 -> PROTEGGI IL TUO PIANETA | C183: ='Modulo_D''Ordine_AI26'!E181 -> T-SHIRT UNISEX | D183: ='Modulo_D''Ordine_AI26'!F181 -> LUNGA | E183: ='Modulo_D''Ordine_AI26'!G181 -> FAIR TRADE | F183: ='Modulo_D''Ordine_AI26'!H181 -> nero | G183: ='Modulo_D''Ordine_AI26'!I181 -> bianca | H183: ='Modulo_D''Ordine_AI26'!J181 -> 16.5 | I183: =+'Modulo_D''Ordine_AI26'!K182 -> 0 | J183: ='Modulo_D''Ordine_AI26'!L181 -> 0 | K183: ='Modulo_D''Ordine_AI26'!M181 -> 0 | L183: ='Modulo_D''Ordine_AI26'!N181 -> 0 | M183: ='Modulo_D''Ordine_AI26'!O181 -> 0 | N183: ='Modulo_D''Ordine_AI26'!P181 -> 0 | O183: ='Modulo_D''Ordine_AI26'!Q181 -> 0 | P183: ='Modulo_D''Ordine_AI26'!R181 -> 0
B184: ='Modulo_D''Ordine_AI26'!D182 -> PROTEGGI IL TUO PIANETA | C184: ='Modulo_D''Ordine_AI26'!E182 -> T-SHIRT DONNA | D184: ='Modulo_D''Ordine_AI26'!F182 -> LUNGA | E184: ='Modulo_D''Ordine_AI26'!G182 -> FAIR TRADE | F184: ='Modulo_D''Ordine_AI26'!H182 -> nero | G184: ='Modulo_D''Ordine_AI26'!I182 -> bianca | H184: ='Modulo_D''Ordine_AI26'!J182 -> 16.5 | I184: =+'Modulo_D''Ordine_AI26'!K183 -> 0 | J184: ='Modulo_D''Ordine_AI26'!L182 -> 0 | K184: ='Modulo_D''Ordine_AI26'!M182 -> 0 | L184: ='Modulo_D''Ordine_AI26'!N182 -> 0 | M184: ='Modulo_D''Ordine_AI26'!O182 -> 0 | N184: ='Modulo_D''Ordine_AI26'!P182 -> 0 | O184: ='Modulo_D''Ordine_AI26'!Q182 -> 0 | P184: ='Modulo_D''Ordine_AI26'!R182 -> 0
B185: ='Modulo_D''Ordine_AI26'!D183 -> PROTEGGI IL TUO PIANETA | C185: ='Modulo_D''Ordine_AI26'!E183 -> T-SHIRT | D185: ='Modulo_D''Ordine_AI26'!F183 -> CORTA | E185: ='Modulo_D''Ordine_AI26'!G183 -> BIO | F185: ='Modulo_D''Ordine_AI26'!H183 -> blu navy | G185: ='Modulo_D''Ordine_AI26'!I183 -> bianca | H185: ='Modulo_D''Ordine_AI26'!J183 -> 10 | I185: =+'Modulo_D''Ordine_AI26'!K184 -> 0 | J185: ='Modulo_D''Ordine_AI26'!L183 -> 0 | K185: ='Modulo_D''Ordine_AI26'!M183 -> 0 | L185: ='Modulo_D''Ordine_AI26'!N183 -> 0 | M185: ='Modulo_D''Ordine_AI26'!O183 -> 0 | N185: ='Modulo_D''Ordine_AI26'!P183 -> 0 | O185: ='Modulo_D''Ordine_AI26'!Q183 -> 0 | P185: ='Modulo_D''Ordine_AI26'!R183 -> 0
B186: ='Modulo_D''Ordine_AI26'!D184 -> PROTEGGI IL TUO PIANETA | C186: ='Modulo_D''Ordine_AI26'!E184 -> T-SHIRT | D186: ='Modulo_D''Ordine_AI26'!F184 -> CORTA | E186: ='Modulo_D''Ordine_AI26'!G184 -> BIO | F186: ='Modulo_D''Ordine_AI26'!H184 -> bianco | G186: ='Modulo_D''Ordine_AI26'!I184 -> nero | H186: ='Modulo_D''Ordine_AI26'!J184 -> 10 | I186: =+'Modulo_D''Ordine_AI26'!K185 -> 0 | J186: ='Modulo_D''Ordine_AI26'!L184 -> 0 | K186: ='Modulo_D''Ordine_AI26'!M184 -> 0 | L186: ='Modulo_D''Ordine_AI26'!N184 -> 0 | M186: ='Modulo_D''Ordine_AI26'!O184 -> 0 | N186: ='Modulo_D''Ordine_AI26'!P184 -> 0 | O186: ='Modulo_D''Ordine_AI26'!Q184 -> 0 | P186: ='Modulo_D''Ordine_AI26'!R184 -> 0
B187: ='Modulo_D''Ordine_AI26'!D185 -> PROTEGGI IL TUO PIANETA | C187: ='Modulo_D''Ordine_AI26'!E185 -> T-SHIRT | D187: ='Modulo_D''Ordine_AI26'!F185 -> CORTA | E187: ='Modulo_D''Ordine_AI26'!G185 -> BIO | F187: ='Modulo_D''Ordine_AI26'!H185 -> nero | G187: ='Modulo_D''Ordine_AI26'!I185 -> bianca | H187: ='Modulo_D''Ordine_AI26'!J185 -> 10 | I187: =+'Modulo_D''Ordine_AI26'!K186 -> 0 | J187: ='Modulo_D''Ordine_AI26'!L185 -> 0 | K187: ='Modulo_D''Ordine_AI26'!M185 -> 0 | L187: ='Modulo_D''Ordine_AI26'!N185 -> 0 | M187: ='Modulo_D''Ordine_AI26'!O185 -> 0 | N187: ='Modulo_D''Ordine_AI26'!P185 -> 0 | O187: ='Modulo_D''Ordine_AI26'!Q185 -> 0 | P187: ='Modulo_D''Ordine_AI26'!R185 -> 0
B188: ='Modulo_D''Ordine_AI26'!D186 -> CAFFE' | C188: ='Modulo_D''Ordine_AI26'!E186 -> T-SHIRT | D188: ='Modulo_D''Ordine_AI26'!F186 -> CORTA | E188: ='Modulo_D''Ordine_AI26'!G186 -> FAIR TRADE | F188: ='Modulo_D''Ordine_AI26'!H186 -> BLU baltico | G188: ='Modulo_D''Ordine_AI26'!I186 -> bianca | H188: ='Modulo_D''Ordine_AI26'!J186 -> 13 | I188: =+'Modulo_D''Ordine_AI26'!K188 -> 0 | J188: ='Modulo_D''Ordine_AI26'!L186 -> 0 | K188: ='Modulo_D''Ordine_AI26'!M186 -> 0 | L188: ='Modulo_D''Ordine_AI26'!N186 -> 0 | M188: ='Modulo_D''Ordine_AI26'!O186 -> 0 | N188: ='Modulo_D''Ordine_AI26'!P186 -> 0 | O188: ='Modulo_D''Ordine_AI26'!Q186 -> 0 | P188: ='Modulo_D''Ordine_AI26'!R186 -> 0
B189: ='Modulo_D''Ordine_AI26'!D187 -> CAFFE' | C189: ='Modulo_D''Ordine_AI26'!E187 -> T-SHIRT | D189: ='Modulo_D''Ordine_AI26'!F187 -> CORTA | E189: ='Modulo_D''Ordine_AI26'!G187 -> FAIR TRADE | F189: ='Modulo_D''Ordine_AI26'!H187 -> bianco | G189: ='Modulo_D''Ordine_AI26'!I187 -> nero | H189: ='Modulo_D''Ordine_AI26'!J187 -> 13 | I189: =+'Modulo_D''Ordine_AI26'!K189 -> 0 | J189: ='Modulo_D''Ordine_AI26'!L187 -> 0 | K189: ='Modulo_D''Ordine_AI26'!M187 -> 0 | L189: ='Modulo_D''Ordine_AI26'!N187 -> 0 | M189: ='Modulo_D''Ordine_AI26'!O187 -> 0 | N189: ='Modulo_D''Ordine_AI26'!P187 -> 0 | O189: ='Modulo_D''Ordine_AI26'!Q187 -> 0 | P189: ='Modulo_D''Ordine_AI26'!R187 -> 0
B190: ='Modulo_D''Ordine_AI26'!D188 -> CAFFE' | C190: ='Modulo_D''Ordine_AI26'!E188 -> T-SHIRT | D190: ='Modulo_D''Ordine_AI26'!F188 -> CORTA | E190: ='Modulo_D''Ordine_AI26'!G188 -> FAIR TRADE | F190: ='Modulo_D''Ordine_AI26'!H188 -> nero | G190: ='Modulo_D''Ordine_AI26'!I188 -> bianca | H190: ='Modulo_D''Ordine_AI26'!J188 -> 13 | I190: =+'Modulo_D''Ordine_AI26'!K190 -> 0 | J190: ='Modulo_D''Ordine_AI26'!L188 -> 0 | K190: ='Modulo_D''Ordine_AI26'!M188 -> 0 | L190: ='Modulo_D''Ordine_AI26'!N188 -> 0 | M190: ='Modulo_D''Ordine_AI26'!O188 -> 0 | N190: ='Modulo_D''Ordine_AI26'!P188 -> 0 | O190: ='Modulo_D''Ordine_AI26'!Q188 -> 0 | P190: ='Modulo_D''Ordine_AI26'!R188 -> 0
B191: ='Modulo_D''Ordine_AI26'!D189 -> CAFFE' | C191: ='Modulo_D''Ordine_AI26'!E189 -> T-SHIRT | D191: ='Modulo_D''Ordine_AI26'!F189 -> CORTA | E191: ='Modulo_D''Ordine_AI26'!G189 -> FAIR TRADE | F191: ='Modulo_D''Ordine_AI26'!H189 -> rosso | G191: ='Modulo_D''Ordine_AI26'!I189 -> bianca | H191: ='Modulo_D''Ordine_AI26'!J189 -> 13 | I191: =+'Modulo_D''Ordine_AI26'!K191 -> 0 | J191: ='Modulo_D''Ordine_AI26'!L189 -> 0 | K191: ='Modulo_D''Ordine_AI26'!M189 -> 0 | L191: ='Modulo_D''Ordine_AI26'!N189 -> 0 | M191: ='Modulo_D''Ordine_AI26'!O189 -> 0 | N191: ='Modulo_D''Ordine_AI26'!P189 -> 0 | O191: ='Modulo_D''Ordine_AI26'!Q189 -> 0 | P191: ='Modulo_D''Ordine_AI26'!R189 -> 0
B192: ='Modulo_D''Ordine_AI26'!D190 -> CAFFE' | C192: ='Modulo_D''Ordine_AI26'!E190 -> T-SHIRT UNISEX | D192: ='Modulo_D''Ordine_AI26'!F190 -> LUNGA | E192: ='Modulo_D''Ordine_AI26'!G190 -> FAIR TRADE | F192: ='Modulo_D''Ordine_AI26'!H190 -> nero | G192: ='Modulo_D''Ordine_AI26'!I190 -> bianca | H192: ='Modulo_D''Ordine_AI26'!J190 -> 16.5 | I192: =+'Modulo_D''Ordine_AI26'!K192 -> 0 | J192: ='Modulo_D''Ordine_AI26'!L190 -> 0 | K192: ='Modulo_D''Ordine_AI26'!M190 -> 0 | L192: ='Modulo_D''Ordine_AI26'!N190 -> 0 | M192: ='Modulo_D''Ordine_AI26'!O190 -> 0 | N192: ='Modulo_D''Ordine_AI26'!P190 -> 0 | O192: ='Modulo_D''Ordine_AI26'!Q190 -> 0 | P192: ='Modulo_D''Ordine_AI26'!R190 -> 0
...

Sheet PVP_MARGINE
A1: 2023 | B1: 2024
C3: iva esclusa
C4: costo | D4: pvp consigliato | E4: margine in € | F4: margine in %
A5: TEES MANICA CORTA BIO | B5: TEES MANICA CORTA BIO | C5: 9.6 | D5: =20/1.22 -> 16.393443 | E5: =+D5-C5 -> 6.7934426 | F5: =+E5/D5 -> 0.4144
A6: TEES MANICA CORTA FAIR TRADE | B6: TEES MANICA CORTA FAIR TRADE | C6: 12.6 | D6: =26/1.22 -> 21.311475 | E6: =+D6-C6 -> 8.7114754 | F6: =+E6/D6 -> 0.40876923
A7: TEES MANICA LUNGA FT UNISEX | B7: TEES MANICA LUNGA FT UNISEX | C7: 16.5 | D7: =32/1.22 -> 26.229508 | E7: =+D7-C7 -> 9.7295082 | F7: =+E7/D7 -> 0.3709375
B8: TEES MANICA LUNGA FT DONNA | C8: 16.5 | D8: =32/1.22 -> 26.229508 | E8: =+D8-C8 -> 9.7295082 | F8: =+E8/D8 -> 0.3709375
A9: FELPA BIO | B9: FELPA FT CAPPUCCIO | C9: 35 | D9: =D19/1.22 -> 49.180328 | E9: =+D9-C9 -> 14.180328 | F9: =+E9/D9 -> 0.28833333
A10: FELPA BIO CAPPUCCIO | B10: TOTE BAG FAIR TRADE | C10: 2.5 | D10: =5.9/1.22 -> 4.8360656 | E10: =+D10-C10 -> 2.3360656 | F10: =+E10/D10 -> 0.48305085
B11: TOTE BAG BIO | C11: 2.5 | D11: =5.9/1.22 -> 4.8360656 | E11: =+D11-C11 -> 2.3360656 | F11: =+E11/D11 -> 0.48305085
C13: iva inclusa
C14: costo | D14: pvp consigliato | E14: margine in € | F14: margine in %
A15: TEES MANICA CORTA BIO | B15: TEES MANICA CORTA BIO | C15: =+C5*1.22 -> 11.712 | D15: =+D5*1.22 -> 20 | E15: =+D15-C15 -> 8.288 | F15: =+E15/D15 -> 0.4144
A16: TEES MANICA CORTA FAIR TRADE | B16: TEES MANICA CORTA FAIR TRADE | C16: =+C6*1.22 -> 15.372 | D16: =+D6*1.22 -> 26 | E16: =+D16-C16 -> 10.628 | F16: =+E16/D16 -> 0.40876923
A17: TEES MANICA LUNGA FT UNISEX | B17: TEES MANICA LUNGA FT UNISEX | C17: =+C7*1.22 -> 20.13 | D17: =+D7*1.22 -> 32 | E17: =+D17-C17 -> 11.87 | F17: =+E17/D17 -> 0.3709375
B18: TEES MANICA LUNGA FT DONNA | C18: =C8*1.22 -> 20.13 | D18: 32 | E18: =+D18-C18 -> 11.87 | F18: =+E18/D18 -> 0.3709375
A19: FELPA BIO | B19: FELPA FT CAPPUCCIO | C19: =+C9*1.22 -> 42.7 | D19: 60 | E19: =+D19-C19 -> 17.3 | F19: =+E19/D19 -> 0.28833333
A20: FELPA BIO CAPPUCCIO | B20: TOTE BAG FAIR TRADE | C20: =+C10*1.22 -> 3.05 | D20: =D10*1.22 -> 5.9 | E20: =+D20-C20 -> 2.85 | F20: =+E20/D20 -> 0.48305085
B21: TOTE BAG BIO | C21: =+C11*1.22 -> 3.05 | D21: =D11*1.22 -> 5.9 | E21: =+D21-C21 -> 2.85 | F21: =+E21/D21 -> 0.48305085

Sheet Dati_per_Fattura
B2: DATI PER FATTURA
B4: =+'Modulo_D''Ordine_AI26'!D3 -> Ragione Sociale | C4: =+'Modulo_D''Ordine_AI26'!E3 -> 0
B5: =+'Modulo_D''Ordine_AI26'!D4 -> Indirizzo Fatturazione | C5: =+'Modulo_D''Ordine_AI26'!E4 -> 0
B6: =+'Modulo_D''Ordine_AI26'!D5 -> Partita Iva | C6: =+'Modulo_D''Ordine_AI26'!E5 -> 0
B7: =+'Modulo_D''Ordine_AI26'!D6 -> Codice Univoco | C7: =+'Modulo_D''Ordine_AI26'!E6 -> 0
B8: =+'Modulo_D''Ordine_AI26'!D7 -> Destinazione Merce e orari | C8: =+'Modulo_D''Ordine_AI26'!E7 -> 0
B9: =+'Modulo_D''Ordine_AI26'!I7 -> 0 | C9: =+'Modulo_D''Ordine_AI26'!J7 -> 0
C11: TOT PZ | D11: VALORE UNITARIO | E11: VALORE TOTALE | F11: IVA 22% | G11: TOTALE FATTURA
B12: TEES MANICA CORTA BIO | C12: =#REF! -> #REF! | D12: =PVP_MARGINE!C5 -> 9.6 | E12: =D12*C12 -> #REF! | F12: =+E12*0.22 -> #REF! | G12: =SUM(E12:E17) -> #REF!
B13: TEES MANICA CORTA FAIR TRADE | C13: =#REF! -> #REF! | D13: =PVP_MARGINE!C6 -> 12.6 | E13: =D13*C13 -> #REF! | F13: =+E13*0.22 -> #REF!
B14: TEES MANICA LUNGA FT UNISEX | C14: =#REF! -> #REF! | D14: =PVP_MARGINE!C7 -> 16.5 | E14: =D14*C14 -> #REF! | F14: =+E14*0.22 -> #REF!
B15: TEES MANICA LUNGA FT DONNA | C15: =#REF! -> #REF! | D15: =PVP_MARGINE!C8 -> 16.5 | E15: =D15*C15 -> #REF! | F15: =+E15*0.22 -> #REF!
B16: FELPA FT CAPPUCCIO | C16: =#REF! -> #REF! | D16: =PVP_MARGINE!C9 -> 35 | E16: =D16*C16 -> #REF! | F16: =+E16*0.22 -> #REF!
B17: TOTE BAG FAIR TRADE | C17: =#REF! -> #REF! | D17: =PVP_MARGINE!C10 -> 2.5 | E17: =D17*C17 -> #REF! | F17: =+E17*0.22 -> #REF!
B18: TOTE BAG BIO | C18: =#REF! -> #REF! | D18: =PVP_MARGINE!C11 -> 2.5 | E18: =D18*C18 -> #REF! | F18: =+E18*0.22 -> #REF!
C20: =SUM(C12:C17) -> #REF! | E20: =SUM(E12:E17) -> #REF! | F20: =SUM(F12:F17) -> #REF!
